BEGIN:VCALENDAR
VERSION:2.0
PRODID:IEEE vTools.Events//EN
CALSCALE:GREGORIAN
BEGIN:VTIMEZONE
TZID:US/Eastern
BEGIN:DAYLIGHT
DTSTART:20230312T030000
TZOFFSETFROM:-0500
TZOFFSETTO:-0400
RRULE:FREQ=YEARLY;BYDAY=2SU;BYMONTH=3
TZNAME:EDT
END:DAYLIGHT
BEGIN:STANDARD
DTSTART:20231105T010000
TZOFFSETFROM:-0400
TZOFFSETTO:-0500
RRULE:FREQ=YEARLY;BYDAY=1SU;BYMONTH=11
TZNAME:EST
END:STANDARD
END:VTIMEZONE
BEGIN:VEVENT
DTSTAMP:20240207T032049Z
UID:8116D9D6-CD16-459F-A575-C41892959627
DTSTART;TZID=US/Eastern:20230512T090000
DTEND;TZID=US/Eastern:20230512T140000
DESCRIPTION:A modern grid requires modern communications. Connectivity thro
 ugh Private LTE is helping to shape the future of private wireless broadba
 nd networks for utilities with the right tools\, solutions\, and technolog
 y—all on a platform ready to power the grid of the future\, starting tod
 ay. Application typically in only the telecommunications and wireless tech
 nology are now expanding to the Utility Sector enabling an improved commun
 ications landscape capable of meeting the changing needs of utility contro
 l. That means connectivity for daily operations\, identifying faults\, com
 munication during natural disasters and future smart grid initiatives. Saf
 ety\, security\, reliability\, and resiliency are on the minds of every ut
 ility leader and innovator committed to better serving their communities a
 nd service territories.\n\nSpeaker(s): Jason\n\nAgenda: \nThe seminar fee 
 includes lunch\, refreshments and handouts. Non-members joining IEEE withi
 n 30 days of the seminar will be rebated 50% of the IEEE registration char
 ge.\n\nFour hours of instruction will be provided. If desired\, IEEE Conti
 nuing Education Units (0.4 CEUs) will be offered for this course - a small
  fee of $55 will be required for processing.\n\nPlease pay attention to th
 e “Registration Fee” and choose the appropriate choice either with or 
 without CEUs.\n\nCEU Evaluation Form can be found at: [IEEE Power &amp; Energy
  North Jersey Continuing Education Certificates - IEEE Innovation at Work]
 (https://innovationatwork.ieee.org/ieee-pes-northjersey-certificates/)\n\n
 At this time\, our attendance is being limited to fifty (50). Please only 
 register if you know you are going to attend\, and you must be registered 
 to participate.\n\nRoom: Auditorium\, Bldg: PSE&amp;G - Hadley Road Facility\,
  4000 Hadley Road\, South Plainfield\, New Jersey\, United States\, 07080 
LOCATION:Room: Auditorium\, Bldg: PSE&amp;G - Hadley Road Facility\, 4000 Hadle
 y Road\, South Plainfield\, New Jersey\, United States\, 07080 
ORGANIZER:RWQuade@ieee.org
SEQUENCE:5
SUMMARY:Grid Optimization: Private LTE Provides the Optimal Foundation for 
 Utilities
URL;VALUE=URI:https://events.vtools.ieee.org/m/359479
X-ALT-DESC:Description: &lt;br /&gt;&lt;p&gt;A modern grid requires modern communicatio
 ns. Connectivity through Private LTE is helping to shape the future of pri
 vate wireless broadband networks for utilities with the right tools\, solu
 tions\, and technology&amp;mdash\;all on a platform ready to power the grid of
  the future\, starting today. Application typically in only the telecommun
 ications and wireless technology are now expanding to the Utility Sector e
 nabling an improved communications landscape capable of meeting the changi
 ng needs of utility control. That means connectivity for daily operations\
 , identifying faults\, communication during natural disasters and future s
 mart grid initiatives. Safety\, security\, reliability\, and resiliency ar
 e on the minds of every utility leader and innovator committed to better s
 erving their communities and service territories.&lt;/p&gt;\n&lt;p&gt;&amp;nbsp\;&lt;/p&gt;&lt;br /
 &gt;&lt;br /&gt;Agenda: &lt;br /&gt;&lt;p&gt;The seminar fee includes lunch\, refreshments and 
 handouts.&amp;nbsp\; Non-members joining IEEE within 30 days of the seminar wi
 ll be rebated 50% of the IEEE registration charge.&lt;/p&gt;\n&lt;p&gt;Four hours of i
 nstruction will be provided.&amp;nbsp\; If desired\, IEEE Continuing Education
  Units (0.4 CEUs) will be offered for this course - a small fee of $55 wil
 l be required for processing.&lt;/p&gt;\n&lt;p&gt;Please pay attention to the &amp;ldquo\;
 Registration Fee&amp;rdquo\; and choose the appropriate choice either with or 
 without CEUs.&lt;/p&gt;\n&lt;p&gt;CEU Evaluation Form can be found at: &lt;a href=&quot;https:
 //innovationatwork.ieee.org/ieee-pes-northjersey-certificates/&quot;&gt;IEEE Power
  &amp;amp\; Energy North Jersey Continuing Education Certificates - IEEE Innov
 ation at Work&lt;/a&gt;&lt;/p&gt;\n&lt;p&gt;&lt;span style=&quot;background-color: #fbeeb8\; color: 
 #e03e2d\;&quot;&gt;At this time\, our attendance is being limited to fifty (50).&amp;n
 bsp\; Please only register if you know you are going to attend\, and you m
 ust be registered to participate.&lt;/span&gt;&lt;/p&gt;
END:VEVENT
END:VCALENDAR

