BEGIN:VCALENDAR
VERSION:2.0
PRODID:IEEE vTools.Events//EN
CALSCALE:GREGORIAN
BEGIN:VTIMEZONE
TZID:Europe/Amsterdam
BEGIN:DAYLIGHT
DTSTART:20230326T030000
TZOFFSETFROM:+0100
TZOFFSETTO:+0200
RRULE:FREQ=YEARLY;BYDAY=-1SU;BYMONTH=3
TZNAME:CEST
END:DAYLIGHT
BEGIN:STANDARD
DTSTART:20231029T020000
TZOFFSETFROM:+0200
TZOFFSETTO:+0100
RRULE:FREQ=YEARLY;BYDAY=-1SU;BYMONTH=10
TZNAME:CET
END:STANDARD
END:VTIMEZONE
BEGIN:VEVENT
DTSTAMP:20230607T153346Z
UID:41DF0595-2CD0-4DC3-9924-C89F9264476B
DTSTART;TZID=Europe/Amsterdam:20230605T130000
DTEND;TZID=Europe/Amsterdam:20230605T170000
DESCRIPTION:The latest developments in WiFi\, Bluetooth and Zigbee will be 
 presented and discussed.\n\nSpeaker(s): Cees Links\, Bram van den Bosh\, J
 ohn Anderton\, Cees Links\n\nAgenda: \n13:00 -13:30 - Welcome with Coffee\
 , Tea\, Snacks and Drinks\n13:30 - 14:00: Lunch\n14:00 -14:30: Why do we h
 ave three radios (4/5G\, WiFi\, Bluetooth) in our mobile phone?\nWhat more
  radios are used by consumers and where are they going to?\nSpeaker: Cees 
 Links: Consultant\, Founder and owner of Information Links\nhttps://en.wik
 ipedia.org/wiki/Cees_Links\nhttps://www.linkedin.com/in/ceeslinks/\n14:30 
 - 15:00: Bluetooth\nSpeaker: Bram van den Bosh: Director of System Archite
 cture at Qorvo\nhttps://www.qorvo.com/\nhttps://www.linkedin.com/in/bram-v
 an-den-bosch-152a895/\n\nhttps://www.qorvo.com/design-hub/blog/unleashing-
 lighting-control-options-with-bluetooth-mesh-and-qorvos-qpg6100\n\nFor mor
 e than 30 years\, Qorvo technology has been at the heart of systems that c
 onnect\,\nprotect and power the planet. We&#39;ve been innovating\, researchin
 g\, developing and acquiring\ncutting-edge technologies that shape the wor
 ld as we know it.\nQorvo\, drives connectivity\, no matter the technology.
  From the start of RF Micro Devices\n(RFMD) in 1991\, TriQuint in 1985\, a
 nd dating back to roots in Tektronix\, Texas Instruments\,\n\nRaytheon and
  Watkins-Johnson\, we&#39;ve helped send space probes past Pluto\, connected\n
 wireless networks and mobile devices\, and brought new levels of efficienc
 y to power\n15:00 - 15:30: Matter\, (formerly: Zigbee):\nSpeaker: John And
 erton: director of product line management for the Wireless\nConnectivity 
 business at Qorvo\nhttps://www.linkedin.com/in/johnanderton/\nDon’t you 
 wish smart homes were a little bit more\, well\, smart? If you’ve ever\n
 struggled to set up multiple devices from several companies\, then you kno
 w the\nfrustration it can cause.\nThis is the issue being addressed by Mat
 terTM\, a new wireless standard supported by\ncompanies including Amazon\,
  Apple\, Google\, and Qorvo\, and overseen by the\n\nConnectivity Standard
 s Alliance (CSA). The alliance members have taken an open-\nsource approac
 h to developing the new protocol\, enabling broad\, global adoption\n\nacr
 oss the smart home and smart lighting sector.\n15:30 - 16:00: WiFi: curren
 t status and directions of development\nSpeaker: Cees Links\, founder and 
 owner of Information Links\n16:00 - Closure + Drinks\n17:00 END\n\nAristo 
 Utrecht’s Central Station meeting center\, Godebaldkwartier 357\,\, Utre
 cht\, Utrecht\, Netherlands\, 3511 DT
LOCATION:Aristo Utrecht’s Central Station meeting center\, Godebaldkwarti
 er 357\,\, Utrecht\, Utrecht\, Netherlands\, 3511 DT
ORGANIZER:kvtklooster@gmail.com
SEQUENCE:1
SUMMARY:WiFi Development
URL;VALUE=URI:https://events.vtools.ieee.org/m/359534
X-ALT-DESC:Description: &lt;br /&gt;&lt;p&gt;The latest developments in WiFi\, Bluetoot
 h and Zigbee will be presented and discussed.&lt;/p&gt;&lt;br /&gt;&lt;br /&gt;Agenda: &lt;br /
 &gt;&lt;p&gt;&lt;strong&gt;13:00 -13:30 -&lt;/strong&gt; &lt;em&gt;&lt;strong&gt;Welcome with Coffee\, Tea\
 , Snacks and Drinks&lt;/strong&gt;&lt;/em&gt;&lt;br /&gt;&lt;strong&gt;13:30 - 14:00: &lt;em&gt;Lunch&lt;/e
 m&gt;&lt;/strong&gt;&lt;br /&gt;&lt;strong&gt;14:00 -14:30:&lt;/strong&gt; &lt;em&gt;&lt;strong&gt;Why do we have
  three radios (4/5G\, WiFi\, Bluetooth) in our mobile phone?&lt;/strong&gt;&lt;/em&gt;
 &lt;br /&gt;&lt;em&gt;&lt;strong&gt;What more radios are used by consumers and where are the
 y going to?&lt;/strong&gt;&lt;/em&gt;&lt;br /&gt;&lt;em&gt;&lt;strong&gt;Speaker: Cees Links: Consultant
 \, Founder and owner of Information Links&lt;/strong&gt;&lt;/em&gt;&lt;br /&gt;https://en.wi
 kipedia.org/wiki/Cees_Links&lt;br /&gt;https://www.linkedin.com/in/ceeslinks/&lt;br
  /&gt;&lt;strong&gt;14:30 - 15:00: &lt;em&gt;Bluetooth&lt;/em&gt;&lt;/strong&gt;&lt;br /&gt;&lt;em&gt;&lt;strong&gt;Spe
 aker: Bram van den Bosh: Director of System Architecture at Qorvo&lt;/strong&gt;
 &lt;/em&gt;&lt;br /&gt;https://www.qorvo.com/&lt;br /&gt;https://www.linkedin.com/in/bram-va
 n-den-bosch-152a895/&lt;/p&gt;\n&lt;p&gt;https://www.qorvo.com/design-hub/blog/unleash
 ing-lighting-control-options-with-bluetooth-mesh-and-qorvos-qpg6100&lt;/p&gt;\n&lt;
 p&gt;For more than 30 years\, Qorvo technology has been at the heart of syste
 ms that connect\,&lt;br /&gt;protect and power the planet. We&#39;ve been innovating
 \, researching\, developing and acquiring&lt;br /&gt;cutting-edge technologies t
 hat shape the world as we know it.&lt;br /&gt;Qorvo\, drives connectivity\, no m
 atter the technology. From the start of RF Micro Devices&lt;br /&gt;(RFMD) in 19
 91\, TriQuint in 1985\, and dating back to roots in Tektronix\, Texas Inst
 ruments\,&lt;/p&gt;\n&lt;p&gt;Raytheon and Watkins-Johnson\, we&#39;ve helped send space p
 robes past Pluto\, connected&lt;br /&gt;wireless networks and mobile devices\, a
 nd brought new levels of efficiency to power&lt;br /&gt;&lt;strong&gt;15:00 - 15:30: &lt;
 em&gt;Matter\, (formerly: Zigbee):&lt;/em&gt;&lt;/strong&gt;&lt;br /&gt;&lt;strong&gt;&lt;em&gt;Speaker: Jo
 hn Anderton: director of product line management for the Wireless&lt;/em&gt;&lt;/st
 rong&gt;&lt;br /&gt;Connectivity business at Qorvo&lt;br /&gt;https://www.linkedin.com/in
 /johnanderton/&lt;br /&gt;Don&amp;rsquo\;t you wish smart homes were a little bit mo
 re\, well\, smart? If you&amp;rsquo\;ve ever&lt;br /&gt;struggled to set up multiple
  devices from several companies\, then you know the&lt;br /&gt;frustration it ca
 n cause.&lt;br /&gt;This is the issue being addressed by MatterTM\, a new wirele
 ss standard supported by&lt;br /&gt;companies including Amazon\, Apple\, Google\
 , and Qorvo\, and overseen by the&lt;/p&gt;\n&lt;p&gt;Connectivity Standards Alliance 
 (CSA). The alliance members have taken an open-&lt;br /&gt;source approach to de
 veloping the new protocol\, enabling broad\, global adoption&lt;/p&gt;\n&lt;p&gt;acros
 s the smart home and smart lighting sector.&lt;br /&gt;&lt;strong&gt;15:30 - 16:00: &lt;e
 m&gt;WiFi: current status and directions of development&lt;/em&gt;&lt;/strong&gt;&lt;br /&gt;&lt;s
 trong&gt;&lt;em&gt;Speaker: Cees Links\, founder and owner of Information Links&lt;/em
 &gt;&lt;/strong&gt;&lt;br /&gt;&lt;strong&gt;16:00 - &lt;em&gt;Closure + Drinks&lt;/em&gt;&lt;/strong&gt;&lt;br /&gt;&lt;s
 trong&gt;17:00 &lt;em&gt;END&lt;/em&gt;&lt;/strong&gt;&lt;/p&gt;
END:VEVENT
END:VCALENDAR

