BEGIN:VCALENDAR
VERSION:2.0
PRODID:IEEE vTools.Events//EN
CALSCALE:GREGORIAN
BEGIN:VTIMEZONE
TZID:US/Eastern
BEGIN:DAYLIGHT
DTSTART:20230312T030000
TZOFFSETFROM:-0500
TZOFFSETTO:-0400
RRULE:FREQ=YEARLY;BYDAY=2SU;BYMONTH=3
TZNAME:EDT
END:DAYLIGHT
BEGIN:STANDARD
DTSTART:20231105T010000
TZOFFSETFROM:-0400
TZOFFSETTO:-0500
RRULE:FREQ=YEARLY;BYDAY=1SU;BYMONTH=11
TZNAME:EST
END:STANDARD
END:VTIMEZONE
BEGIN:VEVENT
DTSTAMP:20230510T031654Z
UID:CF933C83-6B35-4D83-987D-7758E3E742B1
DTSTART;TZID=US/Eastern:20230509T190000
DTEND;TZID=US/Eastern:20230509T210000
DESCRIPTION:Section Activities\n\nAgenda: \nReview Secretary and Treasury r
 eports\n\nDiscuss Affinity Group Activities - Consultant Networks\, WIE\, 
 YP and PACE\n\nReview technical society activities - AP/MTT/UFFC\, ComSoc/
 SP\, Computyer/SMC\, PES\n\nReview committee activities - Membership\, Ent
 repreneur Society\, IndustryLiason\,\, Student Activities\n\nOld Business\
 n\nNew Business\n\n1014 Monroe Turnpike\, Monroe\, Connecticut\, United St
 ates\, 06468\, Virtual: https://events.vtools.ieee.org/m/360123
LOCATION:1014 Monroe Turnpike\, Monroe\, Connecticut\, United States\, 0646
 8\, Virtual: https://events.vtools.ieee.org/m/360123
ORGANIZER:rthoelen@ieee.org
SEQUENCE:1
SUMMARY:ExComm May 2023 Meeting
URL;VALUE=URI:https://events.vtools.ieee.org/m/360123
X-ALT-DESC:Description: &lt;br /&gt;&lt;p&gt;Section Activities&lt;/p&gt;&lt;br /&gt;&lt;br /&gt;Agenda: 
 &lt;br /&gt;&lt;p&gt;Review Secretary and Treasury reports&lt;/p&gt;\n&lt;p&gt;Discuss Affinity Gr
 oup Activities - Consultant Networks\, WIE\, YP and PACE&lt;/p&gt;\n&lt;p&gt;Review te
 chnical society activities - AP/MTT/UFFC\, ComSoc/SP\, Computyer/SMC\, PES
 &lt;/p&gt;\n&lt;p&gt;Review committee activities - Membership\, Entrepreneur Society\,
  IndustryLiason\,\, Student Activities&lt;/p&gt;\n&lt;p&gt;Old Business&lt;/p&gt;\n&lt;p&gt;New Bu
 siness&lt;/p&gt;
END:VEVENT
END:VCALENDAR

