BEGIN:VCALENDAR
VERSION:2.0
PRODID:IEEE vTools.Events//EN
CALSCALE:GREGORIAN
BEGIN:VTIMEZONE
TZID:America/New_York
BEGIN:DAYLIGHT
DTSTART:20230312T030000
TZOFFSETFROM:-0500
TZOFFSETTO:-0400
RRULE:FREQ=YEARLY;BYDAY=2SU;BYMONTH=3
TZNAME:EDT
END:DAYLIGHT
BEGIN:STANDARD
DTSTART:20231105T010000
TZOFFSETFROM:-0400
TZOFFSETTO:-0500
RRULE:FREQ=YEARLY;BYDAY=1SU;BYMONTH=11
TZNAME:EST
END:STANDARD
END:VTIMEZONE
BEGIN:VEVENT
DTSTAMP:20230518T171234Z
UID:31F206B3-E89F-4563-847E-3B786FC51990
DTSTART;TZID=America/New_York:20230516T113000
DTEND;TZID=America/New_York:20230516T143000
DESCRIPTION:Hamilton/KW LMAG semiannual lunch with speaker Claudio Canizare
 s.\n\nSpeaker(s): Claudio Canizares\, \n\nAgenda: \n1. Meeting call to ord
 er\n\n2. Recognition of Jamal Deen\n\n3. Lunch\n\n4. Speaker\n\nSouthcote 
 53 Tap and Grill\, \, 534 Garner Road E\,\,  Ancaster\, Ontario\, Canada
LOCATION:Southcote 53 Tap and Grill\, \, 534 Garner Road E\,\,  Ancaster\, 
 Ontario\, Canada
ORGANIZER:aplevich@uwaterloo.ca
SEQUENCE:11
SUMMARY:Life Member semianual luncheon
URL;VALUE=URI:https://events.vtools.ieee.org/m/360265
X-ALT-DESC:Description: &lt;br /&gt;&lt;p&gt;Hamilton/KW LMAG semiannual lunch with spe
 aker Claudio Canizares.&lt;/p&gt;&lt;br /&gt;&lt;br /&gt;Agenda: &lt;br /&gt;&lt;p&gt;1. Meeting call to
  order&lt;/p&gt;\n&lt;p&gt;2. Recognition of Jamal Deen&lt;/p&gt;\n&lt;p&gt;3. Lunch&lt;/p&gt;\n&lt;p&gt;4. Sp
 eaker&lt;/p&gt;
END:VEVENT
END:VCALENDAR

