BEGIN:VCALENDAR
VERSION:2.0
PRODID:IEEE vTools.Events//EN
CALSCALE:GREGORIAN
BEGIN:VTIMEZONE
TZID:Asia/Kolkata
BEGIN:STANDARD
DTSTART:19451014T230000
TZOFFSETFROM:+0630
TZOFFSETTO:+0530
TZNAME:IST
END:STANDARD
END:VTIMEZONE
BEGIN:VEVENT
DTSTAMP:20240627T080708Z
UID:5B8217F9-B747-4A22-BCD6-17DC4C9B8FFE
DTSTART;TZID=Asia/Kolkata:20230523T070000
DTEND;TZID=Asia/Kolkata:20230524T190000
DESCRIPTION:All that you need to know about WIEHACK 4.0\n\nWIEHack4.0- 36 h
 our Women-Centric Hybrid International Hackathon\n\nhttps://wiehack.bvpiee
 e.in/\n\nWIEHACK is the flagship event of BVPIEEE\, The IEEE Student Branc
 h of BVCOE\, New Delhi.\nPlanned to be for 36 hours consecutively\, with t
 he goal of providing the participants with more time for ideation\, implem
 entation\, and refinement\, while reducing stress and fatigue. It will als
 o be a great opportunity for networking and will provide ample time for de
 bugging and testing.\n\nWomen In Engineering\, a segment that needs more r
 epresentation in the engineering community\, have always observed an unfav
 orable gender ratio. Addressing this issue\, the eligibility criteria for 
 forming a team for this event is that at least 50% of the team members mus
 t be women. Thus being Women-centric\, to encourage participation.\n\nBein
 g organized in the legacy of the previous iteration\, which received inter
 national participation and thus will feature both online as well as offlin
 e participation for accessibility\, hence it is hybrid.\n\nNote:\n\n- Ther
 e are only selected slots for the offline mode of hackathon.\n- It is tota
 lly based on first come first serve. All the other participants can join v
 ia online mode.\n- At least 50% of the team members must be women.\nThe fo
 llowing composition of teams are valid:\n4 Female\n3 Female\n2 Female\n3 F
 emale &amp; 1 Male/Others\n2 Female &amp; 2 Male/Others\n2 Female &amp; 1 Male/Others\
 n1 Female &amp; 1 Male/Others\n\nBldg: A-4 Block\, Bharati Vidyapeeth&#39;s Colleg
 e of Engineering\, Baba Ramdev Marg\, Shiva Enclave\, Paschim Vihar\, New 
 Delhi\, Delhi\, India\, 1100663\, Virtual: https://events.vtools.ieee.org/
 m/360436
LOCATION:Bldg: A-4 Block\, Bharati Vidyapeeth&#39;s College of Engineering\, Ba
 ba Ramdev Marg\, Shiva Enclave\, Paschim Vihar\, New Delhi\, Delhi\, India
 \, 1100663\, Virtual: https://events.vtools.ieee.org/m/360436
ORGANIZER:bvpieee.info@gmail.com
SEQUENCE:20
SUMMARY:WIEHack4.0- 36 hour Women-Centric Hybrid International Hackathon
URL;VALUE=URI:https://events.vtools.ieee.org/m/360436
X-ALT-DESC:Description: &lt;br /&gt;&lt;h2 class=&quot;ng-tns-c173-1 hdng mock-title pink
 -border ng-star-inserted&quot;&gt;All that you need to know about WIEHACK 4.0&lt;/h2&gt;
 \n&lt;div class=&quot;ng-tns-c173-1 d2c_editor_text pink-border&quot;&gt;\n&lt;p&gt;&lt;strong&gt;WIEH
 ack4.0- 36 hour Women-Centric Hybrid International Hackathon&lt;/strong&gt;&lt;/p&gt;\
 n&lt;p&gt;&lt;a href=&quot;https://wiehack.bvpieee.in/&quot;&gt;&lt;strong&gt;&lt;br&gt;&lt;/strong&gt;https://wie
 hack.bvpieee.in/&lt;/a&gt;&lt;strong&gt;&lt;br&gt;&lt;/strong&gt;&lt;/p&gt;\n&lt;p&gt;WIEHACK is the flagship 
 event of BVPIEEE\, The IEEE Student Branch of BVCOE\, New Delhi.&lt;br&gt;Planne
 d to be for 36 hours consecutively\, with the goal of providing the partic
 ipants with more time for ideation\, implementation\, and refinement\, whi
 le reducing stress and fatigue. It will also be a great opportunity for ne
 tworking and will provide ample time for debugging and testing.&lt;/p&gt;\n&lt;p&gt;Wo
 men In Engineering\, a segment that needs more representation in the engin
 eering community\, have always observed an unfavorable gender ratio. Addre
 ssing this issue\, the eligibility criteria for forming a team for this ev
 ent is that at least&amp;nbsp\;&lt;strong&gt;50%&lt;/strong&gt;&amp;nbsp\;of the team members 
 must be women. Thus being Women-centric\, to encourage participation.&lt;/p&gt;\
 n&lt;p&gt;Being organized in the legacy of the previous iteration\, which receiv
 ed international participation and thus will feature both online as well a
 s offline participation for accessibility\, hence it is hybrid.&lt;/p&gt;\n&lt;p&gt;&lt;s
 trong&gt;Note:&lt;/strong&gt;&lt;/p&gt;\n&lt;ul&gt;\n&lt;li&gt;There are only selected slots for the 
 offline mode of hackathon.&lt;/li&gt;\n&lt;li&gt;It is totally based on first come fir
 st serve. All the other participants can join via online mode.&lt;/li&gt;\n&lt;li&gt;A
 t least&amp;nbsp\;&lt;strong&gt;50%&lt;/strong&gt;&amp;nbsp\;of the team members must be women
 .&lt;br&gt;The following composition of teams are valid:&lt;br&gt;4 Female&lt;br&gt;3 Female
 &lt;br&gt;2 Female&lt;br&gt;3 Female &amp;amp\; 1 Male/Others&lt;br&gt;2 Female &amp;amp\; 2 Male/Ot
 hers&lt;br&gt;2 Female &amp;amp\; 1 Male/Others&lt;br&gt;1 Female &amp;amp\; 1 Male/Others&lt;/li
 &gt;\n&lt;/ul&gt;\n&lt;/div&gt;
END:VEVENT
END:VCALENDAR

