BEGIN:VCALENDAR
VERSION:2.0
PRODID:IEEE vTools.Events//EN
CALSCALE:GREGORIAN
BEGIN:VTIMEZONE
TZID:America/Bogota
BEGIN:DAYLIGHT
DTSTART:20380118T221407
TZOFFSETFROM:-0500
TZOFFSETTO:-0500
RRULE:FREQ=YEARLY;BYDAY=3MO;BYMONTH=1
TZNAME:-05
END:DAYLIGHT
BEGIN:STANDARD
DTSTART:19930206T230000
TZOFFSETFROM:-0400
TZOFFSETTO:-0500
RRULE:FREQ=YEARLY;BYDAY=1SA;BYMONTH=2
TZNAME:-05
END:STANDARD
END:VTIMEZONE
BEGIN:VEVENT
DTSTAMP:20230605T151528Z
UID:D87A0834-3DF2-44F1-ACCE-DD9E10EE4F4A
DTSTART;TZID=America/Bogota:20230517T200000
DTEND;TZID=America/Bogota:20230517T220000
DESCRIPTION:Registro para la reunión general de WIE UTP\n\nVirtual: https:
 //events.vtools.ieee.org/m/361201
LOCATION:Virtual: https://events.vtools.ieee.org/m/361201
ORGANIZER:madjulyalguero@ieee.org
SEQUENCE:12
SUMMARY:Registro para la reunion general de WIE UTP
URL;VALUE=URI:https://events.vtools.ieee.org/m/361201
X-ALT-DESC:Description: &lt;br /&gt;&lt;p&gt;Registro para la reuni&amp;oacute\;n general d
 e WIE UTP&lt;/p&gt;
END:VEVENT
END:VCALENDAR

