BEGIN:VCALENDAR
VERSION:2.0
PRODID:IEEE vTools.Events//EN
CALSCALE:GREGORIAN
BEGIN:VTIMEZONE
TZID:America/Chicago
BEGIN:DAYLIGHT
DTSTART:20230312T030000
TZOFFSETFROM:-0600
TZOFFSETTO:-0500
RRULE:FREQ=YEARLY;BYDAY=2SU;BYMONTH=3
TZNAME:CDT
END:DAYLIGHT
BEGIN:STANDARD
DTSTART:20231105T010000
TZOFFSETFROM:-0500
TZOFFSETTO:-0600
RRULE:FREQ=YEARLY;BYDAY=1SU;BYMONTH=11
TZNAME:CST
END:STANDARD
END:VTIMEZONE
BEGIN:VEVENT
DTSTAMP:20230725T211528Z
UID:492893DB-0764-4715-A1E4-6426BA3CFDCB
DTSTART;TZID=America/Chicago:20230517T080000
DTEND;TZID=America/Chicago:20230517T180000
DESCRIPTION:FutureCon is having their Minneapolis Cybersecurity Conference 
 hybrid\, so IEEE Computer Society Chicago and IEEE Chicago members can reg
 ister and attend online using the free code for registration of IEEE.\n\nP
 lease see details here: https://futureconevents.com/events/minneapolis-mn-
 2023/\n\nVirtual: https://events.vtools.ieee.org/m/361378
LOCATION:Virtual: https://events.vtools.ieee.org/m/361378
ORGANIZER:alvin.chin@ieee.org
SEQUENCE:8
SUMMARY:FutureCon Cybersecurity Conference - Online 
URL;VALUE=URI:https://events.vtools.ieee.org/m/361378
X-ALT-DESC:Description: &lt;br /&gt;&lt;p&gt;FutureCon is having their Minneapolis Cybe
 rsecurity Conference hybrid\, so IEEE Computer Society Chicago and IEEE Ch
 icago members can register and attend online using the free code for regis
 tration of IEEE.&amp;nbsp\;&amp;nbsp\;&lt;/p&gt;\n&lt;p&gt;Please see details here: https://fu
 tureconevents.com/events/minneapolis-mn-2023/&lt;/p&gt;
END:VEVENT
END:VCALENDAR

