BEGIN:VCALENDAR
VERSION:2.0
PRODID:IEEE vTools.Events//EN
CALSCALE:GREGORIAN
BEGIN:VTIMEZONE
TZID:America/Mexico_City
BEGIN:STANDARD
DTSTART:20221030T010000
TZOFFSETFROM:-0500
TZOFFSETTO:-0600
TZNAME:CST
END:STANDARD
END:VTIMEZONE
BEGIN:VEVENT
DTSTAMP:20230529T214353Z
UID:BF54645E-303D-4AF6-AF83-6F49D0E45942
DTSTART;TZID=America/Mexico_City:20230525T130000
DTEND;TZID=America/Mexico_City:20230525T150000
DESCRIPTION:¡No te pierdas la oportunidad de aprender sobre la evolución 
 de Internet! La rama estudiantil IEEE UAM Iztapalapa te invita a una ponen
 cia única\, &quot;Internet de ayer y hoy&quot; impartida por el destacado experto e
 n redes\, el Dr. Víctor Manuel Ramos Ramos.\n\nEn esta charla fascinante\
 , el Dr. Ramos Ramos nos guiará a través de la historia de Internet\, co
 menzando desde sus orígenes hasta la actualidad. Descubriremos cómo Inte
 rnet ha evolucionado desde una red de escala global hasta convertirse en l
 a infraestructura vital que conocemos hoy. El Dr. Ramos Ramos también des
 cribirá el papel que las redes inalámbricas han jugado en el acceso a In
 ternet y su estado actual.\n\nSi estás interesado en la tecnología de re
 des y la evolución de Internet\, esta ponencia es para ti. Aprenderás de
  un experto líder en el campo y obtendrás una comprensión profunda de c
 ómo ha evolucionado Internet y su impacto en nuestras vidas.\n\nLa ponenc
 ia se llevará a cabo el próximo jueves 25 de mayo a través de nuestras 
 [redes sociales](https://www.facebook.com/ieeeuamiof) y el canal de [Youtu
 be](https://youtube.com/@ieeeuami380). ¡Agenda está fecha y únete a nos
 otros para aprender sobre la evolución de Internet! No te pierdas esta op
 ortunidad única de aprender de un experto en la materia.\n\nVirtual: http
 s://events.vtools.ieee.org/m/361429
LOCATION:Virtual: https://events.vtools.ieee.org/m/361429
ORGANIZER:uami.ieee@gmail.com
SEQUENCE:30
SUMMARY:Internet de ayer y hoy.
URL;VALUE=URI:https://events.vtools.ieee.org/m/361429
X-ALT-DESC:Description: &lt;br /&gt;&lt;h1 class=&quot;_aacl _aaco _aacu _aacx _aad7 _aad
 e&quot; dir=&quot;auto&quot;&gt;&lt;span style=&quot;font-size: 10pt\;&quot;&gt;&amp;iexcl\;No te pierdas la opo
 rtunidad de aprender sobre la evoluci&amp;oacute\;n de Internet! La rama estud
 iantil IEEE UAM Iztapalapa te invita a una ponencia &amp;uacute\;nica\, &quot;Inter
 net de ayer y hoy&quot; impartida por el destacado experto en redes\, el Dr. V&amp;
 iacute\;ctor Manuel Ramos Ramos.&lt;/span&gt;&lt;br /&gt;&lt;br /&gt;&lt;span style=&quot;font-size:
  10pt\;&quot;&gt;En esta charla fascinante\, el Dr. Ramos Ramos nos guiar&amp;aacute\;
  a trav&amp;eacute\;s de la historia de Internet\, comenzando desde sus or&amp;iac
 ute\;genes hasta la actualidad. Descubriremos c&amp;oacute\;mo Internet ha evo
 lucionado desde una red de escala global hasta convertirse en la infraestr
 uctura vital que conocemos hoy. El Dr. Ramos Ramos tambi&amp;eacute\;n describ
 ir&amp;aacute\; el papel que las redes inal&amp;aacute\;mbricas han jugado en el a
 cceso a Internet y su estado actual.&lt;/span&gt;&lt;br /&gt;&lt;br /&gt;&lt;span style=&quot;font-s
 ize: 10pt\;&quot;&gt;Si est&amp;aacute\;s interesado en la tecnolog&amp;iacute\;a de redes
  y la evoluci&amp;oacute\;n de Internet\, esta ponencia es para ti. Aprender&amp;a
 acute\;s de un experto l&amp;iacute\;der en el campo y obtendr&amp;aacute\;s una c
 omprensi&amp;oacute\;n profunda de c&amp;oacute\;mo ha evolucionado Internet y su 
 impacto en nuestras vidas.&lt;/span&gt;&lt;br /&gt;&lt;br /&gt;&lt;span style=&quot;font-size: 10pt\
 ;&quot;&gt;La ponencia se llevar&amp;aacute\; a cabo el pr&amp;oacute\;ximo jueves 25 de m
 ayo a trav&amp;eacute\;s de nuestras &lt;a title=&quot;FB&quot; href=&quot;https://www.facebook.
 com/ieeeuamiof&quot; target=&quot;_blank&quot; rel=&quot;noopener&quot;&gt;redes sociales&lt;/a&gt; y el can
 al de &lt;a title=&quot;YT&quot; href=&quot;https://youtube.com/@ieeeuami380&quot;&gt;Youtube&lt;/a&gt;. &amp;
 iexcl\;Agenda est&amp;aacute\; fecha y &amp;uacute\;nete a nosotros para aprender 
 sobre la evoluci&amp;oacute\;n de Internet! No te pierdas esta oportunidad &amp;ua
 cute\;nica de aprender de un experto en la materia.&lt;/span&gt;&lt;/h1&gt;
END:VEVENT
END:VCALENDAR

