BEGIN:VCALENDAR
VERSION:2.0
PRODID:IEEE vTools.Events//EN
CALSCALE:GREGORIAN
BEGIN:VTIMEZONE
TZID:America/New_York
BEGIN:DAYLIGHT
DTSTART:20230312T030000
TZOFFSETFROM:-0500
TZOFFSETTO:-0400
RRULE:FREQ=YEARLY;BYDAY=2SU;BYMONTH=3
TZNAME:EDT
END:DAYLIGHT
BEGIN:STANDARD
DTSTART:20231105T010000
TZOFFSETFROM:-0400
TZOFFSETTO:-0500
RRULE:FREQ=YEARLY;BYDAY=1SU;BYMONTH=11
TZNAME:EST
END:STANDARD
END:VTIMEZONE
BEGIN:VEVENT
DTSTAMP:20240407T174606Z
UID:4359E7FE-4CB5-4D16-888E-AA5097EC8C2F
DTSTART;TZID=America/New_York:20230611T110000
DTEND;TZID=America/New_York:20230611T190000
DESCRIPTION:The IEEE New York Section Executive Committee is pleased to ann
 ounce it&#39;s first inaugural Family Day Picnic. This event is being created 
 in lieu of our annual Awards Dinner Dance\, which was held at the NY Hilto
 n Hotel in Manhattan for many years. Please join us in celebrating the 100
 + year anniversary of the IEEE New York Section and recognizing our IEEE v
 olunteers for their many years of dedicated service and their efforts in c
 ontributing and supporting the various technical and non-technical activit
 ies of the New York Section.\n\nCo-sponsored by: New York Section Executiv
 e Committee\n\nSpeaker(s): Bob Pellegrino\, \n\nAgenda: \n11:00 AM - Arriv
 e at Picnic. Network with guests and family members.\n\n11:30 AM to 3:30 P
 M - Lunch (See event flyer for Menu) and Participate in various activities
 \n\n3:00 PM - Watermelon will be available\n\n4:00 PM to 5:00 PM - Dinner 
 (See event flyer for Menu)\n\n5:30 PM - Scooped Ice Cream with various top
 pings\n\nNote: Beer\, soft drinks and coffee to 6:00 PM\n\nRoom: (845-354-
 9832)\, Bldg: Outdoor Pavilion\, Krucker&#39;s Restaurant &amp; Grove\, 81 Call Ho
 llow Road\, Pomona\, New York\, United States\, 10970
LOCATION:Room: (845-354-9832)\, Bldg: Outdoor Pavilion\, Krucker&#39;s Restaura
 nt &amp; Grove\, 81 Call Hollow Road\, Pomona\, New York\, United States\, 109
 70
ORGANIZER:bobpellegrino@ieee.org
SEQUENCE:73
SUMMARY:IEEE New York Section Family Day Picnic
URL;VALUE=URI:https://events.vtools.ieee.org/m/361571
X-ALT-DESC:Description: &lt;br /&gt;&lt;p&gt;The IEEE New York Section Executive Commit
 tee is pleased to announce it&#39;s first inaugural Family Day Picnic.&amp;nbsp\; 
 This event is being created in lieu of our annual Awards Dinner Dance\, wh
 ich was held at the NY Hilton Hotel in Manhattan for many years.&amp;nbsp\; Pl
 ease join us in celebrating the 100+ year anniversary of the IEEE New York
  Section and recognizing our IEEE volunteers for their many years of dedic
 ated service and their efforts in contributing and supporting the various 
 technical and non-technical activities of the New York Section.&lt;/p&gt;&lt;br /&gt;&lt;
 br /&gt;Agenda: &lt;br /&gt;&lt;p&gt;11:00 AM - Arrive at Picnic.&amp;nbsp\; Network with gue
 sts and family members.&lt;/p&gt;\n&lt;p&gt;11:30 AM to 3:30 PM - Lunch (See event fly
 er for Menu) and Participate in various activities&lt;/p&gt;\n&lt;p&gt;3:00 PM - Water
 melon will be available&lt;/p&gt;\n&lt;p&gt;4:00 PM to 5:00 PM - Dinner (See event fly
 er for Menu)&lt;/p&gt;\n&lt;p&gt;5:30 PM - Scooped Ice Cream with various toppings&lt;/p&gt;
 \n&lt;p&gt;Note:&amp;nbsp\; Beer\, soft drinks and coffee to 6:00 PM&lt;/p&gt;
END:VEVENT
END:VCALENDAR

