BEGIN:VCALENDAR
VERSION:2.0
PRODID:IEEE vTools.Events//EN
CALSCALE:GREGORIAN
BEGIN:VTIMEZONE
TZID:America/Argentina/Buenos_Aires
BEGIN:DAYLIGHT
DTSTART:20380119T001407
TZOFFSETFROM:-0300
TZOFFSETTO:-0300
RRULE:FREQ=YEARLY;BYDAY=3TU;BYMONTH=1
TZNAME:-03
END:DAYLIGHT
BEGIN:STANDARD
DTSTART:20090314T230000
TZOFFSETFROM:-0200
TZOFFSETTO:-0300
RRULE:FREQ=YEARLY;BYDAY=2SA;BYMONTH=3
TZNAME:-03
END:STANDARD
END:VTIMEZONE
BEGIN:VEVENT
DTSTAMP:20230528T213042Z
UID:25EEA32F-0496-49B3-8F92-907C66455DEC
DTSTART;TZID=America/Argentina/Buenos_Aires:20230524T160000
DTEND;TZID=America/Argentina/Buenos_Aires:20230524T180000
DESCRIPTION:Se va a presentar un ciclo de dos charlas dictadas por miembros
  de la rama estudiantil.\n\n- GitHub Student Developer Pack y Github Copil
 ot : ¿Como pueden ayudarte a aprender programación?\n\n- El futuro de la
  robótica 🤖: ¿cómo los robots transformarán nuestras vidas?\n\nEl e
 vento se llevará a cabo en el S.U.M. de la Universidad Tecnológica Nacio
 nal - Facultad Regional Córdoba.\n\nNo requiere inscripción.\n\nSpeaker(
 s): Enrique\, Martín\n\nAgenda: \n16-17Hs: GitHub Student Developer Pack 
 y Github Copilot : ¿Como pueden ayudarte a aprender programación?\n\nEn 
 esta charla\, descubrirás cómo GitHub ofrece herramientas gratuitas para
  estudiantes que pueden ayudarte a mejorar tus habilidades en el desarroll
 o de software y llevar tus proyectos al siguiente nivel. Aprenderás sobre
  los recursos y paquetes de software incluidos en el pack\, y cómo puedes
  acceder a ellos. ¡No te pierdas esta oportunidad!\n\n17-18Hs: El futuro 
 de la robótica 🤖: ¿cómo los robots transformarán nuestras vidas?\n\
 nCuando pensamos en robots\, podríamos imaginar autómatas inspirados en 
 la ciencia ficción\, similares a los humanos. Si bien este tipo de máqui
 nas siguen siendo en su mayoría ficticias\, hay muchos otros tipos de rob
 ots que operan en el mundo de hoy. Pero\, ¿qué son los robots? ¿Y cómo
  podrían cambiarán el mundo y la forma en la que trabajamos?\n\nRoom: S.
 U.M.\, Bldg: Edificio Principal\, Maestro M. Lopez esq\, Cruz Roja Argenti
 na\, Cordoba\, Cordoba\, Argentina\, 5000
LOCATION:Room: S.U.M.\, Bldg: Edificio Principal\, Maestro M. Lopez esq\, C
 ruz Roja Argentina\, Cordoba\, Cordoba\, Argentina\, 5000
ORGANIZER:enriquewph@ieee.org
SEQUENCE:17
SUMMARY:Charlas técnicas aplicadas a Ingeniería: Robótica y Herramientas
  de GitHub para estudiantes
URL;VALUE=URI:https://events.vtools.ieee.org/m/361655
X-ALT-DESC:Description: &lt;br /&gt;&lt;p&gt;Se va a presentar un ciclo de dos charlas 
 dictadas por miembros de la rama estudiantil.&lt;/p&gt;\n&lt;p&gt;- GitHub Student Dev
 eloper Pack y Github Copilot : &amp;iquest\;Como pueden ayudarte a aprender pr
 ogramaci&amp;oacute\;n?&lt;/p&gt;\n&lt;p&gt;- El futuro de la rob&amp;oacute\;tica 🤖: &amp;ique
 st\;c&amp;oacute\;mo los robots transformar&amp;aacute\;n nuestras vidas?&lt;/p&gt;\n&lt;p&gt;
 El evento se llevar&amp;aacute\; a cabo en el S.U.M. de la Universidad Tecnol&amp;
 oacute\;gica Nacional - Facultad Regional C&amp;oacute\;rdoba.&lt;/p&gt;\n&lt;p&gt;No requ
 iere inscripci&amp;oacute\;n.&lt;/p&gt;&lt;br /&gt;&lt;br /&gt;Agenda: &lt;br /&gt;&lt;p&gt;16-17Hs: &lt;strong
 &gt;GitHub Student Developer Pack y Github Copilot : &amp;iquest\;Como pueden ayu
 darte a aprender programaci&amp;oacute\;n?&lt;/strong&gt;&lt;/p&gt;\n&lt;p&gt;&lt;em&gt;En esta charla
 \, descubrir&amp;aacute\;s c&amp;oacute\;mo GitHub ofrece herramientas gratuitas p
 ara estudiantes que pueden ayudarte a mejorar tus habilidades en el desarr
 ollo de software y llevar tus proyectos al siguiente nivel. Aprender&amp;aacut
 e\;s sobre los recursos y paquetes de software incluidos en el pack\, y c&amp;
 oacute\;mo puedes acceder a ellos. &amp;iexcl\;No te pierdas esta oportunidad!
 &amp;nbsp\;&lt;/em&gt;&lt;/p&gt;\n&lt;p&gt;17-18Hs: &lt;strong&gt;El futuro de la rob&amp;oacute\;tica 
 🤖: &amp;iquest\;c&amp;oacute\;mo los robots transformar&amp;aacute\;n nuestras vida
 s?&lt;/strong&gt;&lt;/p&gt;\n&lt;p&gt;&lt;em&gt;Cuando pensamos en robots\, podr&amp;iacute\;amos imag
 inar aut&amp;oacute\;matas inspirados en la ciencia ficci&amp;oacute\;n\, similare
 s a los humanos. Si bien este tipo de m&amp;aacute\;quinas siguen siendo en su
  mayor&amp;iacute\;a ficticias\, hay muchos otros tipos de robots que operan e
 n el mundo de hoy. Pero\, &amp;iquest\;qu&amp;eacute\; son los robots? &amp;iquest\;Y 
 c&amp;oacute\;mo podr&amp;iacute\;an cambiar&amp;aacute\;n el mundo y la forma en la q
 ue trabajamos?&lt;/em&gt;&lt;/p&gt;
END:VEVENT
END:VCALENDAR

