BEGIN:VCALENDAR
VERSION:2.0
PRODID:IEEE vTools.Events//EN
CALSCALE:GREGORIAN
BEGIN:VTIMEZONE
TZID:America/New_York
BEGIN:DAYLIGHT
DTSTART:20230312T030000
TZOFFSETFROM:-0500
TZOFFSETTO:-0400
RRULE:FREQ=YEARLY;BYDAY=2SU;BYMONTH=3
TZNAME:EDT
END:DAYLIGHT
BEGIN:STANDARD
DTSTART:20231105T010000
TZOFFSETFROM:-0400
TZOFFSETTO:-0500
RRULE:FREQ=YEARLY;BYDAY=1SU;BYMONTH=11
TZNAME:EST
END:STANDARD
END:VTIMEZONE
BEGIN:VEVENT
DTSTAMP:20230713T225044Z
UID:9B411E6E-F441-447F-A259-A951B8D9B803
DTSTART;TZID=America/New_York:20230707T180000
DTEND;TZID=America/New_York:20230707T210000
DESCRIPTION:Are you a student or young professional keen to connect with pe
 ers\, expand your professional networks\, and learn from tech leaders? The
 n Join us at IEEE Ottawa Networking event to socialize with fellow STEM st
 udents and engineers. This large-scale event is also a great opportunity t
 o make connection with high-tech companies\, universities\, and government
  organizations.\n\nIf you are driving\, we recommend parking at Lots P2 an
 d P16\, and you can find more details at [Carleton Parking Map](http://car
 leton.ca/phdhums/wp-content/uploads/Carleton-Parking-Map.pdf)\n\nRoom: 292
 6-Atrium\, Bldg: Richcraft Hall\, 1125 Colonel By Drive\, Ottawa\, Ontario
 \, Canada\, K1S 5B6
LOCATION:Room: 2926-Atrium\, Bldg: Richcraft Hall\, 1125 Colonel By Drive\,
  Ottawa\, Ontario\, Canada\, K1S 5B6
ORGANIZER:n.javanbakht.1992@ieee.org
SEQUENCE:72
SUMMARY:Connect and Empower: IEEE Ottawa Meet and Greet
URL;VALUE=URI:https://events.vtools.ieee.org/m/361710
X-ALT-DESC:Description: &lt;br /&gt;&lt;p&gt;Are you a student or young professional ke
 en to connect with peers\, expand your professional networks\, and learn f
 rom tech leaders? Then Join us at IEEE Ottawa Networking event to socializ
 e with fellow STEM students and engineers. This large-scale event is also 
 a great opportunity to make connection with high-tech companies\, universi
 ties\, and government organizations.&lt;br /&gt;&lt;br /&gt;If you are driving\, we re
 commend parking at Lots P2 and P16\, and you can find more details at &lt;a h
 ref=&quot;http://carleton.ca/phdhums/wp-content/uploads/Carleton-Parking-Map.pd
 f&quot;&gt;Carleton Parking Map&lt;/a&gt;&lt;/p&gt;
END:VEVENT
END:VCALENDAR

