BEGIN:VCALENDAR
VERSION:2.0
PRODID:IEEE vTools.Events//EN
CALSCALE:GREGORIAN
BEGIN:VTIMEZONE
TZID:America/Chicago
BEGIN:DAYLIGHT
DTSTART:20230312T030000
TZOFFSETFROM:-0600
TZOFFSETTO:-0500
RRULE:FREQ=YEARLY;BYDAY=2SU;BYMONTH=3
TZNAME:CDT
END:DAYLIGHT
BEGIN:STANDARD
DTSTART:20231105T010000
TZOFFSETFROM:-0500
TZOFFSETTO:-0600
RRULE:FREQ=YEARLY;BYDAY=1SU;BYMONTH=11
TZNAME:CST
END:STANDARD
END:VTIMEZONE
BEGIN:VEVENT
DTSTAMP:20231121T175640Z
UID:B082EFF9-5AE5-4F98-BA41-5192CCC5567C
DTSTART;TZID=America/Chicago:20231003T073000
DTEND;TZID=America/Chicago:20231003T170000
DESCRIPTION:EMC Seminar that is Local\, Affordable and Providing the Highes
 t Level of Educational Value is again\n\naccomplished through Dr. Hubing. 
 Our Program Committee invites you to participate in this year’s\n\noutst
 anding program.\n\nIEEE Hotel Reduced Room Rate: [Hotel Room](https://urld
 efense.com/v3/__https://www.crowneplaza.com/redirect?path=asearch&amp;brandCod
 e=CP&amp;localeCode=en&amp;regionCode=1&amp;hotelCode=MKETH&amp;checkInDate=03&amp;checkInMont
 hYear=092023&amp;checkOutDate=04&amp;checkOutMonthYear=092023&amp;rateCode=6CBARC&amp;_PMI
 D=99801505&amp;GPC=IE1&amp;cn=no&amp;viewfullsite=true__\;!!IxBNepYoNVM!0WpBxQJdXxNmt9
 VZ_iBDzwDu_deap-T0SnFlYK0PXWqTn7dEhncUEvbsiLsxJaeSSGX2Okmq6KJGIdCbiCakwg0Y
 8hL1$)\n\nSpeaker(s): Todd Hubing\, \n\nAgenda: \nSeminar Agenda\n\n7:30 
 – 08:20am\n\nRegistration\, and Continental Breakfast\n\n8:20 – 8:30am
 \n\nWelcome and Introduction\n\n8:30 – 10:00am\n\nSession 1 – Importan
 t Fundamentals\n\nDesign for EMC Compliance Strategy EM Coupling Mechanism
 s\n\nComponent Parasitics Electrical Balance\n\nGround vs. Current Return\
 n\n10:00 – 10:30am\n\nRefreshment Break &amp; Exhibitors Display\n\n10:30 
 – 12:00pm\n\nSession 2 – The Design Strategy\n\nIdentifying the Ground
  Identifying Noise Sources\n\nIdentifying Antennas / Ports Transition Time
  / Bandwidth Control\n\n12:00 – 1:00pm\n\nLunch with Exhibitors\n\n1:00 
 – 2:30pm\n\nSession 3 – Making it Work\n\nFilter Design and Layout Boa
 rd and Cable Shielding\n\nRecognizing Bad Layout Advice The EMC Design Rev
 iew\n\n2:30 – 3:00pm\n\nRefreshment Break &amp; Exhibitors Display\n\n3:00 
 – 3:15pm\n\nIEEE Recognition Awards\n\n3:15 – 4:45pm\n\nSession 4 – 
 Design Examples\n\nDC-to-DC Converter Layout Motor Drivers\n\nDisplay Driv
 ers Ethernet Interfaces\n\nWireless Communications\n\n4:50 – 5:00pm\n\nC
 losing Comments and Seminar Survey\n\nFollowed by a Social Hour\n\nBldg: C
 rowne Plaza Milwaukee Airport\, 6401 South 13th Street\, Milwaukee\, Wisco
 nsin\, United States\, 53221
LOCATION:Bldg: Crowne Plaza Milwaukee Airport\, 6401 South 13th Street\, Mi
 lwaukee\, Wisconsin\, United States\, 53221
ORGANIZER:oclarke@ra.rockwell.com
SEQUENCE:28
SUMMARY:2023 MILWAUKEE IEEE EMC SEMINAR - Printed Circuit Board Design for 
 EMC Compliance
URL;VALUE=URI:https://events.vtools.ieee.org/m/361739
X-ALT-DESC:Description: &lt;br /&gt;&lt;p&gt;EMC Seminar that is Local\, Affordable and
  Providing the Highest Level of Educational Value is again&lt;/p&gt;\n&lt;p&gt;accompl
 ished through Dr. Hubing. Our Program Committee invites you to participate
  in this year&amp;rsquo\;s&lt;/p&gt;\n&lt;p&gt;outstanding program.&lt;/p&gt;\n&lt;p&gt;&amp;nbsp\;&lt;/p&gt;\n&lt;
 p&gt;IEEE Hotel Reduced Room Rate: &amp;nbsp\;&lt;a href=&quot;https://urldefense.com/v3/
 __https://www.crowneplaza.com/redirect?path=asearch&amp;amp\;brandCode=CP&amp;amp\
 ;localeCode=en&amp;amp\;regionCode=1&amp;amp\;hotelCode=MKETH&amp;amp\;checkInDate=03&amp;
 amp\;checkInMonthYear=092023&amp;amp\;checkOutDate=04&amp;amp\;checkOutMonthYear=0
 92023&amp;amp\;rateCode=6CBARC&amp;amp\;_PMID=99801505&amp;amp\;GPC=IE1&amp;amp\;cn=no&amp;amp
 \;viewfullsite=true__\;!!IxBNepYoNVM!0WpBxQJdXxNmt9VZ_iBDzwDu_deap-T0SnFlY
 K0PXWqTn7dEhncUEvbsiLsxJaeSSGX2Okmq6KJGIdCbiCakwg0Y8hL1$&quot;&gt;Hotel Room&lt;/a&gt;&amp;n
 bsp\;&lt;/p&gt;&lt;br /&gt;&lt;br /&gt;Agenda: &lt;br /&gt;&lt;p&gt;&lt;strong&gt;Seminar Agenda&lt;/strong&gt;&lt;/p&gt;\
 n&lt;p&gt;&lt;strong&gt;&amp;nbsp\;&lt;/strong&gt;&lt;/p&gt;\n&lt;p&gt;&lt;strong&gt;7:30 &amp;ndash\; 08:20am &lt;/stron
 g&gt;&lt;/p&gt;\n&lt;p&gt;&lt;strong&gt;Registration\, and Continental Breakfast&lt;/strong&gt;&lt;/p&gt;\n
 &lt;p&gt;&amp;nbsp\;&lt;/p&gt;\n&lt;p&gt;&lt;strong&gt;8:20 &amp;ndash\; 8:30am&lt;/strong&gt;&lt;/p&gt;\n&lt;p&gt;&lt;strong&gt;W
 elcome and Introduction&lt;/strong&gt;&lt;/p&gt;\n&lt;p&gt;&amp;nbsp\;&lt;/p&gt;\n&lt;p&gt;&lt;strong&gt;8:30 &amp;nda
 sh\; 10:00am&lt;/strong&gt;&lt;/p&gt;\n&lt;p&gt;&lt;strong&gt;Session 1 &amp;ndash\; Important Fundame
 ntals&lt;/strong&gt;&lt;/p&gt;\n&lt;p&gt;Design for EMC Compliance Strategy&amp;nbsp\;&amp;nbsp\;&amp;nb
 sp\;&amp;nbsp\;&amp;nbsp\;&amp;nbsp\;&amp;nbsp\;&amp;nbsp\;&amp;nbsp\; EM Coupling Mechanisms&lt;/p&gt;\
 n&lt;p&gt;Component Parasitics&amp;nbsp\;&amp;nbsp\;&amp;nbsp\;&amp;nbsp\;&amp;nbsp\;&amp;nbsp\;&amp;nbsp\;&amp;
 nbsp\;&amp;nbsp\;&amp;nbsp\;&amp;nbsp\;&amp;nbsp\;&amp;nbsp\;&amp;nbsp\;&amp;nbsp\;&amp;nbsp\;&amp;nbsp\;&amp;nbsp
 \;&amp;nbsp\;&amp;nbsp\;&amp;nbsp\;&amp;nbsp\;&amp;nbsp\;&amp;nbsp\;&amp;nbsp\;&amp;nbsp\;&amp;nbsp\;&amp;nbsp\;&amp;n
 bsp\;&amp;nbsp\;&amp;nbsp\;&amp;nbsp\;&amp;nbsp\;&amp;nbsp\;&amp;nbsp\;&amp;nbsp\;&amp;nbsp\; Electrical B
 alance&lt;/p&gt;\n&lt;p&gt;Ground vs. Current Return&lt;/p&gt;\n&lt;p&gt;&lt;strong&gt;&amp;nbsp\;&lt;/strong&gt;&lt;
 /p&gt;\n&lt;p&gt;&lt;strong&gt;10:00 &amp;ndash\; 10:30am&lt;/strong&gt;&lt;/p&gt;\n&lt;p&gt;&lt;strong&gt;Refreshmen
 t Break &amp;amp\; Exhibitors Display&lt;/strong&gt;&lt;/p&gt;\n&lt;p&gt;&amp;nbsp\;&lt;/p&gt;\n&lt;p&gt;&lt;strong
 &gt;10:30 &amp;ndash\; 12:00pm&lt;/strong&gt;&lt;/p&gt;\n&lt;p&gt;&lt;strong&gt;Session 2 &amp;ndash\; The De
 sign Strategy&lt;/strong&gt;&lt;/p&gt;\n&lt;p&gt;Identifying the Ground&amp;nbsp\;&amp;nbsp\;&amp;nbsp\;
 &amp;nbsp\;&amp;nbsp\;&amp;nbsp\;&amp;nbsp\;&amp;nbsp\;&amp;nbsp\;&amp;nbsp\;&amp;nbsp\;&amp;nbsp\;&amp;nbsp\;&amp;nbs
 p\;&amp;nbsp\;&amp;nbsp\;&amp;nbsp\;&amp;nbsp\;&amp;nbsp\;&amp;nbsp\;&amp;nbsp\;&amp;nbsp\;&amp;nbsp\;&amp;nbsp\;&amp;
 nbsp\;&amp;nbsp\;&amp;nbsp\;&amp;nbsp\;&amp;nbsp\;&amp;nbsp\;&amp;nbsp\;&amp;nbsp\;&amp;nbsp\;&amp;nbsp\;&amp;nbsp
 \; Identifying Noise Sources&lt;/p&gt;\n&lt;p&gt;&amp;nbsp\;Identifying Antennas / Ports&amp;n
 bsp\;&amp;nbsp\;&amp;nbsp\;&amp;nbsp\;&amp;nbsp\;&amp;nbsp\;&amp;nbsp\;&amp;nbsp\;&amp;nbsp\;&amp;nbsp\;&amp;nbsp\
 ;&amp;nbsp\;&amp;nbsp\;&amp;nbsp\;&amp;nbsp\;&amp;nbsp\;&amp;nbsp\;&amp;nbsp\;&amp;nbsp\;&amp;nbsp\;&amp;nbsp\;&amp;nb
 sp\;&amp;nbsp\;&amp;nbsp\;&amp;nbsp\; Transition Time / Bandwidth Control&lt;/p&gt;\n&lt;p&gt;&amp;nbs
 p\;&lt;/p&gt;\n&lt;p&gt;&lt;strong&gt;12:00 &amp;ndash\; 1:00pm&lt;/strong&gt;&lt;/p&gt;\n&lt;p&gt;&lt;strong&gt;Lunch w
 ith Exhibitors&lt;/strong&gt;&lt;/p&gt;\n&lt;p&gt;&lt;strong&gt;&amp;nbsp\;&lt;/strong&gt;&lt;/p&gt;\n&lt;p&gt;&lt;strong&gt;1
 :00 &amp;ndash\; 2:30pm&lt;/strong&gt;&lt;/p&gt;\n&lt;p&gt;&lt;strong&gt;Session 3 &amp;ndash\; Making it 
 Work&lt;/strong&gt;&lt;/p&gt;\n&lt;p&gt;Filter Design and Layout&amp;nbsp\;&amp;nbsp\;&amp;nbsp\;&amp;nbsp\;
 &amp;nbsp\;&amp;nbsp\;&amp;nbsp\;&amp;nbsp\;&amp;nbsp\;&amp;nbsp\;&amp;nbsp\;&amp;nbsp\;&amp;nbsp\;&amp;nbsp\;&amp;nbs
 p\;&amp;nbsp\;&amp;nbsp\;&amp;nbsp\;&amp;nbsp\;&amp;nbsp\;&amp;nbsp\;&amp;nbsp\;&amp;nbsp\;&amp;nbsp\;&amp;nbsp\;&amp;
 nbsp\;&amp;nbsp\;&amp;nbsp\;&amp;nbsp\;&amp;nbsp\;&amp;nbsp\;&amp;nbsp\; Board and Cable Shielding
 &lt;/p&gt;\n&lt;p&gt;Recognizing Bad Layout Advice&amp;nbsp\;&amp;nbsp\;&amp;nbsp\;&amp;nbsp\;&amp;nbsp\;&amp;
 nbsp\;&amp;nbsp\;&amp;nbsp\;&amp;nbsp\;&amp;nbsp\;&amp;nbsp\;&amp;nbsp\;&amp;nbsp\;&amp;nbsp\;&amp;nbsp\;&amp;nbsp
 \;&amp;nbsp\;&amp;nbsp\;&amp;nbsp\; The EMC Design Review&lt;/p&gt;\n&lt;p&gt;&amp;nbsp\;&lt;/p&gt;\n&lt;p&gt;&lt;str
 ong&gt;2:30 &amp;ndash\; 3:00pm&lt;/strong&gt;&lt;/p&gt;\n&lt;p&gt;&lt;strong&gt;Refreshment Break &amp;amp\;
  Exhibitors Display&lt;/strong&gt;&lt;/p&gt;\n&lt;p&gt;&lt;strong&gt;&amp;nbsp\;&lt;/strong&gt;&lt;/p&gt;\n&lt;p&gt;&lt;str
 ong&gt;3:00 &amp;ndash\; 3:15pm&lt;/strong&gt;&lt;/p&gt;\n&lt;p&gt;&lt;strong&gt;IEEE Recognition Awards&lt;
 /strong&gt;&lt;/p&gt;\n&lt;p&gt;&lt;strong&gt;&amp;nbsp\; &lt;/strong&gt;&lt;/p&gt;\n&lt;p&gt;&lt;strong&gt;3:15 &amp;ndash\; 4
 :45pm&lt;/strong&gt;&lt;/p&gt;\n&lt;p&gt;&lt;strong&gt;Session 4 &amp;ndash\; Design Examples&lt;/strong&gt;
 &lt;/p&gt;\n&lt;p&gt;DC-to-DC Converter Layout&amp;nbsp\;&amp;nbsp\;&amp;nbsp\;&amp;nbsp\;&amp;nbsp\;&amp;nbsp
 \;&amp;nbsp\;&amp;nbsp\;&amp;nbsp\;&amp;nbsp\;&amp;nbsp\;&amp;nbsp\;&amp;nbsp\;&amp;nbsp\;&amp;nbsp\;&amp;nbsp\;&amp;n
 bsp\;&amp;nbsp\;&amp;nbsp\;&amp;nbsp\;&amp;nbsp\;&amp;nbsp\;&amp;nbsp\;&amp;nbsp\;&amp;nbsp\; Motor Driver
 s&lt;/p&gt;\n&lt;p&gt;Display Drivers&amp;nbsp\;&amp;nbsp\;&amp;nbsp\;&amp;nbsp\;&amp;nbsp\;&amp;nbsp\;&amp;nbsp\;
 &amp;nbsp\;&amp;nbsp\;&amp;nbsp\;&amp;nbsp\;&amp;nbsp\;&amp;nbsp\;&amp;nbsp\;&amp;nbsp\;&amp;nbsp\;&amp;nbsp\;&amp;nbs
 p\;&amp;nbsp\;&amp;nbsp\;&amp;nbsp\;&amp;nbsp\;&amp;nbsp\;&amp;nbsp\;&amp;nbsp\;&amp;nbsp\;&amp;nbsp\;&amp;nbsp\;&amp;
 nbsp\;&amp;nbsp\;&amp;nbsp\;&amp;nbsp\;&amp;nbsp\;&amp;nbsp\;&amp;nbsp\;&amp;nbsp\;&amp;nbsp\;&amp;nbsp\;&amp;nbsp
 \;&amp;nbsp\;&amp;nbsp\;&amp;nbsp\;&amp;nbsp\;&amp;nbsp\;&amp;nbsp\;&amp;nbsp\;&amp;nbsp\; Ethernet Interf
 aces&lt;/p&gt;\n&lt;p&gt;Wireless Communications&lt;/p&gt;\n&lt;p&gt;&lt;strong&gt;&amp;nbsp\;&lt;/strong&gt;&lt;/p&gt;\
 n&lt;p&gt;&lt;strong&gt;4:50 &amp;ndash\; 5:00pm&lt;/strong&gt;&lt;/p&gt;\n&lt;p&gt;&lt;strong&gt;Closing Comments
  and Seminar Survey&lt;/strong&gt;&lt;/p&gt;\n&lt;p&gt;&lt;strong&gt;Followed by a Social Hour&lt;/st
 rong&gt;&lt;/p&gt;
END:VEVENT
END:VCALENDAR

