BEGIN:VCALENDAR
VERSION:2.0
PRODID:IEEE vTools.Events//EN
CALSCALE:GREGORIAN
BEGIN:VTIMEZONE
TZID:Asia/Jerusalem
BEGIN:DAYLIGHT
DTSTART:20230324T030000
TZOFFSETFROM:+0200
TZOFFSETTO:+0300
RRULE:FREQ=YEARLY;BYDAY=-1FR;BYMONTH=3
TZNAME:IDT
END:DAYLIGHT
BEGIN:STANDARD
DTSTART:20231029T010000
TZOFFSETFROM:+0300
TZOFFSETTO:+0200
RRULE:FREQ=YEARLY;BYDAY=-1SU;BYMONTH=10
TZNAME:IST
END:STANDARD
END:VTIMEZONE
BEGIN:VEVENT
DTSTAMP:20231128T100511Z
UID:4FB6E990-1377-4044-903B-A44E0128346D
DTSTART;TZID=Asia/Jerusalem:20230615T090000
DTEND;TZID=Asia/Jerusalem:20230615T171500
DESCRIPTION:Dear Colleagues\,\n\nYou are cordially invited to attend The 11
 th IEEE Israel AP/MTT Chapter and Tel Aviv University Underwater Acoustics
  Symposium\, Thursday 15 June\, 2023.\n\nA preliminary program of the conf
 erence is attached.\n\nParticipation is free of charge\, but advance regis
 tration at http://web.eng.tau.ac.il/boag/conf2/ is required.\n\nThe same l
 ink is embedded in the program.\n\nPlease spread this message.\n\nBest reg
 ards\,\n\nAmir Boag and Or Lasri\n\n======================================
 =========================\n\nProf. Amir Boag\n\nDepartment of Physical Ele
 ctronics\, School of Electrical Engineering\n\nFaculty of Engineering\, Te
 l-Aviv University\n\nTel-Aviv 69978\, Israel\n\nPhone: [+972-3-6408246](te
 l:%2B972-3-6408246) E-mail: boag@tau.ac.il\n\nCellular: [+972-50-9422426](
 tel:%2B972-50-9422426)\n\nFax: [+972-3-6423508](tel:%2B972-3-6423508) URL:
  http://www.eng.tau.ac.il/~boag/\n\nAgenda: \n09:00-09:30 Registration &amp; C
 offee\n09:30-09:40 Welcome and Opening Remarks\nProf. Noam Eliaz - Dean of
  the Faculty of Engineering\, Prof. Amir Boag - TAU Underwater Acoustics C
 enter\n09:40-10:40 Capt. Ioannis Androulakis – MANiBUS Ltd.\, Greece\nTh
 e Underwater Aspects of Maritime Security - Underwater Acoustics: Technolo
 gies and\nApplications\n10:40-11:00 Prof. Ehud Heyman – Tel Aviv Univers
 ity\nThe Spectral Theory of Transient (STT): New Directions and Canonical 
 Integrals\n11:00-11:30 Coffee Break\n11:30-11:50 Iris Roger-Eitan and Dr. 
 Anna Gleizer – Rafael\nNear Field to Far Field – Numerical and Physica
 l Methods\n11:20-12:10 Dr. Evgeny Chernokozhin and Prof. Amir Boag – Tel
  Aviv University\nEvolution of Solvers for Acoustic Scattering by Thin Ela
 stic Shells\n12:10-12:30 Dr. Lea Beilkin-Sirota – Tel Aviv University\nA
 ctive Acoustic Imitation of a Rigid Object under Varying Detection Frequen
 cy\n12:30-12:50 Prof. Boris Katsnelson – Haifa University\nLandau-Zener 
 Mechanism of the Waveguide Mode Coupling and its Manifestation in Shallow 
 Water Sound\nPropagation\n12:50-13:50 Lunch on site (Dairy)\n13:50-14:10 A
 zriel Sinai and Yaron Doweck – Rafael\, Yair Mazal – Ben Gurion Univer
 sity\nReal Time Control\, Telemetry and Image Streaming from and to Autono
 mous Underwater Vehicles\n14:10-14:30 Prof. Roee Diamant – Haifa Univers
 ity\, Prof. Paolo Casari University of Trento\, Italy &amp;\nProf. Stefano Tom
 asin – University of Padova\, Italy\nSecret Key Generation from Route Pr
 opagation Delays for Underwater Acoustic Networks\n14:30-14:50 Prof. Izhak
  Bucher\, Maya Friedlander\, and Ernst Uscinski – Technion\nLeveraging U
 ltrasonic Parametric Acoustic Arrays to Manipulate External Low-Frequency 
 Sounds\n14:50-15:10 Nadav Arbel\, Prof. Moshe Tur\, and Prof. Avishay Eyal
  – Tel Aviv University\nQuasi-distributed Ultrasound Sensing via an Arra
 y of Fiber Bragg Gratings\n15:10–15:40 Coffee Break &amp; Refreshments\n15:4
 0-16:00 Prof. Joseph Tabrikian – Ben-Gurion University\nOptimal Model Or
 der Selection in Normal Modes Model Using Misspecified Cramer-Rao Bound\n1
 6:00-17:00 Dr. Gil Averbuch – Woods Hole Oceanographic Institution\, USA
 \nNew England Shelf Break and Seamount Acoustics\n17:00 - Wine and Cheese 
 Reception\n\nRoom: Rosenblatt Auditorium\, Bldg: Software Engineering buil
 ding\, Tel Aviv University\, Tel Aviv\, Tel Aviv District\, Israel
LOCATION:Room: Rosenblatt Auditorium\, Bldg: Software Engineering building\
 , Tel Aviv University\, Tel Aviv\, Tel Aviv District\, Israel
ORGANIZER:boag@tauex.tau.ac.il
SEQUENCE:33
SUMMARY:The 11th IEEE Israel AP/MTT and Tel Aviv University Underwater Acou
 stics Symposium
URL;VALUE=URI:https://events.vtools.ieee.org/m/361945
X-ALT-DESC:Description: &lt;br /&gt;&lt;p&gt;Dear Colleagues\,&lt;/p&gt;\n&lt;p&gt;You are cordiall
 y invited to attend The 11&lt;sup&gt;th&lt;/sup&gt; IEEE Israel AP/MTT Chapter and Tel
  Aviv University Underwater Acoustics Symposium\, Thursday 15 June\, 2023.
 &lt;/p&gt;\n&lt;p&gt;A preliminary program of the conference is attached.&lt;/p&gt;\n&lt;p&gt;Part
 icipation is free of charge\, but advance registration at&amp;nbsp\;&lt;a href=&quot;h
 ttp://web.eng.tau.ac.il/boag/conf2/&quot;&gt;http://web.eng.tau.ac.il/boag/conf2/&lt;
 /a&gt; is required.&lt;/p&gt;\n&lt;p&gt;The same&amp;nbsp\;link is embedded in the program.&amp;n
 bsp\;&lt;/p&gt;\n&lt;p&gt;Please spread this message.&lt;/p&gt;\n&lt;p&gt;Best regards\,&lt;br /&gt;&amp;nbs
 p\;&lt;br /&gt;Amir Boag and Or Lasri&lt;/p&gt;\n&lt;p&gt;==================================
 =============================&lt;/p&gt;\n&lt;p&gt;Prof. Amir Boag&lt;/p&gt;\n&lt;p&gt;Department o
 f Physical Electronics\, School of Electrical Engineering&lt;/p&gt;\n&lt;p&gt;Faculty 
 of Engineering\,&amp;nbsp\; Tel-Aviv University&lt;/p&gt;\n&lt;p&gt;Tel-Aviv 69978\,&amp;nbsp\
 ; Israel&lt;/p&gt;\n&lt;p&gt;Phone:&amp;nbsp\; &lt;a href=&quot;tel:%2B972-3-6408246&quot;&gt;+972-3-64082
 46&lt;/a&gt;&amp;nbsp\;&amp;nbsp\; E-mail: &lt;a href=&quot;mailto:boag@tau.ac.il&quot;&gt;boag@tau.ac.i
 l&lt;/a&gt;&lt;/p&gt;\n&lt;p&gt;Cellular: &lt;a href=&quot;tel:%2B972-50-9422426&quot;&gt;+972-50-9422426&lt;/a
 &gt;&lt;/p&gt;\n&lt;p&gt;Fax:&amp;nbsp\;&amp;nbsp\;&amp;nbsp\;&amp;nbsp\;&amp;nbsp\; &lt;a href=&quot;tel:%2B972-3-64
 23508&quot;&gt;+972-3-6423508&lt;/a&gt;&amp;nbsp\;&amp;nbsp\; URL: &lt;a href=&quot;http://www.eng.tau.a
 c.il/~boag/&quot;&gt;http://www.eng.tau.ac.il/~boag/&lt;/a&gt;&lt;/p&gt;&lt;br /&gt;&lt;br /&gt;Agenda: &lt;b
 r /&gt;&lt;p&gt;09:00-09:30 Registration &amp;amp\; Coffee&lt;br /&gt;09:30-09:40 Welcome and
  Opening Remarks&lt;br /&gt;Prof. Noam Eliaz - Dean of the Faculty of Engineerin
 g\, Prof. Amir Boag - TAU Underwater Acoustics Center&lt;br /&gt;09:40-10:40 Cap
 t. Ioannis Androulakis &amp;ndash\; MANiBUS Ltd.\, Greece&lt;br /&gt;The Underwater 
 Aspects of Maritime Security - Underwater Acoustics: Technologies and&lt;br /
 &gt;Applications&lt;br /&gt;10:40-11:00 Prof. Ehud Heyman &amp;ndash\; Tel Aviv Univers
 ity&lt;br /&gt;The Spectral Theory of Transient (STT): New Directions and Canoni
 cal Integrals&lt;br /&gt;11:00-11:30 Coffee Break&lt;br /&gt;11:30-11:50 Iris Roger-Ei
 tan and Dr. Anna Gleizer &amp;ndash\; Rafael&lt;br /&gt;Near Field to Far Field &amp;nda
 sh\; Numerical and Physical Methods&lt;br /&gt;11:20-12:10 Dr. Evgeny Chernokozh
 in and Prof. Amir Boag &amp;ndash\; Tel Aviv University&lt;br /&gt;Evolution of Solv
 ers for Acoustic Scattering by Thin Elastic Shells&lt;br /&gt;12:10-12:30 Dr. Le
 a Beilkin-Sirota &amp;ndash\; Tel Aviv University&lt;br /&gt;Active Acoustic Imitati
 on of a Rigid Object under Varying Detection Frequency&lt;br /&gt;12:30-12:50 Pr
 of. Boris Katsnelson &amp;ndash\; Haifa University&lt;br /&gt;Landau-Zener Mechanism
  of the Waveguide Mode Coupling and its Manifestation in Shallow Water Sou
 nd&amp;nbsp\;&lt;br /&gt;Propagation&lt;br /&gt;12:50-13:50 Lunch on site (Dairy)&lt;br /&gt;13:
 50-14:10 Azriel Sinai and Yaron Doweck &amp;ndash\; Rafael\, Yair Mazal &amp;ndash
 \; Ben Gurion University&lt;br /&gt;Real Time Control\, Telemetry and Image Stre
 aming from and to Autonomous Underwater Vehicles&lt;br /&gt;14:10-14:30 Prof. Ro
 ee Diamant &amp;ndash\; Haifa University\, Prof. Paolo Casari University of Tr
 ento\, Italy &amp;amp\;&amp;nbsp\;&lt;br /&gt;Prof. Stefano Tomasin &amp;ndash\; University 
 of Padova\, Italy&lt;br /&gt;Secret Key Generation from Route Propagation Delays
  for Underwater Acoustic Networks&lt;br /&gt;14:30-14:50 Prof. Izhak Bucher\, Ma
 ya Friedlander\, and Ernst Uscinski &amp;ndash\; Technion&lt;br /&gt;Leveraging Ultr
 asonic Parametric Acoustic Arrays to Manipulate External Low-Frequency Sou
 nds&amp;nbsp\;&lt;br /&gt;14:50-15:10 Nadav Arbel\, Prof. Moshe Tur\, and Prof. Avis
 hay Eyal &amp;ndash\; Tel Aviv University&lt;br /&gt;Quasi-distributed Ultrasound Se
 nsing via an Array of Fiber Bragg Gratings&lt;br /&gt;15:10&amp;ndash\;15:40 Coffee 
 Break &amp;amp\; Refreshments&lt;br /&gt;15:40-16:00 Prof. Joseph Tabrikian &amp;ndash\;
  Ben-Gurion University&lt;br /&gt;Optimal Model Order Selection in Normal Modes 
 Model Using Misspecified Cramer-Rao Bound&lt;br /&gt;16:00-17:00 Dr. Gil Averbuc
 h &amp;ndash\; Woods Hole Oceanographic Institution\, USA&lt;br /&gt;New England She
 lf Break and Seamount Acoustics&lt;br /&gt;17:00 - Wine and Cheese Reception&lt;/p&gt;
END:VEVENT
END:VCALENDAR

