BEGIN:VCALENDAR
VERSION:2.0
PRODID:IEEE vTools.Events//EN
CALSCALE:GREGORIAN
BEGIN:VTIMEZONE
TZID:America/Kentucky/Louisville
BEGIN:DAYLIGHT
DTSTART:20230312T030000
TZOFFSETFROM:-0500
TZOFFSETTO:-0400
RRULE:FREQ=YEARLY;BYDAY=2SU;BYMONTH=3
TZNAME:EDT
END:DAYLIGHT
BEGIN:STANDARD
DTSTART:20231105T010000
TZOFFSETFROM:-0400
TZOFFSETTO:-0500
RRULE:FREQ=YEARLY;BYDAY=1SU;BYMONTH=11
TZNAME:EST
END:STANDARD
END:VTIMEZONE
BEGIN:VEVENT
DTSTAMP:20230717T183731Z
UID:159471FB-476D-4F39-B39F-A255BC04EADD
DTSTART;TZID=America/Kentucky/Louisville:20230712T182900
DTEND;TZID=America/Kentucky/Louisville:20230712T220000
DESCRIPTION:This is our annual social event at the Louisville Football Club
  game. Carpooling is recommended.\n\nAll tickets will be electronic. To re
 ceive your ticket from John Doyle\, you will need a SeatGeek account. Go t
 o https://seatgeek.com/ to set one up.\n\nTickets will be delivered to you
 r SeatGeek account. You can email John Doyle to arrange for payment of tic
 kets at jfdoyle@ius.edu. No printed tickets will be provided. Mobile entry
  via the SeatGeek app/Google Wallet is the only way to enter Lynn Family S
 tadium.\n\nYou will have to download your tickets before entering the game
 .\n\nAgenda: \nCarpooling is recommended. All tickets will be electronic. 
 To receive your ticket from John Doyle\, you will need a SeatGeek account.
  Go to https://seatgeek.com/ to set one up.\n\nTickets will be delivered t
 o your SeatGeek account. You can email John Doyle to arrange for payment o
 f tickets at jfdoyle@ius.edu. No printed tickets will be provided. Mobile 
 entry via the SeatGeek app/Google Wallet is the only way to enter Lynn Fam
 ily Stadium.\n\nYou will have to download your tickets before entering the
  game.\n\nLynn Family Stadium\, 350 Adams St.\, Louisville\, Kentucky\, Un
 ited States\, 40206
LOCATION:Lynn Family Stadium\, 350 Adams St.\, Louisville\, Kentucky\, Unit
 ed States\, 40206
ORGANIZER:jfdoyle@ius.edu
SEQUENCE:1328
SUMMARY:Louisville Section Social Event - Lou City FC vs. Pittsburgh Riverh
 ounds
URL;VALUE=URI:https://events.vtools.ieee.org/m/362030
X-ALT-DESC:Description: &lt;br /&gt;&lt;p&gt;This is our annual social event at the Lou
 isville Football Club game.&amp;nbsp\;Carpooling is recommended.&amp;nbsp\;&lt;/p&gt;\n&lt;
 p&gt;All tickets will be electronic.&amp;nbsp\; To receive your ticket from John 
 Doyle\, you will need a SeatGeek account.&amp;nbsp\; Go to &lt;a href=&quot;https://se
 atgeek.com/&quot;&gt;https://seatgeek.com/&lt;/a&gt; to set one up.&lt;/p&gt;\n&lt;p&gt;Tickets will
  be delivered to your SeatGeek account.&amp;nbsp\; You can email John Doyle to
  arrange for payment of tickets at &lt;a href=&quot;mailto:jfdoyle@ius.edu&quot;&gt;jfdoyl
 e@ius.edu&lt;/a&gt;&lt;strong&gt;.&amp;nbsp\; No printed tickets will be provided.&amp;nbsp\; 
 &lt;/strong&gt;&lt;strong&gt;Mobile entry via the SeatGeek app/Google Wallet is the on
 ly way to enter Lynn Family Stadium.&lt;/strong&gt;&lt;/p&gt;\n&lt;p&gt;You will have to dow
 nload your tickets before entering the game.&amp;nbsp\;&lt;/p&gt;&lt;br /&gt;&lt;br /&gt;Agenda:
  &lt;br /&gt;&lt;p&gt;Carpooling is recommended.&amp;nbsp\; All tickets will be electronic
 .&amp;nbsp\; To receive your ticket from John Doyle\, you will need a SeatGeek
  account.&amp;nbsp\; Go to &lt;a href=&quot;https://seatgeek.com/&quot;&gt;https://seatgeek.co
 m/&lt;/a&gt; to set one up.&lt;/p&gt;\n&lt;p&gt;Tickets will be delivered to your SeatGeek a
 ccount.&amp;nbsp\; You can email John Doyle to arrange for payment of tickets 
 at &lt;a href=&quot;mailto:jfdoyle@ius.edu&quot;&gt;jfdoyle@ius.edu&lt;/a&gt;&lt;strong&gt;.&amp;nbsp\; No
  printed tickets will be provided.&amp;nbsp\; &lt;/strong&gt;&lt;strong&gt;Mobile entry vi
 a the SeatGeek app/Google Wallet is the only way to enter Lynn Family Stad
 ium.&lt;/strong&gt;&lt;/p&gt;\n&lt;p&gt;You will have to download your tickets before enteri
 ng the game.&amp;nbsp\;&lt;/p&gt;
END:VEVENT
END:VCALENDAR

