BEGIN:VCALENDAR
VERSION:2.0
PRODID:IEEE vTools.Events//EN
CALSCALE:GREGORIAN
BEGIN:VTIMEZONE
TZID:America/Santiago
BEGIN:DAYLIGHT
DTSTART:20230903T010000
TZOFFSETFROM:-0400
TZOFFSETTO:-0300
RRULE:FREQ=YEARLY;BYDAY=1SU;BYMONTH=9
TZNAME:-03
END:DAYLIGHT
BEGIN:STANDARD
DTSTART:20230401T230000
TZOFFSETFROM:-0300
TZOFFSETTO:-0400
RRULE:FREQ=YEARLY;BYDAY=1SA;BYMONTH=4
TZNAME:-04
END:STANDARD
END:VTIMEZONE
BEGIN:VEVENT
DTSTAMP:20231210T155904Z
UID:0B3CE1C3-41A5-4E3F-BE4E-9081CA109904
DTSTART;TZID=America/Santiago:20230526T193000
DTEND;TZID=America/Santiago:20230526T203000
DESCRIPTION:&quot;Securing Internet provision from IoT attacks&quot;\n\nEsta charla t
 rata la creciente necesidad de detectar intrusiones en hogares con disposi
 tivos IoT\, lo que representa un desafío reciente para los proveedores de
  servicios de Internet. Se presentan resultados del proyecto ITEA MIRAI\, 
 que propone un enfoque de inteligencia artificial distribuida para disposi
 tivos de borde\, con la finalidad de proveer una conexión segura a Intern
 et. Se destacan resultados tempranos para detectar tráfico potencialmente
  malicioso utilizando métodos de aprendizaje automático one-class en el 
 enrutador del hogar\, y se analiza la influencia del tamaño del conjunto 
 de entrenamiento en el tamaño y tiempo de ejecución de los modelos de in
 ferencia. Asimismo\, se aborda el desarrollo\, implementación y control d
 e estos modelos\, aspectos cruciales para garantizar la seguridad en los h
 ogares conectados.\n\n----------------------------------------------------
 ------------------------------------\nLuis Almeida se graduó en la Univer
 sidad de Aveiro en Portugal y actualmente es Profesor Asociado con Habilit
 ación en el Departamento. de Ingeniería Eléctrica y de Computación de 
 la Universidade do Porto\, Portugal\, donde coordina el laboratorio de Sis
 temas Embebidos Distribuidos y en Tiempo Real (DaRTES). También es Vice-D
 irector del Centro de Investigación CISTER - Research Centre in Real-Time
  and Embedded Computing Systems\, Ex-Chair del Comité Técnico de Sistema
 s en Tiempo Real (TCRTS - Technical Committee on Real-Time Systems) del IE
 EE (Chair en 2020-2021) y Chair de EMSIG\, el Grupo de Interés Especial e
 n Sistemas Embebidos de la Asociación de Diseño de Circuitos y Sistemas 
 Electrónicos (EDAA). Es Editor en Jefe de la revista Springer Journal of 
 Real-Time Systems y Editor Asociado de la revista Elsevier Journal of Syst
 ems Architecture y la revista internacional SAGE International Journal on 
 Advanced Robotic Systems. Fue Chair de Programa y Chair General del Simpos
 io de Sistemas en Tiempo Real del IEEE (RTSS) en 2011 y 2012\, respectivam
 ente\, y Co-Chair Local en 2016\, así como Co-Chair General de CPS-Week 2
 018. También fue Fideicomisario de la RoboCup Federation de 2008 a 2016 y
  Vicepresidente de 2011 a 2013. Ha participado en numerosos proyectos de i
 nvestigación financiados a nivel nacional e internacional y participa reg
 ularmente en la organización de eventos científicos en comunicaciones en
  tiempo real para sistemas industriales/embebidos distribuidos\, equipos d
 e agentes cooperativos y redes de sensores.\n\nVirtual: https://events.vto
 ols.ieee.org/m/362163
LOCATION:Virtual: https://events.vtools.ieee.org/m/362163
ORGANIZER:miguel.gutierrez@unab.cl
SEQUENCE:14
SUMMARY:Securing Internet provision from IoT attacks (charla en Español)
URL;VALUE=URI:https://events.vtools.ieee.org/m/362163
X-ALT-DESC:Description: &lt;br /&gt;&lt;p&gt;&quot;Securing Internet provision from IoT atta
 cks&quot;&lt;br /&gt;&lt;br /&gt;Esta charla trata la creciente necesidad de detectar intr
 usiones en hogares con dispositivos IoT\, lo que representa un desaf&amp;iacut
 e\;o reciente para los proveedores de servicios de Internet. Se presentan 
 resultados del proyecto ITEA MIRAI\, que propone un enfoque de inteligenci
 a artificial distribuida para dispositivos de borde\, con la finalidad de 
 proveer una conexi&amp;oacute\;n segura a Internet. Se destacan resultados tem
 pranos para detectar tr&amp;aacute\;fico potencialmente malicioso utilizando m
 &amp;eacute\;todos de aprendizaje autom&amp;aacute\;tico one-class en el enrutador
  del hogar\, y se analiza la influencia del tama&amp;ntilde\;o del conjunto de
  entrenamiento en el tama&amp;ntilde\;o y tiempo de ejecuci&amp;oacute\;n de los m
 odelos de inferencia. Asimismo\, se aborda el desarrollo\, implementaci&amp;oa
 cute\;n y control de estos modelos\, aspectos cruciales para garantizar la
  seguridad en los hogares conectados.&lt;/p&gt;\n&lt;p&gt;&lt;strong&gt;--------------------
 --------------------------------------------------------------------&lt;br /&gt;
 Luis Almeida&lt;/strong&gt; se gradu&amp;oacute\; en la Universidad de Aveiro en Por
 tugal y actualmente es Profesor Asociado con Habilitaci&amp;oacute\;n en el De
 partamento. de Ingenier&amp;iacute\;a El&amp;eacute\;ctrica y de Computaci&amp;oacute\
 ;n de la Universidade do Porto\, Portugal\, donde coordina el laboratorio 
 de Sistemas Embebidos Distribuidos y en Tiempo Real (DaRTES). Tambi&amp;eacute
 \;n es Vice-Director del Centro de Investigaci&amp;oacute\;n CISTER - Research
  Centre in Real-Time and Embedded Computing Systems\, Ex-Chair del Comit&amp;e
 acute\; T&amp;eacute\;cnico de Sistemas en Tiempo Real (TCRTS - Technical Comm
 ittee on Real-Time Systems) del IEEE (Chair en 2020-2021) y Chair de EMSIG
 \, el Grupo de Inter&amp;eacute\;s Especial en Sistemas Embebidos de la Asocia
 ci&amp;oacute\;n de Dise&amp;ntilde\;o de Circuitos y Sistemas Electr&amp;oacute\;nico
 s (EDAA). Es Editor en Jefe de la revista Springer Journal of Real-Time Sy
 stems y Editor Asociado de la revista Elsevier Journal of Systems Architec
 ture y la revista internacional SAGE International Journal on Advanced Rob
 otic Systems. Fue Chair de Programa y Chair General del Simposio de Sistem
 as en Tiempo Real del IEEE (RTSS) en 2011 y 2012\, respectivamente\, y Co-
 Chair Local en 2016\, as&amp;iacute\; como Co-Chair General de CPS-Week 2018. 
 Tambi&amp;eacute\;n fue Fideicomisario de la RoboCup Federation de 2008 a 2016
  y Vicepresidente de 2011 a 2013. Ha participado en numerosos proyectos de
  investigaci&amp;oacute\;n financiados a nivel nacional e internacional y part
 icipa regularmente en la organizaci&amp;oacute\;n de eventos cient&amp;iacute\;fic
 os en comunicaciones en tiempo real para sistemas industriales/embebidos d
 istribuidos\, equipos de agentes cooperativos y redes de sensores.&lt;/p&gt;
END:VEVENT
END:VCALENDAR

