BEGIN:VCALENDAR
VERSION:2.0
PRODID:IEEE vTools.Events//EN
CALSCALE:GREGORIAN
BEGIN:VTIMEZONE
TZID:Europe/Madrid
BEGIN:DAYLIGHT
DTSTART:20230326T030000
TZOFFSETFROM:+0100
TZOFFSETTO:+0200
RRULE:FREQ=YEARLY;BYDAY=-1SU;BYMONTH=3
TZNAME:CEST
END:DAYLIGHT
BEGIN:STANDARD
DTSTART:20231029T020000
TZOFFSETFROM:+0200
TZOFFSETTO:+0100
RRULE:FREQ=YEARLY;BYDAY=-1SU;BYMONTH=10
TZNAME:CET
END:STANDARD
END:VTIMEZONE
BEGIN:VEVENT
DTSTAMP:20231231T134709Z
UID:F20DB191-ECFE-4410-B873-603D1ECF4FC1
DTSTART;TZID=Europe/Madrid:20230606T170000
DTEND;TZID=Europe/Madrid:20230606T200000
DESCRIPTION:IEEE PES ESPAÑA &amp; CATEDRA ENDESA USevilla | PANEL SESSION 6.06
 .2023] MODEL-BASED AND DATA-DRIVEN TOOLS FOR SMART GRIDS\n\nIn this occasi
 on IEEE PES SPAIN Chapter collaborates sponsoring\n\nPANEL SESSION &quot;MODEL-
 BASED AND DATA-DRIVEN TOOLS FOR SMART GRIDS&quot;\n\norganized by Catedra Endes
 a en la Universidad de Sevilla\n\nin the frame of\n\nDoctorate Programme I
 nteruniversity in &quot;Electrical Engineering Systems&quot;\n(Universities of Sevil
 le\, Basque Country\, Malaga and Polytechnic University of Catalonia)\n\nT
 he Panel consists of\n\nTitle: Towards Full Observability and Controllabil
 ity of Smart Distribution Grids\nSpeaker: Prof. Antonio Gómez-Expósito (
 University of Seville)\n\nTitle: A Comprehensive Look at Three-Phase Power
  Grid Monitoring\nSpeaker: Prof. Ali Abur (Northeastem University\, Boston
 )\n\nTitle: Distribution network assessment using a model-less approach\nS
 peaker: Prof. Nando Ochoa Pizzali (University Of Melbourne)\n\n(Content an
 d bio see below)\n\nModerator: J.M. Maza-Ortega (Universidad de Sevilla)\n
 \nDate: 6 junio 2023\nTime: 17:00 (Europa-Madrid)\nLanguage: English\nAtte
 ndance: Hybrid (In-person and Virtual)\n\nParticipation in this PANEL is o
 pen to everyone\, including both PES Members and non-Members. However\, RE
 GISTRATION is necessary in order to receive the Panel access link and URL 
 to WebEx. The Connection link will be sent to the registrants by e-mail on
  the event day at 11:30 (Europa-Madrid).\n\nThe direct access to the REGIS
 TRATION is at:\n\nhttps://events.vtools.ieee.org/event/register/362328\n\n
 For further information:\n\nhttps://events.vtools.ieee.org/m/362328\n\n* D
 ownload leaflet [here.](http://lbcalmaq.webs.uvigo.es/PES.ES/20230606 PANE
 L SESSION.pdf)\n\nThe IEEE PES ESPAÑA System issues participation certifi
 cates in these [Webinars] to the attendees under request. The necessary co
 ndition for the System to issue the certificate is that the attendee must 
 participate with at least one voice question during the question time.\n\n
 Looking forward to seeing you.\n\nKind regards\,\n\nXose M. López-Fernán
 dez\nChair\, [IEEE PES Spain Chapter](https://r8.ieee.org/spain-pes)\nEmai
 l: xmlopez@uvigo.es\n[http://webs.uvigo.es/xmlopez](http://enotice.ieee.or
 g/link.cfm?r=2t13DaV1ZQMWdxFUYxE9AA~~&amp;pe=witkeIz8LkoUZhulkk1sx9E_1rKgceS0P
 T-I3sEMmkolP5KhdQvJt1UgDYhS1dKffWoWT6ki6UJ7wxyrpcMoGA~~&amp;t=dWSU4qsc8D7Oq-bf
 MacKwQ~~)\nhttps://r8.ieee.org/spain-pes/\n\nCo-sponsored by: Catedra Ende
 sa de la Universidad de Sevilla | RedINtransf\n\nSpeaker(s): \, \, \n\nBld
 g: ETS de Ingeniería \, Salón de Grados\, Universidad de Sevilla\, Sevil
 le\, Andalucia\, Spain\, Virtual: https://events.vtools.ieee.org/m/362328
LOCATION:Bldg: ETS de Ingeniería \, Salón de Grados\, Universidad de Sevi
 lla\, Seville\, Andalucia\, Spain\, Virtual: https://events.vtools.ieee.or
 g/m/362328
ORGANIZER:xmlopez@ieee.org
SEQUENCE:88
SUMMARY:IEEE PES ESPAÑA &amp; CATEDRA ENDESA USevilla | PANEL SESSION [6.06.20
 23] MODEL-BASED AND DATA-DRIVEN TOOLS FOR SMART GRIDS
URL;VALUE=URI:https://events.vtools.ieee.org/m/362328
X-ALT-DESC:Description: &lt;br /&gt;&lt;p&gt;IEEE PES ESPA&amp;Ntilde\;A &amp;amp\; CATEDRA END
 ESA USevilla | PANEL SESSION 6.06.2023] &lt;strong&gt;MODEL-BASED AND DATA-DRIVE
 N TOOLS FOR SMART GRIDS&lt;/strong&gt;&lt;/p&gt;\n&lt;p&gt;&amp;nbsp\;&lt;/p&gt;\n&lt;p&gt;&amp;nbsp\;&lt;/p&gt;\n&lt;p&gt;&amp;
 nbsp\;&lt;/p&gt;\n&lt;p&gt;In this occasion &lt;strong&gt;&lt;span style=&quot;color: #339966\;&quot;&gt;&lt;sp
 an style=&quot;color: #99cc00\;&quot;&gt;IEEE PES SPAIN Chapter&lt;/span&gt;&lt;/span&gt;&lt;/strong&gt;&lt;
 span style=&quot;color: #339966\;&quot;&gt;&lt;span style=&quot;color: #99cc00\;&quot;&gt;&lt;span style=&quot;
 color: #000000\;&quot;&gt; collaborates sponsoring&lt;/span&gt;&lt;/span&gt;&lt;span style=&quot;color
 : #99cc00\;&quot;&gt;&lt;span style=&quot;color: #000000\;&quot;&gt;&lt;br /&gt;&lt;/span&gt;&lt;/span&gt;&lt;/span&gt;&lt;/p
 &gt;\n&lt;p&gt;&lt;span style=&quot;color: #339966\; font-size: 14pt\;&quot;&gt;&lt;span style=&quot;color:
  #99cc00\;&quot;&gt;&lt;span style=&quot;color: #000000\;&quot;&gt;PANEL SESSION &lt;strong&gt;&quot;&lt;span st
 yle=&quot;color: #1800ff\;&quot;&gt;MODEL-BASED AND DATA-DRIVEN TOOLS FOR SMART GRIDS&lt;/
 span&gt;&quot;&lt;/strong&gt;&lt;/span&gt;&lt;/span&gt;&lt;/span&gt;&lt;/p&gt;\n&lt;p&gt;organized by&amp;nbsp\; &lt;span sty
 le=&quot;color: #236fa1\; font-size: 14pt\;&quot;&gt;Catedra Endesa en la Universidad d
 e Sevilla&lt;/span&gt;&lt;/p&gt;\n&lt;p&gt;in the frame of&lt;strong&gt; &lt;/strong&gt;&lt;/p&gt;\n&lt;p&gt;&lt;strong
 &gt;Doctorate Programme Interuniversity in &quot;Electrical Engineering Systems&quot;&lt;/
 strong&gt; &lt;br /&gt;&lt;span style=&quot;font-size: 10pt\;&quot;&gt;(Universities of Seville\, B
 asque Country\, Malaga and Polytechnic University of Catalonia)&lt;/span&gt;&lt;/p&gt;
 \n&lt;p&gt;The Panel consists of&lt;/p&gt;\n&lt;p&gt;Title: &lt;span style=&quot;font-size: 14pt\;&quot;&gt;
 &lt;strong&gt;Towards Full Observability and Controllability of Smart Distributi
 on Grids&lt;/strong&gt;&lt;/span&gt;&lt;br /&gt;Speaker: Prof. Antonio G&amp;oacute\;mez-Exp&amp;oac
 ute\;sito (University of Seville)&lt;/p&gt;\n&lt;p&gt;Title: &lt;span style=&quot;font-size: 1
 4pt\;&quot;&gt;&lt;strong&gt;A Comprehensive Look at Three-Phase Power Grid Monitoring&lt;/
 strong&gt;&lt;/span&gt;&lt;br /&gt;Speaker: Prof. Ali Abur (Northeastem University\, Bost
 on)&lt;/p&gt;\n&lt;p&gt;Title: &lt;span style=&quot;font-size: 14pt\;&quot;&gt;&lt;strong&gt;Distribution ne
 twork assessment using a model-less approach&lt;/strong&gt;&lt;/span&gt;&lt;br /&gt;Speaker:
  Prof. Nando Ochoa Pizzali (University Of Melbourne)&lt;/p&gt;\n&lt;p&gt;&lt;span style=&quot;
 font-size: 10pt\;&quot;&gt;(Content and bio see below&lt;/span&gt;)&lt;/p&gt;\n&lt;p&gt;&amp;nbsp\;&lt;/p&gt;\
 n&lt;p&gt;Moderator: J.M. Maza-Ortega (Universidad de Sevilla)&lt;/p&gt;\n&lt;p&gt;Date: 6 j
 unio 2023&lt;br /&gt;Time: 17:00 (Europa-Madrid)&lt;br /&gt;Language: English&lt;br /&gt;Att
 endance: Hybrid (In-person and Virtual)&lt;/p&gt;\n&lt;p&gt;&amp;nbsp\;&lt;/p&gt;\n&lt;p&gt;Participat
 ion in this PANEL is open to everyone\, including both PES Members and non
 -Members. However\, REGISTRATION is necessary in order to receive the Pane
 l access link and URL to WebEx. The Connection link will be sent to the re
 gistrants by e-mail on the event day at 11:30 (Europa-Madrid).&lt;/p&gt;\n&lt;p&gt;The
  direct access to the REGISTRATION is at:&lt;/p&gt;\n&lt;p&gt;&lt;a href=&quot;https://events.
 vtools.ieee.org/event/register/362328&quot;&gt;https://events.vtools.ieee.org/even
 t/register/362328&lt;/a&gt;&lt;/p&gt;\n&lt;p&gt;For further information:&lt;/p&gt;\n&lt;p&gt;&lt;a href=&quot;ht
 tps://events.vtools.ieee.org/m/362328&quot;&gt;https://events.vtools.ieee.org/m/36
 2328&lt;/a&gt;&lt;/p&gt;\n&lt;p&gt;* Download leaflet &lt;a href=&quot;http://lbcalmaq.webs.uvigo.es
 /PES.ES/20230606 PANEL SESSION.pdf&quot; target=&quot;_blank&quot; rel=&quot;noopener&quot;&gt;here.&lt;/
 a&gt;&lt;/p&gt;\n&lt;p&gt;&amp;nbsp\;&lt;/p&gt;\n&lt;p&gt;The IEEE PES ESPA&amp;Ntilde\;A System issues parti
 cipation certificates in these [Webinars] to the attendees under request. 
 The necessary condition for the System to issue the certificate is that th
 e attendee must participate with at least one voice question during the qu
 estion time.&lt;/p&gt;\n&lt;p&gt;Looking forward to seeing you.&lt;/p&gt;\n&lt;p&gt;Kind regards\,
 &lt;/p&gt;\n&lt;p&gt;Xose M. L&amp;oacute\;pez-Fern&amp;aacute\;ndez&lt;br /&gt;&lt;span style=&quot;font-si
 ze: 8pt\;&quot;&gt;Chair\, &lt;a href=&quot;https://r8.ieee.org/spain-pes&quot;&gt;IEEE PES Spain 
 Chapter&lt;/a&gt;&lt;/span&gt;&lt;br /&gt;&lt;span style=&quot;font-size: 8pt\;&quot;&gt; Email: &lt;a href=&quot;ma
 ilto:xmlopez@uvigo.es&quot;&gt;xmlopez@uvigo.es&lt;/a&gt;&lt;/span&gt;&lt;br /&gt;&lt;span style=&quot;font-
 size: 8pt\;&quot;&gt; &lt;a href=&quot;http://enotice.ieee.org/link.cfm?r=2t13DaV1ZQMWdxFU
 YxE9AA~~&amp;amp\;pe=witkeIz8LkoUZhulkk1sx9E_1rKgceS0PT-I3sEMmkolP5KhdQvJt1UgD
 YhS1dKffWoWT6ki6UJ7wxyrpcMoGA~~&amp;amp\;t=dWSU4qsc8D7Oq-bfMacKwQ~~&quot;&gt;http://we
 bs.uvigo.es/xmlopez&lt;/a&gt;&lt;/span&gt;&lt;br /&gt;&lt;a href=&quot;https://r8.ieee.org/spain-pes
 /&quot;&gt;&lt;span style=&quot;font-size: 8pt\;&quot;&gt;https://r8.ieee.org/spain-pes/&lt;/span&gt;&lt;/a
 &gt;&lt;/p&gt;
END:VEVENT
END:VCALENDAR

