BEGIN:VCALENDAR
VERSION:2.0
PRODID:IEEE vTools.Events//EN
CALSCALE:GREGORIAN
BEGIN:VTIMEZONE
TZID:America/New_York
BEGIN:DAYLIGHT
DTSTART:20230312T030000
TZOFFSETFROM:-0500
TZOFFSETTO:-0400
RRULE:FREQ=YEARLY;BYDAY=2SU;BYMONTH=3
TZNAME:EDT
END:DAYLIGHT
BEGIN:STANDARD
DTSTART:20231105T010000
TZOFFSETFROM:-0400
TZOFFSETTO:-0500
RRULE:FREQ=YEARLY;BYDAY=1SU;BYMONTH=11
TZNAME:EST
END:STANDARD
END:VTIMEZONE
BEGIN:VEVENT
DTSTAMP:20230615T211059Z
UID:491BEED5-7CD6-48BC-BD58-C9EE14329903
DTSTART;TZID=America/New_York:20230610T120000
DTEND;TZID=America/New_York:20230610T150000
DESCRIPTION:Come and join us as we have our summer kickoff picnic at Motts 
 Run Reservoir Recreation Area near Fredericksburg on June 10th at 12:00 PM
 . We&#39;re hoping that you and your families can join us as we kick off the s
 ummer together and enjoy some food\, drink\, and outdoor activities as an 
 IEEE community. Food and drink will be provided by the IEEE Richmond secti
 on (Vegetarian Options Available). Participation in other activities will 
 be at your own cost. Please register HERE so we know how much food and dri
 nk to purchase. If you decide at the last minute to attend\, that’s okay
  as we will have extra food for you!\n\nAs we spend time together\, we’l
 l discuss our current plans for the coming year and ask for your ideas to 
 support our members even better.\n\nMotts Run Reservoir Recreation Area is
  a lovely oasis within easy reach of Fredericksburg and provides a multitu
 de of recreational opportunities. The 860-acre natural area\, including th
 e 160-acre reservoir\, is a haven for fishing\, canoeing\, hiking\, biking
 \, and picnicking. More information here: https://www.fredericksburgva.gov
 /1154/Motts-Run\n\nPre Event Hike @ 10:00AM - There will also be a Pre-Eve
 nt hike for those interested in exploring the park more. Hike will start a
 t 10:00AM\, and will follow either Mine Run Trail\, or LakeView Trail depe
 nding on interest. Trail Map can be found at this link - https://www.frede
 ricksburgva.gov/DocumentCenter/View/7304/Motts-Run-Reservoir-Trail-Guide-P
 DF?bidId=\n\nAgenda: \n10:00am - Pre-Event Hike (Mine Run Trail\, or Lakev
 iew Trail)\n\n12:00pm - Picnic\n\n3:00pm - Cleanup\n\nBldg: Motts Run Mott
 s Run Reservoir Recreation Area \, 6600 River Road\, Picnic Shelter\, Fred
 ericksburg\, Virginia\, United States\, 22407
LOCATION:Bldg: Motts Run Motts Run Reservoir Recreation Area \, 6600 River 
 Road\, Picnic Shelter\, Fredericksburg\, Virginia\, United States\, 22407
ORGANIZER:james.imanian@ieee.org
SEQUENCE:21
SUMMARY:IEEE Richmond Section Summer Kickoff Hike &amp; Picnic
URL;VALUE=URI:https://events.vtools.ieee.org/m/362767
X-ALT-DESC:Description: &lt;br /&gt;&lt;p&gt;&lt;span style=&quot;font-weight: 400\;&quot;&gt;Come and 
 join us as we have our summer kickoff picnic at Motts Run Reservoir Recrea
 tion Area near Fredericksburg on June 10th at 12:00 PM. We&#39;re hoping that 
 you and your families can join us as we kick off the summer together and e
 njoy some food\, drink\, and outdoor activities as an IEEE community. Food
  and drink will be provided by the IEEE Richmond section (Vegetarian Optio
 ns Available). Participation in other activities will be at your own cost.
  Please register HERE so we know how much food and drink to purchase. If y
 ou decide at the last minute to attend\, that&amp;rsquo\;s okay as we will hav
 e extra food for you!&lt;/span&gt;&lt;/p&gt;\n&lt;p&gt;&lt;span style=&quot;font-weight: 400\;&quot;&gt;As w
 e spend time together\, we&amp;rsquo\;ll discuss our current plans for the com
 ing year and ask for your ideas to support our members even better.&amp;nbsp\;
 &lt;/span&gt;&lt;/p&gt;\n&lt;p&gt;&lt;span style=&quot;font-weight: 400\;&quot;&gt;Motts Run Reservoir Recre
 ation Area&lt;/span&gt;&lt;span style=&quot;font-weight: 400\;&quot;&gt; is a lovely oasis withi
 n easy reach of Fredericksburg and provides a multitude of recreational op
 portunities. The 860-acre natural area\, including the 160-acre reservoir\
 , is a haven for fishing\, canoeing\, hiking\, biking\, and picnicking. Mo
 re information here: &lt;/span&gt;&lt;a href=&quot;https://www.fredericksburgva.gov/1154
 /Motts-Run&quot;&gt;&lt;span style=&quot;font-weight: 400\;&quot;&gt;https://www.fredericksburgva.
 gov/1154/Motts-Run&lt;/span&gt;&lt;/a&gt;&lt;/p&gt;\n&lt;p&gt;&lt;span style=&quot;font-weight: 400\;&quot;&gt;Pre
  Event Hike @ 10:00AM - There will also be a Pre-Event hike for those inte
 rested in exploring the park more. Hike will start at 10:00AM\, and will f
 ollow either Mine Run Trail\, or LakeView Trail depending on interest. Tra
 il Map can be found at this link -&amp;nbsp\; &lt;/span&gt;&lt;a href=&quot;https://www.fred
 ericksburgva.gov/DocumentCenter/View/7304/Motts-Run-Reservoir-Trail-Guide-
 PDF?bidId=&quot;&gt;&lt;span style=&quot;font-weight: 400\;&quot;&gt;https://www.fredericksburgva.
 gov/DocumentCenter/View/7304/Motts-Run-Reservoir-Trail-Guide-PDF?bidId=&lt;/s
 pan&gt;&lt;/a&gt;&lt;span style=&quot;font-weight: 400\;&quot;&gt;&amp;nbsp\;&lt;/span&gt;&lt;/p&gt;&lt;br /&gt;&lt;br /&gt;Age
 nda: &lt;br /&gt;&lt;p&gt;10:00am - Pre-Event Hike (Mine Run Trail\, or Lakeview Trail
 )&lt;/p&gt;\n&lt;p&gt;12:00pm - Picnic&lt;/p&gt;\n&lt;p&gt;3:00pm - Cleanup&lt;/p&gt;
END:VEVENT
END:VCALENDAR

