BEGIN:VCALENDAR
VERSION:2.0
PRODID:IEEE vTools.Events//EN
CALSCALE:GREGORIAN
BEGIN:VTIMEZONE
TZID:America/Mexico_City
BEGIN:STANDARD
DTSTART:20221030T010000
TZOFFSETFROM:-0500
TZOFFSETTO:-0600
TZNAME:CST
END:STANDARD
END:VTIMEZONE
BEGIN:VEVENT
DTSTAMP:20230608T005507Z
UID:FF9DF36F-C4A6-47E4-851D-0FBA1C8E516A
DTSTART;TZID=America/Mexico_City:20230603T120000
DTEND;TZID=America/Mexico_City:20230603T140000
DESCRIPTION:Utilizar el juego de la loteria y memorama para aprender de per
 sonajes y términos de la industria de los semiconductores.\n\nCo-sponsore
 d by: Cinvestav\; IPN\; CNMN\; \n\nAgenda: \n4:00 PM\, Thursday 30th May -
  1:30 PM\, Saturday 3rd June\, Virtual registration\n\n12:00 - 14:00 Satur
 tday 3rd June\, Playing and Applying with Electronics\n\nBldg: Museo Tezoz
 ómoc\, Museo Tezozómoc\, Av. Zempoaltecas s/n Esq. Av. Manuel Salazar Ex
 hacienda el Rosario\, Ciudad de Mexico \, Distrito Federal\, Mexico\, 0242
 0
LOCATION:Bldg: Museo Tezozómoc\, Museo Tezozómoc\, Av. Zempoaltecas s/n E
 sq. Av. Manuel Salazar Exhacienda el Rosario\, Ciudad de Mexico \, Distrit
 o Federal\, Mexico\, 02420
ORGANIZER:abril.garcia.soriano@cinvestav.mx
SEQUENCE:20
SUMMARY:Loteria y memorama de los semiconductores 
URL;VALUE=URI:https://events.vtools.ieee.org/m/362859
X-ALT-DESC:Description: &lt;br /&gt;&lt;p&gt;Utilizar el juego de la loteria y memorama
  para aprender de personajes y t&amp;eacute\;rminos de la industria de los sem
 iconductores.&lt;/p&gt;&lt;br /&gt;&lt;br /&gt;Agenda: &lt;br /&gt;&lt;p&gt;4:00 PM\, Thursday 30th May 
 - 1:30 PM\, Saturday &amp;nbsp\;3rd June\,&amp;nbsp\; Virtual registration&lt;/p&gt;\n&lt;p
 &gt;12:00 - 14:00&amp;nbsp\; Saturtday 3rd June\,&amp;nbsp\; Playing and Applying wit
 h Electronics&lt;/p&gt;\n&lt;p&gt;&amp;nbsp\;&lt;/p&gt;
END:VEVENT
END:VCALENDAR

