BEGIN:VCALENDAR
VERSION:2.0
PRODID:IEEE vTools.Events//EN
CALSCALE:GREGORIAN
BEGIN:VTIMEZONE
TZID:America/Mexico_City
BEGIN:STANDARD
DTSTART:20221030T010000
TZOFFSETFROM:-0500
TZOFFSETTO:-0600
TZNAME:CST
END:STANDARD
END:VTIMEZONE
BEGIN:VEVENT
DTSTAMP:20230620T014711Z
UID:8B4DABDD-44CE-4964-B894-C45B16F8C7F5
DTSTART;TZID=America/Mexico_City:20230609T150000
DTEND;TZID=America/Mexico_City:20230609T160000
DESCRIPTION:This event is targeted towards undergraduate students who are c
 lose to graduating\, as well as master&#39;s and PhD students and young profes
 sionals. The main objective is to provide them with valuable information a
 bout the benefits of joining IEEE Young Professionals\, as well as an over
 view of the general opportunities available to advance their professional 
 careers. Among the options\, we find different types of scholarships\, res
 earch publications in higher education\, ways to searching better jobs in 
 the industrial context\, and gain knowledge about different methods of int
 ellectual property and quality standard to help them continue their own pr
 ojects or start companies.\n\nIEEE and YP benefits and description.\nThree
  career branches:\nAcademic sector\n▪ Types of scholarships\n▪ Researc
 h assistantship and work opportunities at school\n▪ Participation in pub
 lic research programs (such as SNI in Mexico)\n▪ Research opportunities 
 in industry\n▪ Patent\, licensing\, and intellectual property rights\n
 ▪ Access to IEEE papers\, conferences\, and academic network.\n\nIndustr
 ial sector\n▪ Internship\n▪ Rotation program\n▪ Grades (levels\, jun
 ior\, senior\, fellow)\n▪ Types of contracts and benefits\n▪ Informati
 on of different local companies\n▪ Search considerations and tools\n▪ 
 IEEE workshops to help bridge the gap between academia and industry.\n\nEn
 trepreneurship sector\n▪ Types of enterprises and civic societies\n▪ I
 nvestment and funding opportunities\n▪ Certifications and quality standa
 rd\n▪ Patents\, licenses\, and intellectual property rights\n▪ IEEE st
 andards\, innovation networks\, and funding opportunities.\n\nSpeaker(s): 
 GERMAN PINEDO\, VALERIA GONZALEZ\n\nAV DEL BOSQUE\, 1145\, ZAPOPAN\, Jalis
 co\, Mexico\, 45017\, Virtual: https://events.vtools.ieee.org/m/362873
LOCATION:AV DEL BOSQUE\, 1145\, ZAPOPAN\, Jalisco\, Mexico\, 45017\, Virtua
 l: https://events.vtools.ieee.org/m/362873
ORGANIZER:gpinedodiaz@ieee.org
SEQUENCE:29
SUMMARY:Transition to YP and career development
URL;VALUE=URI:https://events.vtools.ieee.org/m/362873
X-ALT-DESC:Description: &lt;br /&gt;&lt;p&gt;This event is targeted towards undergradua
 te students who are close to graduating\, as well as master&#39;s and PhD stud
 ents and young professionals. The main objective is to provide them with v
 aluable information about the benefits of joining IEEE Young Professionals
 \, as well as an overview of the general opportunities available to advanc
 e their professional careers. Among the options\, we find different types 
 of scholarships\, research publications in higher education\, ways to sear
 ching better jobs in the industrial context\, and gain knowledge about dif
 ferent methods of intellectual property and quality standard to help them 
 continue their own projects or start companies.&lt;/p&gt;\n&lt;p&gt;IEEE and YP benefi
 ts and description.&lt;br /&gt;Three career branches:&lt;br /&gt;Academic sector&lt;br /&gt;
 ▪ Types of scholarships&lt;br /&gt;▪ Research assistantship and work opportu
 nities at school&lt;br /&gt;▪ Participation in public research programs (such 
 as SNI in Mexico)&lt;br /&gt;▪ Research opportunities in industry&lt;br /&gt;▪ Pat
 ent\, licensing\, and intellectual property rights&lt;br /&gt;▪ Access to IEEE
  papers\, conferences\, and academic network.&lt;/p&gt;\n&lt;p&gt;Industrial sector&lt;br
  /&gt;▪ Internship&lt;br /&gt;▪ Rotation program&lt;br /&gt;▪ Grades (levels\, juni
 or\, senior\, fellow)&lt;br /&gt;▪ Types of contracts and benefits&lt;br /&gt;▪ In
 formation of different local companies&lt;br /&gt;▪ Search considerations and 
 tools&lt;br /&gt;▪ IEEE workshops to help bridge the gap between academia and 
 industry.&lt;/p&gt;\n&lt;p&gt;Entrepreneurship sector&lt;br /&gt;▪ Types of enterprises an
 d civic societies&lt;br /&gt;▪ Investment and funding opportunities&lt;br /&gt;▪ C
 ertifications and quality standard&lt;br /&gt;▪ Patents\, licenses\, and intel
 lectual property rights&lt;br /&gt;▪ IEEE standards\, innovation networks\, an
 d funding opportunities.&lt;/p&gt;
END:VEVENT
END:VCALENDAR

