BEGIN:VCALENDAR
VERSION:2.0
PRODID:IEEE vTools.Events//EN
CALSCALE:GREGORIAN
BEGIN:VTIMEZONE
TZID:America/New_York
BEGIN:DAYLIGHT
DTSTART:20230312T030000
TZOFFSETFROM:-0500
TZOFFSETTO:-0400
RRULE:FREQ=YEARLY;BYDAY=2SU;BYMONTH=3
TZNAME:EDT
END:DAYLIGHT
BEGIN:STANDARD
DTSTART:20231105T010000
TZOFFSETFROM:-0400
TZOFFSETTO:-0500
RRULE:FREQ=YEARLY;BYDAY=1SU;BYMONTH=11
TZNAME:EST
END:STANDARD
END:VTIMEZONE
BEGIN:VEVENT
DTSTAMP:20230615T210039Z
UID:8B90454B-3B6F-46A7-82C4-3159F6E990E0
DTSTART;TZID=America/New_York:20230615T115900
DTEND;TZID=America/New_York:20230615T130000
DESCRIPTION:This talk will familiarize participants with a vision for Grid 
 Modernization\, focusing on technological advancements beyond Smart Grid. 
 The technological advancements include discussions of key industry/societa
 l trends\, Smart Grid concepts\, holistic solutions\, integration of micro
 grids and distributed generation\, and Advanced Distribution Management Sy
 stem (ADMS) software applications. The talk will also cover feeder automat
 ion business models\, managing different types of data\, big data\, analyt
 ics\, enterprise data management\, Smart Grid standards and interoperabili
 ty\, and Smart Grid deployments and lessons learned.\n\nSpeaker(s): John D
 . McDonald\, \n\nVirtual: https://events.vtools.ieee.org/m/363152
LOCATION:Virtual: https://events.vtools.ieee.org/m/363152
ORGANIZER:tawdessupriya@gmail.com
SEQUENCE:17
SUMMARY:IEEE Schenectady Section Meeting_June 15th_Grid Modernization: Tech
 nological Advancements Beyond Smart Grid (1PDH Credit)
URL;VALUE=URI:https://events.vtools.ieee.org/m/363152
X-ALT-DESC:Description: &lt;br /&gt;&lt;p&gt;This talk will familiarize participants wi
 th a vision for Grid Modernization\, focusing on technological advancement
 s beyond Smart Grid. The technological advancements include discussions of
  key industry/societal trends\, Smart Grid concepts\, holistic solutions\,
  integration of microgrids and distributed generation\, and Advanced Distr
 ibution Management System (ADMS) software applications. The talk will also
  cover feeder automation business models\, managing different types of dat
 a\, big data\, analytics\, enterprise data management\, Smart Grid standar
 ds and interoperability\, and Smart Grid deployments and lessons learned.&lt;
 /p&gt;
END:VEVENT
END:VCALENDAR

