BEGIN:VCALENDAR
VERSION:2.0
PRODID:IEEE vTools.Events//EN
CALSCALE:GREGORIAN
BEGIN:VTIMEZONE
TZID:America/Chicago
BEGIN:DAYLIGHT
DTSTART:20230312T030000
TZOFFSETFROM:-0600
TZOFFSETTO:-0500
RRULE:FREQ=YEARLY;BYDAY=2SU;BYMONTH=3
TZNAME:CDT
END:DAYLIGHT
BEGIN:STANDARD
DTSTART:20231105T010000
TZOFFSETFROM:-0500
TZOFFSETTO:-0600
RRULE:FREQ=YEARLY;BYDAY=1SU;BYMONTH=11
TZNAME:CST
END:STANDARD
END:VTIMEZONE
BEGIN:VEVENT
DTSTAMP:20230807T140354Z
UID:9499F3D6-E21C-46EE-AFDD-88D7ABFDB1B4
DTSTART;TZID=America/Chicago:20230803T180000
DTEND;TZID=America/Chicago:20230803T210000
DESCRIPTION:Hello Winnipeg IEEE members and Capstone award candidates\,\n\n
 Join us for Networking and a BBQ as we hand out IEEE awards to Capstone te
 ams. This event is hosted by Winnipeg YP in St. Vital Park\, at picnic sit
 e #4. The event is free for IEEE members and Capstone award candidates\, o
 r $5 for everyone else to cover food costs.\n\nRegistration is required.\n
 \nBldg: Picnic Site #4\, St. Vital Park\, Winnipeg\, Manitoba\, Canada
LOCATION:Bldg: Picnic Site #4\, St. Vital Park\, Winnipeg\, Manitoba\, Cana
 da
ORGANIZER:andrew.fisher@ieee.org
SEQUENCE:14
SUMMARY:Winnipeg IEEE Capstone Award BBQ
URL;VALUE=URI:https://events.vtools.ieee.org/m/363208
X-ALT-DESC:Description: &lt;br /&gt;&lt;p&gt;Hello Winnipeg IEEE members and Capstone a
 ward candidates\,&lt;/p&gt;\n&lt;p&gt;Join us for Networking and a BBQ as we hand out 
 IEEE awards to Capstone teams. This event is hosted by Winnipeg YP in &lt;str
 ong&gt;St. Vital Park\, at picnic site #4&lt;/strong&gt;. The event is free for IEE
 E members and Capstone award candidates\, or $5 for everyone else to cover
  food costs.&lt;/p&gt;\n&lt;p&gt;Registration is required.&lt;/p&gt;
END:VEVENT
END:VCALENDAR

