BEGIN:VCALENDAR
VERSION:2.0
PRODID:IEEE vTools.Events//EN
CALSCALE:GREGORIAN
BEGIN:VTIMEZONE
TZID:America/Chicago
BEGIN:DAYLIGHT
DTSTART:20230312T030000
TZOFFSETFROM:-0600
TZOFFSETTO:-0500
RRULE:FREQ=YEARLY;BYDAY=2SU;BYMONTH=3
TZNAME:CDT
END:DAYLIGHT
BEGIN:STANDARD
DTSTART:20231105T010000
TZOFFSETFROM:-0500
TZOFFSETTO:-0600
RRULE:FREQ=YEARLY;BYDAY=1SU;BYMONTH=11
TZNAME:CST
END:STANDARD
END:VTIMEZONE
BEGIN:VEVENT
DTSTAMP:20231112T140826Z
UID:1AE8E8C0-C583-4E2A-980C-E39CDA3AD918
DTSTART;TZID=America/Chicago:20230614T090000
DTEND;TZID=America/Chicago:20230614T100000
DESCRIPTION:In a context of growing asymmetric conflicts in which unconvent
 ional mines and other improvised explosive ordnance are used in many diffe
 rent ways\, attention has to be paid to technological and organizational s
 olutions allowing for more effectivity in mine action. Legacy contaminatio
 n as well as new and ongoing contaminations call for responses that take a
 dvantage of the latest developments in all mine action-related fields.\n\n
 The International CBRNE Institute (Belgium) and its network partners are d
 eveloping solutions in order to guarantee the safety of the responders\, t
 he efficiency of the methods used\, and the possibility of better collabor
 ation among different actors.\n\nSpeaker(s): Prof Baudoin\, \n\nVirtual: h
 ttps://events.vtools.ieee.org/m/363400
LOCATION:Virtual: https://events.vtools.ieee.org/m/363400
ORGANIZER:ztaqvi@gmail.com
SEQUENCE:42
SUMMARY:How can we assure mine actions effectivity in current and past conf
 lict areas?
URL;VALUE=URI:https://events.vtools.ieee.org/m/363400
X-ALT-DESC:Description: &lt;br /&gt;&lt;p&gt;In a context of growing asymmetric conflic
 ts in which unconventional mines and other improvised explosive ordnance a
 re used in many different ways\, attention has to be paid to technological
  and organizational solutions allowing for more effectivity in mine action
 . Legacy contamination as well as new and ongoing contaminations call for 
 responses that take advantage of the latest developments in all mine actio
 n-related fields.&lt;/p&gt;\n&lt;p&gt;The International CBRNE Institute (Belgium) and 
 its network partners are developing solutions in order to guarantee the sa
 fety of the responders\, the efficiency of the methods used\, and the poss
 ibility of better collaboration among different actors.&lt;/p&gt;
END:VEVENT
END:VCALENDAR

