BEGIN:VCALENDAR
VERSION:2.0
PRODID:IEEE vTools.Events//EN
CALSCALE:GREGORIAN
BEGIN:VTIMEZONE
TZID:America/Chicago
BEGIN:DAYLIGHT
DTSTART:20230312T030000
TZOFFSETFROM:-0600
TZOFFSETTO:-0500
RRULE:FREQ=YEARLY;BYDAY=2SU;BYMONTH=3
TZNAME:CDT
END:DAYLIGHT
BEGIN:STANDARD
DTSTART:20231105T010000
TZOFFSETFROM:-0500
TZOFFSETTO:-0600
RRULE:FREQ=YEARLY;BYDAY=1SU;BYMONTH=11
TZNAME:CST
END:STANDARD
END:VTIMEZONE
BEGIN:VEVENT
DTSTAMP:20230619T014310Z
UID:A00BB84C-5890-4474-91DC-2EAA4DED3B78
DTSTART;TZID=America/Chicago:20230615T123000
DTEND;TZID=America/Chicago:20230615T140000
DESCRIPTION:This is a joint meeting of the Canadian Society of Senior Engin
 eers and IEEE Life Members.\n\nThe June meeting of the Edmonton Chapter of
  CSSE will be held on Thursday 2023-Jun-15. The Meeting will open at 12:30
  pm (Mountain Time) (2:30 PM EDT)\, with the presentation starting at 12:4
 5. The meeting will be held via the Zoom platform\, with the actual invita
 tions sent the afternoon of Wednesday 2023-Jun-14. If you plan to attend a
 nd be included on the Zoom invite for this meeting please email Tom Madsen
 \, tcmadsen@telus.net\, before noon on 2023-Jun-14.\n\nAs an EV owner and 
 utility engineer with a career focus on electric vehicles\, William will b
 e presenting on the environmental impacts of electrified transportation\, 
 the utility impacts as well as the personal testimony of his ownership exp
 erience.\nAn electric vehicle owner since 2018\, William has travelled mor
 e than 90\,000 pure electric kilometres.\n\nCo-sponsored by: Canadian Soci
 ety of Senior Engineers (Edmonton Chapter)\n\nSpeaker(s):  William York\, 
 P.Eng.\n\nAgenda: \n12:30 PM MDT (2:30 PM EDT) Internet check and greeting
 s\n\n12:45 PM Speaker\n\nVirtual: https://events.vtools.ieee.org/m/363502
LOCATION:Virtual: https://events.vtools.ieee.org/m/363502
ORGANIZER:jimellis@ieee.org
SEQUENCE:19
SUMMARY:Electric Vehicle Overview
URL;VALUE=URI:https://events.vtools.ieee.org/m/363502
X-ALT-DESC:Description: &lt;br /&gt;&lt;p&gt;This is a joint meeting of the Canadian So
 ciety of Senior Engineers and IEEE Life Members.&lt;/p&gt;\n&lt;p&gt;The June meeting 
 of the Edmonton Chapter of CSSE will be held on Thursday 2023-Jun-15. The 
 Meeting will open at 12:30 pm (Mountain Time) (2:30 PM EDT)\, with the pre
 sentation starting at 12:45. The meeting will be held via the Zoom platfor
 m\, with the actual invitations sent the afternoon of Wednesday 2023-Jun-1
 4. If you plan to attend and be included on the Zoom invite for this meeti
 ng please email Tom Madsen\,&amp;nbsp\;&lt;a href=&quot;mailto:tcmadsen@telus.net&quot; tar
 get=&quot;_blank&quot; rel=&quot;noopener&quot;&gt;tcmadsen@telus.net&lt;/a&gt;\, before noon on 2023-J
 un-14.&lt;/p&gt;\n&lt;p&gt;As an EV owner and utility engineer with a career focus on 
 electric vehicles\, William will be presenting on the environmental impact
 s of electrified transportation\, the utility impacts as well as the perso
 nal testimony of his ownership experience.&lt;br /&gt;An electric vehicle owner 
 since 2018\, William has travelled more than 90\,000 pure electric kilomet
 res.&lt;/p&gt;&lt;br /&gt;&lt;br /&gt;Agenda: &lt;br /&gt;&lt;p&gt;12:30 PM MDT (2:30 PM EDT) Internet c
 heck and greetings&lt;/p&gt;\n&lt;p&gt;12:45 PM Speaker&lt;/p&gt;
END:VEVENT
END:VCALENDAR

