BEGIN:VCALENDAR
VERSION:2.0
PRODID:IEEE vTools.Events//EN
CALSCALE:GREGORIAN
BEGIN:VTIMEZONE
TZID:America/New_York
BEGIN:DAYLIGHT
DTSTART:20230312T030000
TZOFFSETFROM:-0500
TZOFFSETTO:-0400
RRULE:FREQ=YEARLY;BYDAY=2SU;BYMONTH=3
TZNAME:EDT
END:DAYLIGHT
BEGIN:STANDARD
DTSTART:20231105T010000
TZOFFSETFROM:-0400
TZOFFSETTO:-0500
RRULE:FREQ=YEARLY;BYDAY=1SU;BYMONTH=11
TZNAME:EST
END:STANDARD
END:VTIMEZONE
BEGIN:VEVENT
DTSTAMP:20230614T131604Z
UID:E87508B7-DA9A-42EC-BB35-C92355AFBE50
DTSTART;TZID=America/New_York:20230613T160000
DTEND;TZID=America/New_York:20230613T180000
DESCRIPTION:Current research in Engineering\n\nCo-sponsored by: Ahmed Abdel
 gawad\n\nMidland\, Michigan\, United States
LOCATION:Midland\, Michigan\, United States
ORGANIZER:abdel1a@cmich.edu
SEQUENCE:8
SUMMARY:Current research in Engineering
URL;VALUE=URI:https://events.vtools.ieee.org/m/363840
X-ALT-DESC:Description: &lt;br /&gt;&lt;p&gt;Current research in Engineering&lt;/p&gt;
END:VEVENT
END:VCALENDAR

