BEGIN:VCALENDAR
VERSION:2.0
PRODID:IEEE vTools.Events//EN
CALSCALE:GREGORIAN
BEGIN:VTIMEZONE
TZID:America/Denver
BEGIN:DAYLIGHT
DTSTART:20230312T030000
TZOFFSETFROM:-0700
TZOFFSETTO:-0600
RRULE:FREQ=YEARLY;BYDAY=2SU;BYMONTH=3
TZNAME:MDT
END:DAYLIGHT
BEGIN:STANDARD
DTSTART:20231105T010000
TZOFFSETFROM:-0600
TZOFFSETTO:-0700
RRULE:FREQ=YEARLY;BYDAY=1SU;BYMONTH=11
TZNAME:MST
END:STANDARD
END:VTIMEZONE
BEGIN:VEVENT
DTSTAMP:20230622T150121Z
UID:FFA54FE0-21F2-4BDA-BB37-B1E6E04D6AD5
DTSTART;TZID=America/Denver:20230621T180000
DTEND;TZID=America/Denver:20230621T193000
DESCRIPTION:Geniuses at War:\n\nBletchley Park\, Colossus\, and the Dawn of
  the Digital Age\n\nA Book Summary\n\nFollowing the exploits of the motley
  collection of geniuses installed at Bletchley Park during the Second Worl
 d War\, author David Price focuses mainly on the events and people involve
 d in the invention of Colossus—the first programmable\, electronic\, dig
 ital computer\, which was designed to break the German army’s Lorenz cip
 her.\n\nSpeaker(s): David\, \n\nAgenda: \nIntroductions\n\nPresentations\n
 \nQuestions\n\nVirtual: https://events.vtools.ieee.org/m/363841
LOCATION:Virtual: https://events.vtools.ieee.org/m/363841
ORGANIZER:dbondurant@ieee.org
SEQUENCE:23
SUMMARY:June Pikes Peak Life Member Affinity Group Meeting
URL;VALUE=URI:https://events.vtools.ieee.org/m/363841
X-ALT-DESC:Description: &lt;br /&gt;&lt;p&gt;&lt;strong&gt;Geniuses at War:&lt;/strong&gt;&lt;/p&gt;\n&lt;p&gt;
 &lt;strong&gt;Bletchley Park\, Colossus\, and the Dawn of the Digital Age&lt;/stron
 g&gt;&lt;/p&gt;\n&lt;p&gt;&lt;strong&gt;A Book Summary&lt;/strong&gt;&lt;/p&gt;\n&lt;p&gt;Following the exploits 
 of the motley collection of geniuses installed at Bletchley Park during th
 e Second World War\, author David Price focuses mainly on the events and p
 eople involved in the invention of Colossus&amp;mdash\;the first programmable\
 , electronic\, digital computer\, which was designed to break the German a
 rmy&amp;rsquo\;s Lorenz cipher.&lt;/p&gt;&lt;br /&gt;&lt;br /&gt;Agenda: &lt;br /&gt;&lt;p&gt;Introductions&lt;
 /p&gt;\n&lt;p&gt;Presentations&lt;/p&gt;\n&lt;p&gt;Questions&lt;/p&gt;
END:VEVENT
END:VCALENDAR

