BEGIN:VCALENDAR
VERSION:2.0
PRODID:IEEE vTools.Events//EN
CALSCALE:GREGORIAN
BEGIN:VTIMEZONE
TZID:America/Phoenix
BEGIN:STANDARD
DTSTART:19671029T010000
TZOFFSETFROM:-0600
TZOFFSETTO:-0700
TZNAME:MST
END:STANDARD
END:VTIMEZONE
BEGIN:VEVENT
DTSTAMP:20230613T020128Z
UID:DDB91864-8EAB-40BD-B7F6-54C62D3DD9D7
DTSTART;TZID=America/Phoenix:20230511T170000
DTEND;TZID=America/Phoenix:20230511T180000
DESCRIPTION:Regular DeVry IEEE Student Branch Robotics Committee meeting. T
 he meeting will start at 20:00 ET\n\nVirtual: https://events.vtools.ieee.o
 rg/m/364134
LOCATION:Virtual: https://events.vtools.ieee.org/m/364134
ORGANIZER:damon.reddy@outlook.com
SEQUENCE:1
SUMMARY:DeVry IEEE Student Branch Robotics Committee meeting
URL;VALUE=URI:https://events.vtools.ieee.org/m/364134
X-ALT-DESC:Description: &lt;br /&gt;&lt;p&gt;Regular DeVry IEEE Student Branch Robotics
  Committee meeting. The meeting will start at 20:00 ET&lt;/p&gt;
END:VEVENT
END:VCALENDAR

