BEGIN:VCALENDAR
VERSION:2.0
PRODID:IEEE vTools.Events//EN
CALSCALE:GREGORIAN
BEGIN:VTIMEZONE
TZID:Asia/Kuwait
BEGIN:DAYLIGHT
DTSTART:20380119T061407
TZOFFSETFROM:+0300
TZOFFSETTO:+0300
RRULE:FREQ=YEARLY;BYDAY=3TU;BYMONTH=1
TZNAME:+03
END:DAYLIGHT
BEGIN:STANDARD
DTSTART:19470313T235308
TZOFFSETFROM:+0306
TZOFFSETTO:+0300
RRULE:FREQ=YEARLY;BYDAY=2TH;BYMONTH=3
TZNAME:+03
END:STANDARD
END:VTIMEZONE
BEGIN:VEVENT
DTSTAMP:20230707T175313Z
UID:AF9DE83F-EB40-44CA-A6C3-72B7B24EC255
DTSTART;TZID=Asia/Kuwait:20230619T110000
DTEND;TZID=Asia/Kuwait:20230619T150000
DESCRIPTION:We are delighted to announce that we will be celebrating the en
 d of the year with a grand event involving all the clubs in our university
 .\nThis festive occasion will take place on January 19th\, starting at 11 
 am and concluding at 3 pm.\n\nDuring this celebration\, we are proud to in
 form you that the IEEE club will be hosting a special initiative. We will 
 be accepting donations of old university books from students. These books 
 will be collected and preserved by our IEEE club\, only to be generously p
 rovided to fellow students in the coming year.\n\nWe believe in the power 
 of knowledge sharing and the importance of sustainable practices. Donating
  your old university books is a wonderful opportunity to contribute to the
  academic growth of your peers.\n\nRoom: IEEE Room\, Bldg: Faculty of Scie
 nces\, Lebanese University\, Fanar\, Lebanon\, Lebanon
LOCATION:Room: IEEE Room\, Bldg: Faculty of Sciences\, Lebanese University\
 , Fanar\, Lebanon\, Lebanon
ORGANIZER:ieeeulfsii@gmail.com
SEQUENCE:11
SUMMARY:Books Collection
URL;VALUE=URI:https://events.vtools.ieee.org/m/364229
X-ALT-DESC:Description: &lt;br /&gt;&lt;p&gt;We are delighted to announce that we will 
 be celebrating the end of the year with a grand event involving all the cl
 ubs in our university.&lt;br /&gt;This festive occasion will take place on&amp;nbsp\
 ; January 19th\, starting at 11 am and concluding at 3 pm.&lt;/p&gt;\n&lt;p&gt;During 
 this celebration\, we are proud to inform you that the IEEE club will be h
 osting a special initiative. We will be accepting donations of old univers
 ity books from students. These books will be collected and preserved by ou
 r IEEE club\, only to be generously provided to fellow students in the com
 ing year.&lt;/p&gt;\n&lt;p&gt;We believe in the power of knowledge sharing and the imp
 ortance of sustainable practices. Donating your old university books is a 
 wonderful opportunity to contribute to the academic growth of your peers.&lt;
 /p&gt;\n&lt;p&gt;&amp;nbsp\;&lt;/p&gt;
END:VEVENT
END:VCALENDAR

