BEGIN:VCALENDAR
VERSION:2.0
PRODID:IEEE vTools.Events//EN
CALSCALE:GREGORIAN
BEGIN:VTIMEZONE
TZID:America/Los_Angeles
BEGIN:DAYLIGHT
DTSTART:20230312T030000
TZOFFSETFROM:-0800
TZOFFSETTO:-0700
RRULE:FREQ=YEARLY;BYDAY=2SU;BYMONTH=3
TZNAME:PDT
END:DAYLIGHT
BEGIN:STANDARD
DTSTART:20231105T010000
TZOFFSETFROM:-0700
TZOFFSETTO:-0800
RRULE:FREQ=YEARLY;BYDAY=1SU;BYMONTH=11
TZNAME:PST
END:STANDARD
END:VTIMEZONE
BEGIN:VEVENT
DTSTAMP:20230711T042937Z
UID:235939F1-EAAA-4474-9916-375E5BEEB5CC
DTSTART;TZID=America/Los_Angeles:20230621T183000
DTEND;TZID=America/Los_Angeles:20230621T200000
DESCRIPTION:Seminar Title:\n\nMiniaturized Power Management that Disappears
  and Merges with the Environment and Systems\n\nAbstract:\n\nThe need for 
 an efficient power management solution has never been more critical across
  virtually all electronic devices and systems from low power to high power
 \, smartphones to data centers\, battery-powered components to renewable-e
 nergy-powered grids\, and from stationary systems to aircraft. Particularl
 y for ultra-low power systems such as untethered sensors and IoT systems\,
  the key challenge is to maintain high delivery efficiency while satisfyin
 g increasingly demanding input/output requirements\, space constraints\, r
 eliability\, and cost\, simultaneously. Aiming to address this grand and i
 ncreasingly difficult challenge\, the speaker will present multiple approa
 ches centered around physical\, architectural\, and functional integration
  of advanced power management units with the systems that allow them to ef
 ficiently and essentially disappear/merge with the environment. Design exa
 mples and results from the iPower3Es group at UCSD and state-of-the-arts w
 ill also be covered as demonstration.\n\nAbout the speaker:\n\nDr. Hanh-Ph
 uc Le is an Assistant Professor of ECE at the University of California San
  Diego and a co-Director of the Power Management Integration Center\, an N
 SF IUCRC center. He received the Ph.D. degree from UC Berkeley (2013)\, M.
 S. from KAIST\, Korea (2006)\, and B.S. from Hanoi University of Science a
 nd Technology in Vietnam (2003)\, all in Electrical Engineering. In 2012\,
  he co-founded and served as the CTO at Lion Semiconductor until October 2
 015. The company was acquired by Cirrus Logic in 2021. He was with the Uni
 versity of Colorado Boulder from 2016 to 2019\, before joining the ECE dep
 artment at UC San Diego. He held R&amp;D and consulting positions at Oracle\, 
 Intel\, Rambus\, JDA Tech in Korea and the Vietnam Academy of Science and 
 Technology (VAST) in Vietnam. His current research interests include minia
 turized/on-die power conversions\, large conversion ratios\, smart power d
 elivery and control for high performance IT systems\, data centers\, telec
 ommunication\, robots\, automotive\, mobile\, wearable\, and IoT applicati
 ons.\n\nDr. Le received a 2021 NSF CAREER Award\, a 2012-2013 IEEE Solid-S
 tate Circuits Society Pre-doctoral Achievement Award\, and UC Berkeley&#39;s 2
 013 Sevin Rosen Funds Award for Innovation. He authored three book chapter
 s\, over fifty journal and conference papers with one best paper award in 
 various topics in the area of integrated power electronics. He is an inven
 tor with 22 U.S. patents (11 granted and 11 pending). He serves as an asso
 ciate editor of the IEEE Journal of Emerging and Selected Topics in Power 
 Electronics (JESTPE)\, TPC Chair/co-chair for the International Workshop o
 n Power Supply On Chip (PwrSoC 2018\, 2020)\, Chair of the Power Managemen
 t and Outreach Subcommittees at the IEEE Custom Integrated Circuits Confer
 ence (2020\, 2021)\, Vice Chair of the Energy Conversion Congress and Expo
 sition (ECCE) in 2021-2023\, and Chair of the IEEE Power Electronics Socie
 ty Technical Committee on Power Components\, Integration\, and Power ICs (
 IEEE PELS TC2) in 2019-2023. Dr. Le is an IEEE Senior Member.\n\nAbout Sen
 sors Converge 2023:\n\nDiscover the future at the only event where the bui
 lding blocks of IoT converge - sensors\, processing\, and connectivity. Jo
 in the sensors and electronics community this June 20-22 at the ONLY event
  covering the biggest design engineering trends. From enabling innovation\
 , to process design &amp; control development\, to transforming markets\, Sens
 ors Converge (https://www.sensorsconverge.com/) covers technologies and ap
 plications that can help you design smarter systems/IoT devices in a susta
 inable economy.\n\nSanta Clara \, California\, United States
LOCATION:Santa Clara \, California\, United States
ORGANIZER:siva.uppalapati@gmail.com
SEQUENCE:9
SUMMARY:Miniaturized Power Management that Disappears &amp; Merges with the Env
 ironment
URL;VALUE=URI:https://events.vtools.ieee.org/m/364300
X-ALT-DESC:Description: &lt;br /&gt;&lt;div class=&quot;eds-l-mar-vert-6 eds-l-sm-mar-ver
 t-4 eds-text-bm structured-content-rich-text&quot;&gt;\n&lt;div class=&quot;eds-text--left
 &quot;&gt;\n&lt;p&gt;&lt;strong&gt;Seminar Title:&lt;/strong&gt;&lt;/p&gt;\n&lt;p&gt;&lt;strong&gt;Miniaturized Power 
 Management that Disappears and Merges with the Environment and Systems&lt;/st
 rong&gt;&lt;/p&gt;\n&lt;p&gt;&lt;strong&gt;Abstract:&lt;/strong&gt;&lt;/p&gt;\n&lt;p&gt;The need for an efficient
  power management solution has never been more critical across virtually a
 ll electronic devices and systems from low power to high power\, smartphon
 es to data centers\, battery-powered components to renewable-energy-powere
 d grids\, and from stationary systems to aircraft. Particularly for ultra-
 low power systems such as untethered sensors and IoT systems\, the key cha
 llenge is to maintain high delivery efficiency while satisfying increasing
 ly demanding input/output requirements\, space constraints\, reliability\,
  and cost\, simultaneously. Aiming to address this grand and increasingly 
 difficult challenge\, the speaker will present multiple approaches centere
 d around physical\, architectural\, and functional integration of advanced
  power management units with the systems that allow them to efficiently an
 d essentially disappear/merge with the environment. Design examples and re
 sults from the iPower3Es group at UCSD and state-of-the-arts will also be 
 covered as demonstration.&lt;/p&gt;\n&lt;p&gt;&lt;strong&gt;About the speaker:&lt;/strong&gt;&lt;/p&gt;\
 n&lt;p&gt;Dr. Hanh-Phuc Le is an Assistant Professor of ECE at the University of
  California San Diego and a co-Director of the Power Management Integratio
 n Center\, an NSF IUCRC center. He received the Ph.D. degree from UC Berke
 ley (2013)\, M.S. from KAIST\, Korea (2006)\, and B.S. from Hanoi Universi
 ty of Science and Technology in Vietnam (2003)\, all in Electrical Enginee
 ring. In 2012\, he co-founded and served as the CTO at Lion Semiconductor 
 until October 2015. The company was acquired by Cirrus Logic in 2021. He w
 as with the University of Colorado Boulder from 2016 to 2019\, before join
 ing the ECE department at UC San Diego. He held R&amp;amp\;D and consulting po
 sitions at Oracle\, Intel\, Rambus\, JDA Tech in Korea and the Vietnam Aca
 demy of Science and Technology (VAST) in Vietnam. His current research int
 erests include miniaturized/on-die power conversions\, large conversion ra
 tios\, smart power delivery and control for high performance IT systems\, 
 data centers\, telecommunication\, robots\, automotive\, mobile\, wearable
 \, and IoT applications.&lt;/p&gt;\n&lt;p&gt;Dr. Le received a 2021 NSF CAREER Award\,
  a 2012-2013 IEEE Solid-State Circuits Society Pre-doctoral Achievement Aw
 ard\, and UC Berkeley&#39;s 2013 Sevin Rosen Funds Award for Innovation. He au
 thored three book chapters\, over fifty journal and conference papers with
  one best paper award in various topics in the area of integrated power el
 ectronics. He is an inventor with 22 U.S. patents (11 granted and 11 pendi
 ng). He serves as an associate editor of the IEEE Journal of Emerging and 
 Selected Topics in Power Electronics (JESTPE)\, TPC Chair/co-chair for the
  International Workshop on Power Supply On Chip (PwrSoC 2018\, 2020)\, Cha
 ir of the Power Management and Outreach Subcommittees at the IEEE Custom I
 ntegrated Circuits Conference (2020\, 2021)\, Vice Chair of the Energy Con
 version Congress and Exposition (ECCE) in 2021-2023\, and Chair of the IEE
 E Power Electronics Society Technical Committee on Power Components\, Inte
 gration\, and Power ICs (IEEE PELS TC2) in 2019-2023. Dr. Le is an IEEE Se
 nior Member.&lt;/p&gt;\n&lt;/div&gt;\n&lt;/div&gt;\n&lt;div class=&quot;eds-l-mar-vert-6 eds-l-sm-ma
 r-vert-4 eds-text-bm structured-content-rich-text&quot;&gt;\n&lt;div class=&quot;eds-text-
 -left&quot;&gt;\n&lt;p&gt;&lt;strong&gt;About Sensors Converge 2023:&lt;/strong&gt;&lt;/p&gt;\n&lt;p&gt;Discover
  the future at the only event where the building blocks of IoT converge - 
 sensors\, processing\, and connectivity. Join the sensors and electronics 
 community this June 20-22 at the ONLY event covering the biggest design en
 gineering trends. From enabling innovation\, to process design &amp;amp\; cont
 rol development\, to transforming markets\,&amp;nbsp\;&lt;strong&gt;Sensors Converge
 &lt;/strong&gt;&amp;nbsp\;(https://www.sensorsconverge.com/) covers technologies and
  applications that can help you design smarter systems/IoT devices in a su
 stainable economy.&lt;/p&gt;\n&lt;/div&gt;\n&lt;/div&gt;
END:VEVENT
END:VCALENDAR

