BEGIN:VCALENDAR
VERSION:2.0
PRODID:IEEE vTools.Events//EN
CALSCALE:GREGORIAN
BEGIN:VTIMEZONE
TZID:America/New_York
BEGIN:DAYLIGHT
DTSTART:20230312T030000
TZOFFSETFROM:-0500
TZOFFSETTO:-0400
RRULE:FREQ=YEARLY;BYDAY=2SU;BYMONTH=3
TZNAME:EDT
END:DAYLIGHT
BEGIN:STANDARD
DTSTART:20231105T010000
TZOFFSETFROM:-0400
TZOFFSETTO:-0500
RRULE:FREQ=YEARLY;BYDAY=1SU;BYMONTH=11
TZNAME:EST
END:STANDARD
END:VTIMEZONE
BEGIN:VEVENT
DTSTAMP:20231109T212957Z
UID:0DAC1F9B-3A2D-4A8C-8D9C-C6660E4E10F1
DTSTART;TZID=America/New_York:20231103T080000
DTEND;TZID=America/New_York:20231103T173000
DESCRIPTION:2023 IEEE Western New York Image and Signal Processing Workshop
 \n\n[]\n\nThe 2023 Western New York Image and Signal Processing Workshop (
 WNYISPW) is a premiere venue for promoting research involving applications
  of AI\, image and signal processsing research in the Western New York reg
 ion and for facilitating iteraction between academic researchers\, industr
 y professionals\, and students.\n\nThe workshop is organized as a morning 
 session\, a Poster session along with catered lunch\, and an afternoon ses
 sion.\nMorning session:\nOral presentations covering a diverse set of subm
 itted\, reviewed and accepted research submissions.\nInvited presentations
  on Neuroscience advances in analysis\, image &amp; signal processing\, statis
 tical\, and experimental design techniques to uncover neural functions of 
 the human brain and development of techniques for identifying anomalous ne
 ural behavioral patterns (neuromarkers) based on the acquisition and analy
 sis of inherently noisy multi-dimensional signals.\nLunch.\nPoster Session
  exhibiting a diverse set of submitted\, reviewed and accepted research su
 bmissions.\nAfternoon session:\nOral presentations covering a diverse set 
 of submitted\, reviewed and accepted research.\nInvited presentation invol
 ving photonics\, imaging and real-time computational processes.\nInvited p
 resentations on the capabilities\, limitations\, ethical risks\, accountab
 ility\, and guardrails of Large Language Models and Generative AI.\nPanel 
 discussion and debate on how Generative AI applications may be optimized t
 o augment\, rather than detract\, from the human experience.\n\nThe worksh
 op will be held in a hybrid in-person / virtual format on Friday\, Novembe
 r 3rd\, 2023 from 8:00 AM (check-in) to 5:30 PM at the RIT Student Develop
 ment Center.\n\nFor details\, see the workshop webpage at: https://ewh.iee
 e.org/r1/rochester/sp/WNYISPW2023.html\n\nAwards will be given for best st
 udent paper and best student abstract.\n\nImportant Dates:\n\nJuly 5	Paper
  and Poster submission opens\nOctober 16	Paper submission closes (Extended
 )\nOctober 20	Notification of Acceptance\nOctober 25	Submission of camera-
 ready paper and virtual poster files\nNovember 3	Workshop\nThe Western New
  York Image and Signal Processing Workshop is sponsored by the Rochester S
 ection of the IEEE\, the Rochester Chapter of the IEEE Signal Processing S
 ociety\, IEEE Computer Society and IEEE Photonics Society\, in technical c
 ooperation with the Rochester Chapter of the Society for Imaging Science a
 nd Technology.\n\nThe Western New York Image and Signal Processing Worksho
 p is supported by [Vanteon Wireless Solutions](https://vanteon.com/).\n\nC
 o-sponsored by: Rochester Section\, Region 1\n\nAgenda: \nWorkshop Agenda:
 \n7:30 - 8:10 AM	Check-in\, Coffee &amp; Bagels\n8:10 - 8:15 AM	Introductory r
 emarks\n8:15 - 8:30 AM\nSponsor presentation: Maximizing Bandwidth with Mu
 lti-Channel/Chip Synchronization in ADVR9002-Based Software-Defined Radios
 \nJohn Crannel-Ash\, Vanteon Wireless Solutions\n\n8:30 - 9:15 AM	Keynote 
 address: Innovations in Neurophysiology and Approaches for the Development
  of Objective Inter-species Disease Neuromarkers.\nDr. John J. Foxe\, Chai
 r\, Department of Neuroscience\, University of Rochester Medical Center\n\
 n9:15 - 9:45 AM	Invited presentation: Uncovering Neural Signatures of Sens
 ory Processing in Autism\nDr. Emily Knight\, Pediatrics and Neuroscience\,
  University of Rochester Medical Center\n\n9:45 - 10:00 AM	Cofee break\n10
 :00 - 11:00 AM\nMorning Session\, Submitted papers\, each 15 minutes:\n\nD
 r. Ajay Anand:\nDeep Learning based in-situ Ultrasound Thermometry for The
 rmal Ablation Monitoring\n\nNusrat Jahan:\nFederated Learning assisted Sef
 l-supervised CNN for Monkeypox Diagnosis\n\nBriana Santo:\nARTSA: A New De
 sktop Application for Automated Renal Tubular Segmentation and Analysis\n\
 nSiladitya Khan:\nQuantifying Strain Dependence of Multi-frequency Shearwa
 ve Elastography\n\n11:00 - 11:30 AM\nInvited presentation: Investigation A
 ttention across the Auditory System using Forward\nModeling of Brain Activ
 ity\nDr. Ross Maddox\, Neuroscience and Biomedical Engineering\, URMC\n\n1
 1:30 - 12:00 AM	Invited presentation: Inferring the Computations &amp; Organiz
 ation of Human Auditory Cortex\nDr. Samuel Norman-Haignere\, Neuroscience\
 , BME &amp; Computational Biology\, URMC\n\n12:00 - 12:30 PM\nLunch\n\n12:00 -
  1:30 PM\nPoster Session:\n\nLuke Kurlandski\, Nate Mathews\, Xin-Miao Lin
 \, Dr. Reynold Bailey\, Dr. Tre DiPassio\,\nJenna Rutowski\, Chris Humphry
 \, Bryce Gernon\, Henry Zelenak\, Yijing Kelly Wu\,\nCaitlin Dreisbach\, D
 r. Carlos Max-Perera\, Sergei Chuprov\, Roman Zatsarenko\, Ninad Kale\, Ar
 nab Ghosh\, Sougato Bagchi\, Debamitra Chakraborty\, Shaik Akib Ahahriya.\
 n\n1:30 - 1:45 PM\nInvited presentation: Real-Time Assembly of Gigavoxel M
 osaics using Two-Photon\nMicroscopy during Surgery\nDr. Michael Giocomelli
 \, Biomedical Engineering &amp; Institute of Optics\, University of Rochester\
 n\n1:45 - 3:00 PM\nAfternoon Session\, Submitted papers\, each 15 minutes:
 \n\nIlyes Benslimane:\nSingle-subject Self-calibrating Network (BIOPHYSICS
 S-DL) with an Improved Prediction Model for X-separation with Histological
  Validation\n\nDebamitra Chakraborty:\nMonitoring the Effectiveness of Pan
 creatic Ductal Adenocarcinoma Treatment Therapies with Terahertz Spectrosc
 opy\n\nMd Yusuf Harun:\nPrioritized Training on Rehearsal Samples for Effi
 cient Online Continual Learning\n\nDr. Akshay Agarwal:\nAttention-guided M
 ulti-attribute Architecture for Deepfake Analysis\n\nDr. Dima Dera:\nRobus
 t Bayesian Vision Transformer for Image Analysis and Classification\n\n3:0
 0 - 3:10 PM	Coffee break\n3:10 - 3:15 PM	Awards for Best student paper and
  Best student abstract\n3:15 - 3:30 PM\nInvited presentation: Generating I
 nterleaved Image-Text\, a New Task in Generative AI\nJie An\, Department o
 f Computer Science\, University of Rochester\n\n3:30 - 3:45 PM	Invited pre
 sentation: The Current Capabilities and Limitations of Generative AI\nDr. 
 Chris Kanan\, Department of Computer Science\, University of Rochester\n\n
 3:45 - 4:00 PM	Invited presentation: High-level Ethical Risks for Generati
 ve AI\nDr. Jonathan Herington\, Departmane of Philosophy\, University of R
 ochester\n\n4:00 - 4:15 PM	Invited presentation: The Future of Chemistry i
 s Language\nDr. Andrew D. White\, Departmane of Chemistry\, University of 
 Rochester\n\n4:15 - 4:30 PM	Invited presentation: Accountability and Gener
 ative AI in Healthcare\nDr. Kathleen Fear\, School of Nursing and Director
 \, Data &amp; Analytics\, UR Health Lab\n\n4:30 - 5:30 PM	Panel Discussion/Deb
 ate: The Capabilities &amp; Liabilities of LLMs and Generative AI\nDr. Chris K
 anan\, Dr. Jonathan Herington\, Dr. Andrew White and Dr. Kathleen Fear\n\n
 5:30 PM	Wrap-up and End of Workshop\n\nRoom: Conference Room\, Bldg: Stude
 nt Development Center\, Rochester Institute of Technology\, Briggs Place\,
  Rochester\, New York\, United States\, 14623\, Virtual: https://events.vt
 ools.ieee.org/m/364310
LOCATION:Room: Conference Room\, Bldg: Student Development Center\, Rochest
 er Institute of Technology\, Briggs Place\, Rochester\, New York\, United 
 States\, 14623\, Virtual: https://events.vtools.ieee.org/m/364310
ORGANIZER:ekzeise@ieee.org
SEQUENCE:53
SUMMARY:2023 IEEE Western New York Image and Signal Processing Workshop
URL;VALUE=URI:https://events.vtools.ieee.org/m/364310
X-ALT-DESC:Description: &lt;br /&gt;&lt;p&gt;&lt;span style=&quot;font-size: 23pt\;&quot;&gt;&lt;strong&gt;20
 23 IEEE Western New York Image and Signal Processing Workshop&lt;/strong&gt;&lt;/sp
 an&gt;&lt;/p&gt;\n&lt;p&gt;&lt;img style=&quot;float: left\; height: 150px\; width: 297px\;&quot; src=
 &quot;https://ewh.ieee.org/r1/rochester/sp/Images_2023/WordCloud2023.jpg&quot; alt=&quot;
 &quot; /&gt;&lt;/p&gt;\n&lt;p&gt;&amp;nbsp\;&lt;/p&gt;\n&lt;p&gt;&amp;nbsp\;&lt;/p&gt;\n&lt;p&gt;&amp;nbsp\;&lt;/p&gt;\n&lt;p&gt;&amp;nbsp\;&lt;/p&gt;\n
 &lt;p&gt;The 2023 &lt;span style=&quot;color: #e03e2d\;&quot;&gt;W&lt;/span&gt;estern &lt;span style=&quot;col
 or: #e03e2d\;&quot;&gt;N&lt;/span&gt;ew &lt;span style=&quot;color: #e03e2d\;&quot;&gt;Y&lt;/span&gt;ork &lt;span
  style=&quot;color: #e03e2d\;&quot;&gt;I&lt;/span&gt;mage and &lt;span style=&quot;color: #e03e2d\;&quot;&gt;
 S&lt;/span&gt;ignal &lt;span style=&quot;color: #e03e2d\;&quot;&gt;P&lt;/span&gt;rocessing &lt;span style
 =&quot;color: #e03e2d\;&quot;&gt;W&lt;/span&gt;orkshop (&lt;span style=&quot;color: #e03e2d\;&quot;&gt;WNYISP
 W&lt;/span&gt;) is a premiere venue for promoting research involving application
 s of AI\, image and signal processsing research in the Western New York re
 gion and for facilitating iteraction between academic researchers\, indust
 ry professionals\, and students.&lt;/p&gt;\n&lt;p&gt;The workshop is organized as a mo
 rning session\, a Poster session along with catered lunch\, and an afterno
 on session.&lt;br /&gt;&lt;strong&gt;Morning session:&lt;/strong&gt;&lt;br /&gt;&lt;em&gt;Oral presentat
 ions&lt;/em&gt; covering a diverse set of submitted\, reviewed and accepted rese
 arch submissions.&lt;br /&gt;&lt;em&gt;Invited presentations&lt;/em&gt; on Neuroscience adva
 nces in analysis\, image &amp;amp\; signal processing\, statistical\, and expe
 rimental design techniques to uncover neural functions of the human brain 
 and development of techniques for identifying anomalous neural behavioral 
 patterns (neuromarkers) based on the acquisition and analysis of inherentl
 y noisy multi-dimensional signals.&lt;br /&gt;&lt;strong&gt;Lunch.&lt;/strong&gt;&lt;br /&gt;&lt;stro
 ng&gt;Poster Session&lt;/strong&gt; exhibiting a diverse set of submitted\, reviewe
 d and accepted research submissions.&lt;br /&gt;&lt;strong&gt;Afternoon session:&lt;/stro
 ng&gt;&lt;br /&gt;&lt;em&gt;Oral presentations&lt;/em&gt; covering a diverse set of submitted\,
  reviewed and accepted research.&lt;br /&gt;&lt;em&gt;Invited presentation&lt;/em&gt; involv
 ing photonics\, imaging and real-time computational processes.&lt;br /&gt;&lt;em&gt;In
 vited presentations&lt;/em&gt; on the capabilities\, limitations\, ethical risks
 \, accountability\, and guardrails of Large Language Models and Generative
  AI.&lt;br /&gt;&lt;em&gt;Panel discussion and debate&lt;/em&gt; on how Generative AI applic
 ations may be optimized to augment\, rather than detract\, from the human 
 experience.&lt;/p&gt;\n&lt;p&gt;The workshop will be held in a hybrid in-person / virt
 ual format on Friday\, November 3rd\, 2023 from 8:00 AM (check-in) to 5:30
  PM at the RIT Student Development Center.&lt;/p&gt;\n&lt;p&gt;For details\, see the w
 orkshop webpage at: &amp;nbsp\;&lt;a href=&quot;https://ewh.ieee.org/r1/rochester/sp/W
 NYISPW2023.html&quot;&gt;https://ewh.ieee.org/r1/rochester/sp/WNYISPW2023.html&lt;/a&gt;
 &lt;/p&gt;\n&lt;p&gt;Awards will be given for best student paper and best student abst
 ract.&lt;/p&gt;\n&lt;h4&gt;&lt;strong&gt;Important Dates:&lt;/strong&gt;&lt;/h4&gt;\n&lt;table style=&quot;heigh
 t: 174px\;&quot; width=&quot;605&quot;&gt;\n&lt;thead&gt;&lt;/thead&gt;\n&lt;tbody&gt;\n&lt;tr&gt;\n&lt;td&gt;July 5 &amp;nbsp
 \;&amp;nbsp\;&lt;/td&gt;\n&lt;td&gt;Paper and Poster submission opens&lt;/td&gt;\n&lt;/tr&gt;\n&lt;tr&gt;\n&lt;
 td&gt;October 16&lt;/td&gt;\n&lt;td&gt;Paper submission closes (Extended)&lt;/td&gt;\n&lt;/tr&gt;\n&lt;t
 r&gt;\n&lt;td&gt;October 20&lt;/td&gt;\n&lt;td&gt;Notification of Acceptance&lt;/td&gt;\n&lt;/tr&gt;\n&lt;tr&gt;\
 n&lt;td&gt;October 25&lt;/td&gt;\n&lt;td&gt;Submission of camera-ready paper and virtual pos
 ter files&lt;/td&gt;\n&lt;/tr&gt;\n&lt;tr&gt;\n&lt;td&gt;November 3&lt;/td&gt;\n&lt;td&gt;Workshop&lt;/td&gt;\n&lt;/tr&gt;
 \n&lt;/tbody&gt;\n&lt;/table&gt;\n&lt;p&gt;&lt;strong&gt;The Western New York Image and Signal Pro
 cessing Workshop is sponsored by the Rochester Section of the IEEE\, the R
 ochester Chapter of the IEEE Signal Processing Society\, IEEE Computer Soc
 iety and IEEE Photonics Society\, in technical cooperation with the Roches
 ter Chapter of the Society for Imaging Science and Technology.&lt;/strong&gt;&lt;/p
 &gt;\n&lt;p&gt;&lt;strong&gt;The Western New York Image and Signal Processing Workshop is
  supported by &lt;a title=&quot;Vanteon Wireless Solutions&quot; href=&quot;https://vanteon.
 com/&quot; target=&quot;_blank&quot; rel=&quot;noopener&quot;&gt;Vanteon Wireless Solutions&lt;/a&gt;.&lt;/stro
 ng&gt;&lt;/p&gt;&lt;br /&gt;&lt;br /&gt;Agenda: &lt;br /&gt;&lt;p&gt;&amp;nbsp\;&lt;/p&gt;\n&lt;table style=&quot;width: 929p
 x\; height: 615px\;&quot;&gt;\n&lt;thead&gt;\n&lt;tr&gt;\n&lt;th style=&quot;text-align: left\; width:
  163px\;&quot;&gt;Workshop Agenda: &amp;nbsp\;&lt;/th&gt;\n&lt;th style=&quot;width: 506px\;&quot;&gt;&amp;nbsp\
 ;&lt;/th&gt;\n&lt;/tr&gt;\n&lt;/thead&gt;\n&lt;tbody&gt;\n&lt;tr&gt;\n&lt;td style=&quot;width: 163px\;&quot;&gt;7:30 - 
 8:10 AM&lt;/td&gt;\n&lt;td style=&quot;width: 506px\;&quot;&gt;Check-in\, Coffee &amp;amp\; Bagels&lt;/
 td&gt;\n&lt;/tr&gt;\n&lt;tr&gt;\n&lt;td style=&quot;width: 163px\;&quot;&gt;8:10 - 8:15 AM&lt;/td&gt;\n&lt;td styl
 e=&quot;width: 506px\;&quot;&gt;Introductory remarks&lt;/td&gt;\n&lt;/tr&gt;\n&lt;tr&gt;\n&lt;td style=&quot;widt
 h: 163px\;&quot;&gt;8:15 - 8:30 AM&lt;/td&gt;\n&lt;td style=&quot;width: 506px\;&quot;&gt;\n&lt;p&gt;&lt;strong&gt;S
 ponsor presentation&lt;/strong&gt;: &amp;nbsp\;&lt;em&gt;Maximizing Bandwidth with Multi-C
 hannel/Chip Synchronization in ADVR9002-Based Software-Defined Radios&lt;br /
 &gt;&lt;/em&gt;John Crannel-Ash\, Vanteon Wireless Solutions&lt;/p&gt;\n&lt;/td&gt;\n&lt;/tr&gt;\n&lt;tr
 &gt;\n&lt;td style=&quot;width: 163px\;&quot;&gt;8:30 - 9:15 AM&lt;/td&gt;\n&lt;td style=&quot;width: 506px
 \;&quot;&gt;&lt;strong&gt;Keynote address&lt;/strong&gt;: &amp;nbsp\;&lt;em&gt;Innovations in Neurophysi
 ology and Approaches for the Development of Objective Inter-species Diseas
 e Neuromarkers.&lt;/em&gt;&lt;br /&gt;Dr. John J. Foxe\, Chair\, Department of Neurosc
 ience\, University of Rochester Medical Center&lt;br /&gt;&lt;br /&gt;&lt;/td&gt;\n&lt;/tr&gt;\n&lt;t
 r&gt;\n&lt;td style=&quot;width: 163px\;&quot;&gt;9:15 - 9:45 AM&lt;/td&gt;\n&lt;td style=&quot;width: 506p
 x\;&quot;&gt;&lt;strong&gt;Invited presentation&lt;/strong&gt;: &amp;nbsp\;&lt;em&gt;Uncovering Neural S
 ignatures of Sensory Processing in Autism&lt;/em&gt;&lt;br /&gt;Dr. Emily Knight\, Ped
 iatrics and Neuroscience\, University of Rochester Medical Center&lt;br /&gt;&lt;br
  /&gt;&lt;/td&gt;\n&lt;/tr&gt;\n&lt;tr&gt;\n&lt;td style=&quot;width: 163px\;&quot;&gt;9:45 - 10:00 AM&lt;/td&gt;\n&lt;t
 d style=&quot;width: 506px\;&quot;&gt;Cofee break&lt;/td&gt;\n&lt;/tr&gt;\n&lt;tr&gt;\n&lt;td style=&quot;width: 
 163px\;&quot;&gt;10:00 - 11:00 AM&lt;/td&gt;\n&lt;td style=&quot;width: 506px\;&quot;&gt;\n&lt;p&gt;&lt;strong&gt;Mo
 rning Session\, Submitted papers\, each 15 minutes:&lt;/strong&gt;&lt;/p&gt;\n&lt;p&gt;Dr. A
 jay Anand: &amp;nbsp\;&lt;br /&gt;Deep Learning based in-situ Ultrasound Thermometry
  for Thermal Ablation Monitoring&lt;/p&gt;\n&lt;p&gt;Nusrat Jahan:&lt;br /&gt;Federated Lear
 ning assisted Sefl-supervised CNN for Monkeypox Diagnosis&lt;/p&gt;\n&lt;p&gt;Briana S
 anto:&lt;br /&gt;ARTSA: &amp;nbsp\;A New Desktop Application for Automated Renal Tub
 ular Segmentation and Analysis&lt;/p&gt;\n&lt;p&gt;Siladitya Khan:&lt;br /&gt;Quantifying St
 rain Dependence of Multi-frequency Shearwave Elastography&lt;/p&gt;\n&lt;/td&gt;\n&lt;/tr
 &gt;\n&lt;tr&gt;\n&lt;td style=&quot;width: 163px\;&quot;&gt;11:00 - 11:30 AM&lt;/td&gt;\n&lt;td style=&quot;widt
 h: 506px\;&quot;&gt;&lt;strong&gt;&lt;br /&gt;Invited presentation&lt;/strong&gt;: &amp;nbsp\;&lt;em&gt;Invest
 igation Attention across the Auditory System using Forward&lt;br /&gt;&amp;nbsp\; &amp;n
 bsp\; &amp;nbsp\; &amp;nbsp\; &amp;nbsp\; &amp;nbsp\; &amp;nbsp\; &amp;nbsp\; &amp;nbsp\; &amp;nbsp\; &amp;nbs
 p\; &amp;nbsp\; &amp;nbsp\; &amp;nbsp\; &amp;nbsp\; &amp;nbsp\; &amp;nbsp\; &amp;nbsp\; &amp;nbsp\; &amp;nbsp\
 ; Modeling of Brain Activity&lt;/em&gt;&lt;br /&gt;Dr. Ross Maddox\, Neuroscience and 
 Biomedical Engineering\, URMC&lt;br /&gt;&lt;br /&gt;&lt;/td&gt;\n&lt;/tr&gt;\n&lt;tr&gt;\n&lt;td style=&quot;wi
 dth: 163px\;&quot;&gt;11:30 - 12:00 AM&lt;/td&gt;\n&lt;td style=&quot;width: 506px\;&quot;&gt;I&lt;strong&gt;n
 vited presentation&lt;/strong&gt;: &amp;nbsp\;&lt;em&gt;Inferring the Computations &amp;amp\; 
 Organization of Human Auditory Cortex&lt;/em&gt;&lt;br /&gt;Dr. Samuel Norman-Haignere
 \, Neuroscience\, BME &amp;amp\; Computational Biology\, URMC&lt;br /&gt;&lt;br /&gt;&lt;/td&gt;
 \n&lt;/tr&gt;\n&lt;tr&gt;\n&lt;td style=&quot;width: 163px\;&quot;&gt;12:00 - 12:30 PM&lt;/td&gt;\n&lt;td style
 =&quot;width: 506px\;&quot;&gt;\n&lt;p&gt;&lt;strong&gt;Lunch&lt;/strong&gt;&lt;/p&gt;\n&lt;/td&gt;\n&lt;/tr&gt;\n&lt;tr&gt;\n&lt;td
  style=&quot;width: 163px\;&quot;&gt;12:00 - 1:30 PM&lt;/td&gt;\n&lt;td style=&quot;width: 506px\;&quot;&gt;\
 n&lt;p&gt;&lt;strong&gt;Poster Session&lt;/strong&gt;&lt;strong&gt;:&lt;/strong&gt;&lt;/p&gt;\n&lt;p&gt;Luke Kurland
 ski\, Nate Mathews\, Xin-Miao Lin\, Dr. Reynold Bailey\, Dr. Tre DiPassio\
 ,&lt;br /&gt;Jenna Rutowski\, Chris Humphry\, Bryce Gernon\, Henry Zelenak\, Yij
 ing Kelly Wu\,&lt;br /&gt;Caitlin Dreisbach\, Dr. Carlos Max-Perera\, Sergei Chu
 prov\, Roman Zatsarenko\, Ninad Kale\, Arnab Ghosh\, Sougato Bagchi\, Deba
 mitra Chakraborty\, Shaik Akib Ahahriya.&lt;/p&gt;\n&lt;/td&gt;\n&lt;/tr&gt;\n&lt;tr&gt;\n&lt;td styl
 e=&quot;width: 163px\;&quot;&gt;1:30 - 1:45 PM&lt;/td&gt;\n&lt;td style=&quot;width: 506px\;&quot;&gt;&lt;strong
 &gt;&lt;br /&gt;Invited presentation&lt;/strong&gt;: &amp;nbsp\;&lt;em&gt;Real-Time Assembly of Gig
 avoxel Mosaics using Two-Photon&lt;/em&gt;&lt;br /&gt;&lt;em&gt;&amp;nbsp\; &amp;nbsp\; &amp;nbsp\; &amp;nbs
 p\; &amp;nbsp\; &amp;nbsp\; &amp;nbsp\; &amp;nbsp\; &amp;nbsp\; &amp;nbsp\; &amp;nbsp\; &amp;nbsp\; &amp;nbsp\
 ; &amp;nbsp\; &amp;nbsp\; &amp;nbsp\; &amp;nbsp\; &amp;nbsp\; &amp;nbsp\; &amp;nbsp\; Microscopy durin
 g Surgery&lt;/em&gt;&lt;br /&gt;Dr. Michael Giocomelli\, Biomedical Engineering &amp;amp\;
  Institute of Optics\, University of Rochester&lt;br /&gt;&lt;br /&gt;&lt;/td&gt;\n&lt;/tr&gt;\n&lt;t
 r&gt;\n&lt;td style=&quot;width: 163px\;&quot;&gt;1:45 - 3:00 PM&lt;/td&gt;\n&lt;td style=&quot;width: 506p
 x\;&quot;&gt;\n&lt;p&gt;&lt;strong&gt;Afternoon Session\, Submitted papers\, each 15 minutes:&lt;
 /strong&gt;&lt;/p&gt;\n&lt;p&gt;Ilyes Benslimane:&lt;br /&gt;Single-subject Self-calibrating Ne
 twork (BIOPHYSICSS-DL) with an Improved Prediction Model for X-separation 
 with Histological Validation&lt;/p&gt;\n&lt;p&gt;Debamitra Chakraborty:&lt;br /&gt;Monitorin
 g the Effectiveness of Pancreatic Ductal Adenocarcinoma Treatment Therapie
 s with Terahertz Spectroscopy&lt;/p&gt;\n&lt;p&gt;Md Yusuf Harun:&lt;br /&gt;Prioritized Tra
 ining on Rehearsal Samples for Efficient Online Continual Learning&lt;/p&gt;\n&lt;p
 &gt;Dr. Akshay Agarwal:&lt;br /&gt;Attention-guided Multi-attribute Architecture fo
 r Deepfake Analysis&lt;/p&gt;\n&lt;p&gt;Dr. Dima Dera:&lt;br /&gt;Robust Bayesian Vision Tra
 nsformer for Image Analysis and Classification&lt;/p&gt;\n&lt;/td&gt;\n&lt;/tr&gt;\n&lt;tr&gt;\n&lt;t
 d style=&quot;width: 163px\;&quot;&gt;3:00 - 3:10 PM&lt;/td&gt;\n&lt;td style=&quot;width: 506px\;&quot;&gt;C
 offee break&lt;/td&gt;\n&lt;/tr&gt;\n&lt;tr&gt;\n&lt;td style=&quot;width: 163px\;&quot;&gt;3:10 - 3:15 PM&lt;/
 td&gt;\n&lt;td style=&quot;width: 506px\;&quot;&gt;Awards for Best student paper and Best stu
 dent abstract&lt;/td&gt;\n&lt;/tr&gt;\n&lt;tr&gt;\n&lt;td style=&quot;width: 163px\;&quot;&gt;3:15 - 3:30 PM
 &lt;/td&gt;\n&lt;td style=&quot;width: 506px\;&quot;&gt;&lt;strong&gt;&lt;br /&gt;Invited presentation&lt;/stro
 ng&gt;: &amp;nbsp\;&lt;em&gt;Generating Interleaved Image-Text\, a New Task in Generati
 ve AI&lt;/em&gt;&lt;br /&gt;Jie An\, Department of Computer Science\, University of Ro
 chester&lt;br /&gt;&lt;br /&gt;&lt;/td&gt;\n&lt;/tr&gt;\n&lt;tr&gt;\n&lt;td style=&quot;width: 163px\;&quot;&gt;3:30 - 3
 :45 PM&lt;/td&gt;\n&lt;td style=&quot;width: 506px\;&quot;&gt;&lt;strong&gt;Invited presentation&lt;/stro
 ng&gt;: &amp;nbsp\;&lt;em&gt;The Current Capabilities and Limitations of Generative AI&lt;
 /em&gt;&lt;br /&gt;Dr. Chris Kanan\, Department of Computer Science\, University of
  Rochester&lt;br /&gt;&lt;br /&gt;&lt;/td&gt;\n&lt;/tr&gt;\n&lt;tr&gt;\n&lt;td style=&quot;width: 163px\;&quot;&gt;3:45 
 - 4:00 PM&lt;/td&gt;\n&lt;td style=&quot;width: 506px\;&quot;&gt;&lt;strong&gt;Invited presentation&lt;/s
 trong&gt;: &amp;nbsp\;&lt;em&gt;High-level Ethical Risks for Generative AI&lt;/em&gt;&lt;br /&gt;Dr
 . Jonathan Herington\, Departmane of Philosophy\, University of Rochester&lt;
 br /&gt;&lt;br /&gt;&lt;/td&gt;\n&lt;/tr&gt;\n&lt;tr&gt;\n&lt;td style=&quot;width: 163px\;&quot;&gt;4:00 - 4:15 PM&lt;/
 td&gt;\n&lt;td style=&quot;width: 506px\;&quot;&gt;&lt;strong&gt;Invited presentation&lt;/strong&gt;: &amp;nb
 sp\;&lt;em&gt;The Future of Chemistry is Language&lt;/em&gt;&lt;br /&gt;Dr. Andrew D. White\
 , Departmane of Chemistry\, University of Rochester&lt;br /&gt;&lt;br /&gt;&lt;/td&gt;\n&lt;/tr
 &gt;\n&lt;tr&gt;\n&lt;td style=&quot;width: 163px\;&quot;&gt;4:15 - 4:30 PM&lt;/td&gt;\n&lt;td style=&quot;width:
  506px\;&quot;&gt;&lt;strong&gt;Invited presentation&lt;/strong&gt;: &amp;nbsp\;&lt;em&gt;Accountability
  and Generative AI in Healthcare&lt;/em&gt;&lt;br /&gt;Dr. Kathleen Fear\, School of N
 ursing and Director\, Data &amp;amp\; Analytics\, UR Health Lab&lt;br /&gt;&lt;br /&gt;&lt;/t
 d&gt;\n&lt;/tr&gt;\n&lt;tr&gt;\n&lt;td style=&quot;width: 163px\;&quot;&gt;4:30 - 5:30 PM&lt;/td&gt;\n&lt;td style
 =&quot;width: 506px\;&quot;&gt;&lt;strong&gt;Panel Discussion/Debate&lt;/strong&gt;: &amp;nbsp\;&lt;em&gt;The
  Capabilities &amp;amp\; Liabilities of LLMs and Generative AI&lt;/em&gt;&lt;br /&gt;Dr. C
 hris Kanan\, Dr. Jonathan Herington\, Dr. Andrew White and Dr. Kathleen Fe
 ar&lt;br /&gt;&lt;br /&gt;&lt;/td&gt;\n&lt;/tr&gt;\n&lt;tr&gt;\n&lt;td style=&quot;width: 163px\;&quot;&gt;5:30 PM&lt;/td&gt;\
 n&lt;td style=&quot;width: 506px\;&quot;&gt;Wrap-up and End of Workshop&lt;/td&gt;\n&lt;/tr&gt;\n&lt;/tbo
 dy&gt;\n&lt;/table&gt;\n&lt;p&gt;&amp;nbsp\;&lt;/p&gt;
END:VEVENT
END:VCALENDAR

