BEGIN:VCALENDAR
VERSION:2.0
PRODID:IEEE vTools.Events//EN
CALSCALE:GREGORIAN
BEGIN:VTIMEZONE
TZID:Asia/Kolkata
BEGIN:STANDARD
DTSTART:19451014T230000
TZOFFSETFROM:+0630
TZOFFSETTO:+0530
TZNAME:IST
END:STANDARD
END:VTIMEZONE
BEGIN:VEVENT
DTSTAMP:20230801T071139Z
UID:3446CC2B-BD96-4145-B62E-87D78589871D
DTSTART;TZID=Asia/Kolkata:20230710T100000
DTEND;TZID=Asia/Kolkata:20230715T160000
DESCRIPTION:The main objective of the Seasonal school is to provide a platf
 orm to create awareness on advanced developments in Signal Processing and 
 its applications to the latest technological developments. The school offe
 rs lectures\, simulation studies and interactive sessions that provide kno
 wledge and give participants the chance to exchange about their own ideas.
 \n\nCo-sponsored by: IEEE Signal Processing Society\, IEEE SPS Hyderabad S
 ection\n\nSpeaker(s): Prof.Rajesh M.Hegde\, \, Dr.Anil Kumar Vuppala\, Dr.
 Chiranjeevi Yarra\, Dr.Noor Mohammad\, Dr. Rahul Raman                    
  \, Dr.Sumeet Agarwal\n\nMatrusri Engineering College\, Saidabad\, Hyderab
 ad\, Andhra Pradesh\, India\, 500060
LOCATION:Matrusri Engineering College\, Saidabad\, Hyderabad\, Andhra Prade
 sh\, India\, 500060
ORGANIZER:drsharath@matrusri.edu.in
SEQUENCE:18
SUMMARY:2023 IEEE SPS SEASONAL SCHOOL on Advanced Signal Processing Using M
 achine Learning Techniques
URL;VALUE=URI:https://events.vtools.ieee.org/m/364407
X-ALT-DESC:Description: &lt;br /&gt;&lt;p&gt;The main objective of the&amp;nbsp\;Seasonal s
 chool&amp;nbsp\;is to provide a platform to create awareness on advanced devel
 opments in Signal Processing and its applications to the latest technologi
 cal developments. The school offers lectures\, simulation studies and inte
 ractive sessions that provide knowledge and give participants the chance t
 o exchange about their own ideas. &lt;strong&gt; &lt;/strong&gt;&lt;/p&gt;
END:VEVENT
END:VCALENDAR

