BEGIN:VCALENDAR
VERSION:2.0
PRODID:IEEE vTools.Events//EN
CALSCALE:GREGORIAN
BEGIN:VTIMEZONE
TZID:America/Bogota
BEGIN:DAYLIGHT
DTSTART:20380118T221407
TZOFFSETFROM:-0500
TZOFFSETTO:-0500
RRULE:FREQ=YEARLY;BYDAY=3MO;BYMONTH=1
TZNAME:-05
END:DAYLIGHT
BEGIN:STANDARD
DTSTART:19930206T230000
TZOFFSETFROM:-0400
TZOFFSETTO:-0500
RRULE:FREQ=YEARLY;BYDAY=1SA;BYMONTH=2
TZNAME:-05
END:STANDARD
END:VTIMEZONE
BEGIN:VEVENT
DTSTAMP:20231128T220416Z
UID:59840928-4396-4F66-A001-901DD07F2FE7
DTSTART;TZID=America/Bogota:20230623T130000
DTEND;TZID=America/Bogota:20230623T134500
DESCRIPTION:En conmemoración del Día de la Mujer en la Ingeniería se rea
 lizará una conferencia titulada:&quot;Trazando el camino Después de la Gradua
 ción: Estrategias y Desafíos para los recién graduados de la Ingenierí
 a en el Mercado Laboral&quot; Esta será presentada por la Ing. Raisa Rosero.\n
 \nSpeaker(s): Ing. Raisa Rosero\, \n\nBldg: Edificio de Facilidades Estudi
 antiles\, Universidad Tecnológica de Panamá\, Vía Centenario\, Panamá\
 , Panamá\, Panama\, Panama
LOCATION:Bldg: Edificio de Facilidades Estudiantiles\, Universidad Tecnoló
 gica de Panamá\, Vía Centenario\, Panamá\, Panamá\, Panama\, Panama
ORGANIZER:wieramautp1@gmail.com
SEQUENCE:18
SUMMARY:DÍA DE LA MUJER EN LA INGENIERÍA: Trazando el camino Después de 
 la Graduación: Estrategias y Desafíos para los recién graduados de la I
 ngeniería en el Mercado Laboral
URL;VALUE=URI:https://events.vtools.ieee.org/m/364439
X-ALT-DESC:Description: &lt;br /&gt;&lt;p&gt;En conmemoraci&amp;oacute\;n del D&amp;iacute\;a d
 e la Mujer en la Ingenier&amp;iacute\;a se realizar&amp;aacute\; una conferencia t
 itulada:&lt;em&gt;&quot;&lt;strong&gt;&lt;span class=&quot;WdYUQQ text-decoration-none text-striket
 hrough-none&quot;&gt;Trazando el camino Despu&amp;eacute\;s de la Graduaci&amp;oacute\;n: 
 &lt;/span&gt;&lt;/strong&gt;&lt;span class=&quot;WdYUQQ text-decoration-none text-strikethroug
 h-none&quot;&gt;Estrategias y Desaf&amp;iacute\;os para los reci&amp;eacute\;n graduados d
 e la Ingenier&amp;iacute\;a en el Mercado Laboral&quot;&lt;/span&gt;&lt;/em&gt;&lt;span class=&quot;WdY
 UQQ text-decoration-none text-strikethrough-none&quot;&gt;&amp;nbsp\;Esta ser&amp;aacute\;
  presentada por la Ing. Raisa Rosero.&lt;/span&gt;&lt;/p&gt;
END:VEVENT
END:VCALENDAR

