BEGIN:VCALENDAR
VERSION:2.0
PRODID:IEEE vTools.Events//EN
CALSCALE:GREGORIAN
BEGIN:VTIMEZONE
TZID:America/New_York
BEGIN:DAYLIGHT
DTSTART:20230312T030000
TZOFFSETFROM:-0500
TZOFFSETTO:-0400
RRULE:FREQ=YEARLY;BYDAY=2SU;BYMONTH=3
TZNAME:EDT
END:DAYLIGHT
BEGIN:STANDARD
DTSTART:20231105T010000
TZOFFSETFROM:-0400
TZOFFSETTO:-0500
RRULE:FREQ=YEARLY;BYDAY=1SU;BYMONTH=11
TZNAME:EST
END:STANDARD
END:VTIMEZONE
BEGIN:VEVENT
DTSTAMP:20231107T182825Z
UID:01DD67DC-3522-4A45-A35D-CC4E5C945624
DTSTART;TZID=America/New_York:20231103T073000
DTEND;TZID=America/New_York:20231103T180000
DESCRIPTION:IEEE Region 4 Women In Engineering Leadership Summit (WIELS) No
 vember 3\, 2023\, will bring together 200+ engineering leaders\, researche
 rs\, educators\, innovators\, disruptors\, young professionals\, and stude
 nts to gather at the conference to help advance the state of practice rela
 ted to energy/sustainability challenges\, work/life\, future of engineerin
 g and STEM in the era of OpenAI\, and leadership vision. Speakers will sha
 re real-life experiences and lessons learned. This summit would provide a 
 platform to identify opportunities for improvement and networking.\n\nCo-s
 ponsored by: IEEE USA\n\nSpeaker(s): Dr. Anna Demeo\, Carlene Bills\, Dr. 
 Rita Baranwal\n\nAgenda: \n[Summit Program Agenda](https://attend.ieee.org
 /wieils-r4-2023/program/)\n\nRoom: 5C18/5C20\, Bldg: Microsoft Technology 
 Center\, 1 Campus Martius\, 1000 Woodward Suite 500\, Detroit\, Michigan\,
  United States\, 48226
LOCATION:Room: 5C18/5C20\, Bldg: Microsoft Technology Center\, 1 Campus Mar
 tius\, 1000 Woodward Suite 500\, Detroit\, Michigan\, United States\, 4822
 6
ORGANIZER:vaozburn@ieee.org
SEQUENCE:38
SUMMARY:2023 IEEE R4 WIE International Leadership Summit Detroit
URL;VALUE=URI:https://events.vtools.ieee.org/m/364503
X-ALT-DESC:Description: &lt;br /&gt;&lt;p&gt;&lt;strong&gt;IEEE Region 4 Women In Engineering
  Leadership Summit &lt;/strong&gt;&lt;span style=&quot;font-weight: 400\;&quot;&gt;(&lt;/span&gt;&lt;span
  style=&quot;font-weight: 400\;&quot;&gt;WIELS)&lt;/span&gt;&lt;strong&gt; November 3\, 2023&lt;/stron
 g&gt;&lt;span style=&quot;font-weight: 400\;&quot;&gt;\, will bring together 200+ engineering
  leaders\, researchers\, educators\, innovators\, disruptors\, young profe
 ssionals\, and students to gather at the conference to help advance the st
 ate of practice related to&lt;/span&gt;&lt;em&gt;&lt;span style=&quot;font-weight: 400\;&quot;&gt; &lt;/s
 pan&gt;&lt;/em&gt;&lt;strong&gt;energy/sustainability challenges\, work/life\, future of 
 engineering and STEM in the era of OpenAI\, &lt;/strong&gt;&lt;span style=&quot;font-wei
 ght: 400\;&quot;&gt;and &lt;/span&gt;&lt;strong&gt;leadership vision&lt;/strong&gt;&lt;span style=&quot;font
 -weight: 400\;&quot;&gt;. &lt;/span&gt;&lt;span style=&quot;font-weight: 400\;&quot;&gt;Speakers will sh
 are real-life experiences and lessons learned. This summit would provide a
  platform to identify opportunities for improvement and networking.&amp;nbsp\;
 &lt;/span&gt;&lt;/p&gt;&lt;br /&gt;&lt;br /&gt;Agenda: &lt;br /&gt;&lt;p&gt;&lt;a href=&quot;https://attend.ieee.org/w
 ieils-r4-2023/program/&quot;&gt;Summit Program Agenda&lt;/a&gt;&lt;/p&gt;
END:VEVENT
END:VCALENDAR

