BEGIN:VCALENDAR
VERSION:2.0
PRODID:IEEE vTools.Events//EN
CALSCALE:GREGORIAN
BEGIN:VTIMEZONE
TZID:America/Lima
BEGIN:DAYLIGHT
DTSTART:20380118T221407
TZOFFSETFROM:-0500
TZOFFSETTO:-0500
RRULE:FREQ=YEARLY;BYDAY=3MO;BYMONTH=1
TZNAME:-05
END:DAYLIGHT
BEGIN:STANDARD
DTSTART:19940331T230000
TZOFFSETFROM:-0400
TZOFFSETTO:-0500
RRULE:FREQ=YEARLY;BYDAY=-1TH;BYMONTH=3
TZNAME:-05
END:STANDARD
END:VTIMEZONE
BEGIN:VEVENT
DTSTAMP:20230719T165759Z
UID:0ED0A947-A6C7-439E-A612-4CE3DB784C03
DTSTART;TZID=America/Lima:20230624T140000
DTEND;TZID=America/Lima:20230624T182000
DESCRIPTION:IEEE Student Transition and Elevation Partnership (STEP) is an 
 initiative of Young Professional Affinity Group to provide a dynamic progr
 am for facilitating the transition of students from the student life to th
 e professional world by introducing the opportunities and benefits of IEEE
  membership.\n\nThis event in IEEE Peru Section is being promoted by Stude
 nt Branches IEEE Universidad Nacional Mayor de San Marcos and Pontificia U
 niversidad Católica del Peru with the support of IEEE Young Professionals
  Peru Section Affinity Group.\n\nLanguage Event: Spanish\n\nCo-sponsored b
 y: IEEE Young Professionals\n\nSpeaker(s): Marco Cruz\, Karol Jurado\, Gon
 zalo Diaz\, Lllanelli Zagaceta\n\nAgenda: \n13:30 - 14:00 / Atendees entry
 \n\n14:00 - 15:00 / IEEE Young Professionals Peru: Present and Future\n\n1
 5:00 - 15:20 / Coffee Break\n\n15:30 - 16:30 / Virtual Reality in Educatio
 n\n\n16:45 - 17:45/ Problem solving and decision making\n\n17:45 - 18:05 /
  Challenge and networking\n\n18:05 - 18:20 / Closure\n\nUniversitaria 1801
  Avenue\, Lima\, Lima\, Peru\, San Miguel 15088
LOCATION:Universitaria 1801 Avenue\, Lima\, Lima\, Peru\, San Miguel 15088
ORGANIZER:yp.peru@ieee.org
SEQUENCE:12
SUMMARY:IEEE YP STEP EVENT: NEW YPIONEERS
URL;VALUE=URI:https://events.vtools.ieee.org/m/364586
X-ALT-DESC:Description: &lt;br /&gt;&lt;p&gt;IEEE Student Transition and Elevation Part
 nership (STEP) is an initiative of Young Professional Affinity Group to pr
 ovide a dynamic program for facilitating the transition of students from t
 he student life to the professional world by introducing the opportunities
  and benefits of IEEE membership.&lt;/p&gt;\n&lt;p&gt;This event in IEEE Peru Section 
 is being promoted by Student Branches IEEE Universidad Nacional Mayor de S
 an Marcos and Pontificia Universidad Cat&amp;oacute\;lica del Peru with the su
 pport of IEEE Young Professionals Peru Section Affinity Group.&lt;/p&gt;\n&lt;p&gt;&lt;st
 rong&gt;Language Event: &lt;/strong&gt;Spanish&lt;/p&gt;&lt;br /&gt;&lt;br /&gt;Agenda: &lt;br /&gt;&lt;p&gt;13:3
 0 - 14:00 / Atendees entry&lt;/p&gt;\n&lt;p&gt;14:00 - 15:00 / IEEE Young Professional
 s Peru: Present and Future&lt;/p&gt;\n&lt;p&gt;15:00 - 15:20 / Coffee Break&lt;/p&gt;\n&lt;p&gt;15
 :30 - 16:30 / Virtual Reality in Education&lt;/p&gt;\n&lt;p&gt;16:45 - 17:45/ Problem 
 solving and decision making&lt;/p&gt;\n&lt;p&gt;17:45 - 18:05 / Challenge and networki
 ng&lt;/p&gt;\n&lt;p&gt;18:05 - 18:20 / Closure&lt;/p&gt;
END:VEVENT
END:VCALENDAR

