BEGIN:VCALENDAR
VERSION:2.0
PRODID:IEEE vTools.Events//EN
CALSCALE:GREGORIAN
BEGIN:VTIMEZONE
TZID:America/New_York
BEGIN:DAYLIGHT
DTSTART:20230312T030000
TZOFFSETFROM:-0500
TZOFFSETTO:-0400
RRULE:FREQ=YEARLY;BYDAY=2SU;BYMONTH=3
TZNAME:EDT
END:DAYLIGHT
BEGIN:STANDARD
DTSTART:20231105T010000
TZOFFSETFROM:-0400
TZOFFSETTO:-0500
RRULE:FREQ=YEARLY;BYDAY=1SU;BYMONTH=11
TZNAME:EST
END:STANDARD
END:VTIMEZONE
BEGIN:VEVENT
DTSTAMP:20230624T002347Z
UID:A7EB6584-7AA9-43F1-B808-A8A1C9707574
DTSTART;TZID=America/New_York:20230623T133000
DTEND;TZID=America/New_York:20230623T143000
DESCRIPTION:Discussed Storm/Wick scholarships. Jerry Genello has selected 4
  students for award and we have a donor who like to donate anonymously for
  the fifth award. We approved accepting the donation for the fifth award\,
  and discussed logistics for accepting and distrubuting the funds.\n\nOthe
 r topics included reminding attendees to host additional meetings this sum
 mer\, whether Peter can attend the IEEE Section Chair gathering\, and the 
 fact that our officer terms have actually expired and we need to hold anot
 her election or see if our terms can be extended.\n\nVirtual: https://even
 ts.vtools.ieee.org/m/365027
LOCATION:Virtual: https://events.vtools.ieee.org/m/365027
ORGANIZER:ashley.prater@ieee.org
SEQUENCE:5
SUMMARY:Mohawk Valley Section Officers Meeting
URL;VALUE=URI:https://events.vtools.ieee.org/m/365027
X-ALT-DESC:Description: &lt;br /&gt;&lt;p&gt;Discussed Storm/Wick scholarships. Jerry G
 enello has selected 4 students for award and we have a donor who like to d
 onate anonymously for the fifth award. &amp;nbsp\;We approved accepting the do
 nation for the fifth award\, and discussed logistics for accepting and dis
 trubuting the funds.&lt;/p&gt;\n&lt;p&gt;Other topics included reminding attendees to 
 host additional meetings this summer\, whether Peter can attend the IEEE S
 ection Chair gathering\, and the fact that our officer terms have actually
  expired and we need to hold another election or see if our terms can be e
 xtended.&lt;/p&gt;
END:VEVENT
END:VCALENDAR

