BEGIN:VCALENDAR
VERSION:2.0
PRODID:IEEE vTools.Events//EN
CALSCALE:GREGORIAN
BEGIN:VTIMEZONE
TZID:America/Mexico_City
BEGIN:STANDARD
DTSTART:20221030T010000
TZOFFSETFROM:-0500
TZOFFSETTO:-0600
TZNAME:CST
END:STANDARD
END:VTIMEZONE
BEGIN:VEVENT
DTSTAMP:20230703T140118Z
UID:E942C0B1-0097-410E-A5F4-7D32FB1CB020
DTSTART;TZID=America/Mexico_City:20230630T110000
DTEND;TZID=America/Mexico_City:20230630T120000
DESCRIPTION:This event that we are organizing from WIE Guadalajara Section 
 according to the theme of WIE Day 2023. Let&#39;s remember that in order to he
 lp counteract climate change\, we must know what are some of the causes.\n
 \nCo-sponsored by: ITESO Univsersity\n\nSpeaker(s): Dra Marinés De La Pe
 ña Domene\n\nVirtual: https://events.vtools.ieee.org/m/365407
LOCATION:Virtual: https://events.vtools.ieee.org/m/365407
ORGANIZER:mildreth.alcaraz@ieee.org
SEQUENCE:10
SUMMARY:Sistemas productivos ante el cambio climático: problemáticas y al
 ternativas 
URL;VALUE=URI:https://events.vtools.ieee.org/m/365407
X-ALT-DESC:Description: &lt;br /&gt;&lt;pre id=&quot;tw-target-text&quot; dir=&quot;ltr&quot; data-place
 holder=&quot;Translation&quot;&gt;&lt;span lang=&quot;en&quot; style=&quot;font-family: arial\, helvetica
 \, sans-serif\; font-size: 14pt\;&quot;&gt;This event that we are organizing from 
 WIE Guadalajara Section according to the theme of WIE Day 2023. Let&#39;s reme
 mber that in order to help counteract climate change\, we must know what a
 re some of the causes.&lt;/span&gt;&lt;/pre&gt;
END:VEVENT
END:VCALENDAR

