BEGIN:VCALENDAR
VERSION:2.0
PRODID:IEEE vTools.Events//EN
CALSCALE:GREGORIAN
BEGIN:VTIMEZONE
TZID:Asia/Kolkata
BEGIN:STANDARD
DTSTART:19451014T230000
TZOFFSETFROM:+0630
TZOFFSETTO:+0530
TZNAME:IST
END:STANDARD
END:VTIMEZONE
BEGIN:VEVENT
DTSTAMP:20231106T145931Z
UID:70C13859-EAC9-4DCD-9C95-8450CA6EFD86
DTSTART;TZID=Asia/Kolkata:20220826T190000
DTEND;TZID=Asia/Kolkata:20220826T200000
DESCRIPTION:Join us for an insightful expert talk on the Role of Mathematic
 s in Artificial Intelligence\, featuring the esteemed guest lecturer\, Mr.
  Sivakumar. This talk aims to highlight the fundamental connection between
  mathematics and artificial intelligence\, showcasing how mathematical con
 cepts and techniques form the backbone of AI algorithms and models.\n\nLed
  by Mr. Sivakumar\, a distinguished expert in the field of mathematics and
  AI\, this talk will delve into the key mathematical principles that under
 pin various AI applications. Participants will gain a deeper understanding
  of concepts such as linear algebra\, calculus\, probability theory\, and 
 optimization\, and their significance in building and training AI models.\
 n\nThrough practical examples and case studies\, Mr. Sivakumar will demons
 trate how mathematical concepts are utilized in machine learning algorithm
 s\, deep learning architectures\, and natural language processing. Partici
 pants will learn about the mathematical foundations of neural networks\, t
 he role of optimization algorithms in model training\, and the statistical
  concepts used in AI-based decision-making systems.\n\nThe talk will also 
 explore advanced mathematical techniques\, such as graph theory and Bayesi
 an inference\, and their applications in AI. Mr. Sivakumar will provide in
 sights into the challenges and opportunities that arise when applying math
 ematical principles to real-world AI problems.\n\nWhether you are a mathem
 atician\, data scientist\, AI practitioner\, or simply interested in the i
 ntersection of mathematics and AI\, this expert talk offers a unique oppor
 tunity to gain valuable insights from Mr. Sivakumar&#39;s expertise. Register 
 now to secure your spot and uncover the crucial role of mathematics in the
  field of artificial intelligence.\n\nSpeaker(s): Mr. Sivakumar\, \n\nVirt
 ual: https://events.vtools.ieee.org/m/365873
LOCATION:Virtual: https://events.vtools.ieee.org/m/365873
ORGANIZER:swagata@ieee.org
SEQUENCE:19
SUMMARY:Role of Mathematics in Artificial Intelligence
URL;VALUE=URI:https://events.vtools.ieee.org/m/365873
X-ALT-DESC:Description: &lt;br /&gt;&lt;p&gt;Join us for an insightful expert talk on t
 he Role of Mathematics in Artificial Intelligence\, featuring the esteemed
  guest lecturer\, Mr. Sivakumar. This talk aims to highlight the fundament
 al connection between mathematics and artificial intelligence\, showcasing
  how mathematical concepts and techniques form the backbone of AI algorith
 ms and models.&lt;/p&gt;\n&lt;p&gt;Led by Mr. Sivakumar\, a distinguished expert in th
 e field of mathematics and AI\, this talk will delve into the key mathemat
 ical principles that underpin various AI applications. Participants will g
 ain a deeper understanding of concepts such as linear algebra\, calculus\,
  probability theory\, and optimization\, and their significance in buildin
 g and training AI models.&lt;/p&gt;\n&lt;p&gt;Through practical examples and case stud
 ies\, Mr. Sivakumar will demonstrate how mathematical concepts are utilize
 d in machine learning algorithms\, deep learning architectures\, and natur
 al language processing. Participants will learn about the mathematical fou
 ndations of neural networks\, the role of optimization algorithms in model
  training\, and the statistical concepts used in AI-based decision-making 
 systems.&lt;/p&gt;\n&lt;p&gt;The talk will also explore advanced mathematical techniqu
 es\, such as graph theory and Bayesian inference\, and their applications 
 in AI. Mr. Sivakumar will provide insights into the challenges and opportu
 nities that arise when applying mathematical principles to real-world AI p
 roblems.&lt;/p&gt;\n&lt;p&gt;Whether you are a mathematician\, data scientist\, AI pra
 ctitioner\, or simply interested in the intersection of mathematics and AI
 \, this expert talk offers a unique opportunity to gain valuable insights 
 from Mr. Sivakumar&#39;s expertise. Register now to secure your spot and uncov
 er the crucial role of mathematics in the field of artificial intelligence
 .&lt;/p&gt;
END:VEVENT
END:VCALENDAR

