BEGIN:VCALENDAR
VERSION:2.0
PRODID:IEEE vTools.Events//EN
CALSCALE:GREGORIAN
BEGIN:VTIMEZONE
TZID:Asia/Kolkata
BEGIN:STANDARD
DTSTART:19451014T230000
TZOFFSETFROM:+0630
TZOFFSETTO:+0530
TZNAME:IST
END:STANDARD
END:VTIMEZONE
BEGIN:VEVENT
DTSTAMP:20231106T145810Z
UID:6EFDADD9-853D-4698-930D-B31695C5DE94
DTSTART;TZID=Asia/Kolkata:20220915T141500
DTEND;TZID=Asia/Kolkata:20220915T151500
DESCRIPTION:Join us for an informative expert talk on Awareness about Onlin
 e Courses\, featuring the esteemed guest lecturer\, Mr. Saswathi Kumari. T
 his talk aims to provide participants with valuable insights into the worl
 d of online education and the benefits of pursuing online courses to enhan
 ce their knowledge and skills.\n\nLed by Mr. Saswathi Kumari\, a renowned 
 expert in the field of online education\, this talk will cover a wide rang
 e of topics. Participants will gain a comprehensive understanding of the a
 dvantages of online courses\, including flexibility\, accessibility\, and 
 a vast array of subject areas to choose from.\n\nDuring the talk\, Mr. Sas
 wathi Kumari will discuss the various types of online courses available\, 
 such as self-paced courses\, instructor-led courses\, and Massive Open Onl
 ine Courses (MOOCs). Participants will learn about the diverse learning pl
 atforms and resources that facilitate online learning\, ensuring an engagi
 ng and interactive learning experience.\n\nMoreover\, the talk will explor
 e the importance of continuous learning in today&#39;s rapidly evolving world 
 and how online courses provide a convenient avenue to stay updated with th
 e latest trends and developments in various fields. Mr. Saswathi Kumari wi
 ll share insights into how online courses can contribute to professional g
 rowth\, career advancement\, and personal enrichment.\n\nWhether you are a
  student\, working professional\, or lifelong learner\, this expert talk o
 ffers a valuable opportunity to gain insights from Mr. Saswathi Kumari&#39;s e
 xpertise and explore the vast possibilities of online education. Register 
 now to secure your spot and discover the potential of online courses in ex
 panding your knowledge and skills.\n\nSpeaker(s): \, Dr. Saswathi Kumari\n
 \nchennai\, Tamil Nadu\, India\, 600044
LOCATION:chennai\, Tamil Nadu\, India\, 600044
ORGANIZER:swagata@ieee.org
SEQUENCE:27
SUMMARY:Expert Talk on Awareness about Online Course
URL;VALUE=URI:https://events.vtools.ieee.org/m/365880
X-ALT-DESC:Description: &lt;br /&gt;&lt;p&gt;Join us for an informative expert talk on 
 Awareness about Online Courses\, featuring the esteemed guest lecturer\, M
 r. Saswathi Kumari. This talk aims to provide participants with valuable i
 nsights into the world of online education and the benefits of pursuing on
 line courses to enhance their knowledge and skills.&lt;/p&gt;\n&lt;p&gt;Led by Mr. Sas
 wathi Kumari\, a renowned expert in the field of online education\, this t
 alk will cover a wide range of topics. Participants will gain a comprehens
 ive understanding of the advantages of online courses\, including flexibil
 ity\, accessibility\, and a vast array of subject areas to choose from.&lt;/p
 &gt;\n&lt;p&gt;During the talk\, Mr. Saswathi Kumari will discuss the various types
  of online courses available\, such as self-paced courses\, instructor-led
  courses\, and Massive Open Online Courses (MOOCs). Participants will lear
 n about the diverse learning platforms and resources that facilitate onlin
 e learning\, ensuring an engaging and interactive learning experience.&lt;/p&gt;
 \n&lt;p&gt;Moreover\, the talk will explore the importance of continuous learnin
 g in today&#39;s rapidly evolving world and how online courses provide a conve
 nient avenue to stay updated with the latest trends and developments in va
 rious fields. Mr. Saswathi Kumari will share insights into how online cour
 ses can contribute to professional growth\, career advancement\, and perso
 nal enrichment.&lt;/p&gt;\n&lt;p&gt;Whether you are a student\, working professional\,
  or lifelong learner\, this expert talk offers a valuable opportunity to g
 ain insights from Mr. Saswathi Kumari&#39;s expertise and explore the vast pos
 sibilities of online education. Register now to secure your spot and disco
 ver the potential of online courses in expanding your knowledge and skills
 .&lt;/p&gt;
END:VEVENT
END:VCALENDAR

