BEGIN:VCALENDAR
VERSION:2.0
PRODID:IEEE vTools.Events//EN
CALSCALE:GREGORIAN
BEGIN:VTIMEZONE
TZID:America/Indiana/Indianapolis
BEGIN:DAYLIGHT
DTSTART:20230312T030000
TZOFFSETFROM:-0500
TZOFFSETTO:-0400
RRULE:FREQ=YEARLY;BYDAY=2SU;BYMONTH=3
TZNAME:EDT
END:DAYLIGHT
BEGIN:STANDARD
DTSTART:20231105T010000
TZOFFSETFROM:-0400
TZOFFSETTO:-0500
RRULE:FREQ=YEARLY;BYDAY=1SU;BYMONTH=11
TZNAME:EST
END:STANDARD
END:VTIMEZONE
BEGIN:VEVENT
DTSTAMP:20230725T092324Z
UID:100AF6F4-78B2-4763-946D-AE115485FBFF
DTSTART;TZID=America/Indiana/Indianapolis:20230711T180000
DTEND;TZID=America/Indiana/Indianapolis:20230712T200000
DESCRIPTION:Day 1 - 11th July 2023 - Panel Discussion on “Women in Sustai
 nability &amp; Climatic Changes”\n\nDay 2 -12th July 2023 - Enlightening Exp
 ert talks\n\nCo-sponsored by:  Noida UP\n\nSpeaker(s): Dr. Ramalatha Marim
 uthu\, Dr. Surekha Rajendra Deshmukh\, Ms Shubangi Ghosh\, Dr.M.Lakshmi Sw
 arupa\, Dr.Aparna Dixit\n\nVirtual: https://events.vtools.ieee.org/m/36615
 5
LOCATION:Virtual: https://events.vtools.ieee.org/m/366155
ORGANIZER:harivardhagini@gmail.com
SEQUENCE:12
SUMMARY:Celebrating IEEE WIE DAY 2023 “Women in Sustainability &amp; Climatic
  Changes” 
URL;VALUE=URI:https://events.vtools.ieee.org/m/366155
X-ALT-DESC:Description: &lt;br /&gt;&lt;p&gt;Day 1 - 11th July 2023 - Panel Discussion 
 on &amp;ldquo\;&lt;strong&gt;Women in Sustainability &amp;amp\; Climatic Changes&lt;/strong
 &gt;&amp;rdquo\;&amp;nbsp\;&lt;/p&gt;\n&lt;p&gt;Day 2 -12th July 2023 - Enlightening Expert talks
 &amp;nbsp\;&lt;/p&gt;
END:VEVENT
END:VCALENDAR

