BEGIN:VCALENDAR
VERSION:2.0
PRODID:IEEE vTools.Events//EN
CALSCALE:GREGORIAN
BEGIN:VTIMEZONE
TZID:America/Chicago
BEGIN:DAYLIGHT
DTSTART:20230312T030000
TZOFFSETFROM:-0600
TZOFFSETTO:-0500
RRULE:FREQ=YEARLY;BYDAY=2SU;BYMONTH=3
TZNAME:CDT
END:DAYLIGHT
BEGIN:STANDARD
DTSTART:20231105T010000
TZOFFSETFROM:-0500
TZOFFSETTO:-0600
RRULE:FREQ=YEARLY;BYDAY=1SU;BYMONTH=11
TZNAME:CST
END:STANDARD
END:VTIMEZONE
BEGIN:VEVENT
DTSTAMP:20230919T142646Z
UID:08200854-27FF-4ED2-AAA9-25EFF9E90BC5
DTSTART;TZID=America/Chicago:20230914T173000
DTEND;TZID=America/Chicago:20230914T183000
DESCRIPTION:Join us for a FREE webinar - Stop Killing Accountability.\n\nHe
 re&#39;s the deal. Both leaders and employees desire accountability in the wor
 kplace\, and when it’s present\, there are positive impacts on employee 
 engagement. So\, WHY are so many lamenting over the lack of it in their or
 ganizations? The reality is that corporate culture kills accountability in
  many (AVOIDABLE) ways.\n\nIn this webinar\, we’re going to share:\n-The
  definition of what accountability truly is and why it’s important\n-Com
 mon things companies do to kill it\, and\n-Specific things you need to sto
 p doing immediately to build accountability\n\nSpeaker(s): Courtney Smock\
 , \n\nVirtual: https://events.vtools.ieee.org/m/366335
LOCATION:Virtual: https://events.vtools.ieee.org/m/366335
ORGANIZER:vaozburn@ieee.org
SEQUENCE:16
SUMMARY:Stop Killing Accountability
URL;VALUE=URI:https://events.vtools.ieee.org/m/366335
X-ALT-DESC:Description: &lt;br /&gt;&lt;p&gt;Join us for a FREE webinar - Stop Killing 
 Accountability.&lt;br /&gt;&lt;br /&gt;Here&#39;s the deal. Both leaders and employees&amp;nbs
 p\;desire&amp;nbsp\;accountability in the workplace\, and when it&amp;rsquo\;s pre
 sent\, there are positive impacts on employee engagement. So\, WHY are so 
 many lamenting over the lack of it in their organizations? The reality is 
 that corporate culture kills accountability in many (AVOIDABLE) ways.&lt;br /
 &gt;&lt;br /&gt;In this webinar\, we&amp;rsquo\;re going to share:&lt;br /&gt;-The definition
  of what accountability truly is and why it&amp;rsquo\;s important&lt;br /&gt;-Commo
 n things companies do to kill it\, and&lt;br /&gt;-Specific things you need to s
 top doing immediately to build accountability&lt;br /&gt;&lt;br /&gt;&lt;/p&gt;
END:VEVENT
END:VCALENDAR

