BEGIN:VCALENDAR
VERSION:2.0
PRODID:IEEE vTools.Events//EN
CALSCALE:GREGORIAN
BEGIN:VTIMEZONE
TZID:America/Los_Angeles
BEGIN:DAYLIGHT
DTSTART:20230312T030000
TZOFFSETFROM:-0800
TZOFFSETTO:-0700
RRULE:FREQ=YEARLY;BYDAY=2SU;BYMONTH=3
TZNAME:PDT
END:DAYLIGHT
BEGIN:STANDARD
DTSTART:20231105T010000
TZOFFSETFROM:-0700
TZOFFSETTO:-0800
RRULE:FREQ=YEARLY;BYDAY=1SU;BYMONTH=11
TZNAME:PST
END:STANDARD
END:VTIMEZONE
BEGIN:VEVENT
DTSTAMP:20230901T125850Z
UID:1955F2DD-A7BE-4916-B115-E0391909E48B
DTSTART;TZID=America/Los_Angeles:20230831T150000
DTEND;TZID=America/Los_Angeles:20230831T163000
DESCRIPTION:Controls\, Robotics and Cybernetics Joint Chapter of IEEE Vanco
 uver Section\n\nTitle: Kinematically Redundant Hybrid Parallel Robots for 
 Physical Human-Robot Interaction\n\nSpeaker: Dr. Kefei Wen\n\nDate &amp; Time:
  August 31st\, 2023 at 3PM Pacific Time\n\nPlace: Zoom and UBC Point Grey 
 Campus\n\nAbstract:\n\nRobots that physically interact with humans are mak
 ing their way into many applications like in\n\nmanufacturing and healthca
 re. Many parallel robots are favourable candidates that can be used\n\nas 
 physical human-robot interaction interfaces since the actuators are mounte
 d on or close to\n\nthe base\, thereby reducing the inertia of the moving 
 parts and ensuring backdrivability.\n\nHowever\, the performance of such r
 obots is limited by their relatively small rotational\n\ncapabilities due 
 to singularities within the workspace. In this talk\, we present the kinem
 atic\n\nanalysis and motion control of a class of novel kinematically redu
 ndant hybrid parallel robots\,\n\nwhere kinematic redundancy is utilised t
 o completely alleviate singularities\, resulting in a very\n\nlarge orient
 ational workspace. Potential applications of this kind of robots in the co
 ntext of\n\nphysical human-robot interaction are then demonstrated through
  a prototype.\n\nSpeaker(s): Kefei Wen \n\nAgenda: \n3:00PM: Start and Int
 roduction\n\n3:10PM: Talk\n\nDiscussion\n\n4:30PM: Meeting ends\n\nRoom: 3
 038 \, Bldg: MacLeod Building \, UBC Point Grey Campus \, University of Br
 itish Columbia \, Vancouver \, British Columbia\, Canada\, Virtual: https:
 //events.vtools.ieee.org/m/366489
LOCATION:Room: 3038 \, Bldg: MacLeod Building \, UBC Point Grey Campus \, U
 niversity of British Columbia \, Vancouver \, British Columbia\, Canada\, 
 Virtual: https://events.vtools.ieee.org/m/366489
ORGANIZER:nagamune@mech.ubc.ca
SEQUENCE:34
SUMMARY:Kinematically Redundant Hybrid Parallel Robots for Physical Human-R
 obot Interaction
URL;VALUE=URI:https://events.vtools.ieee.org/m/366489
X-ALT-DESC:Description: &lt;br /&gt;&lt;p&gt;&lt;strong&gt;Controls\, Robotics and Cybernetic
 s Joint Chapter of IEEE Vancouver Section&lt;/strong&gt;&lt;/p&gt;\n&lt;p&gt;&lt;strong&gt;Title: 
 Kinematically Redundant Hybrid Parallel Robots for Physical Human-Robot In
 teraction&lt;/strong&gt;&lt;/p&gt;\n&lt;p&gt;&lt;strong&gt;Speaker: Dr. Kefei Wen&lt;/strong&gt;&lt;/p&gt;\n&lt;p
 &gt;&lt;strong&gt;Date &amp;amp\; Time: &amp;nbsp\;August 31&lt;sup&gt;st&lt;/sup&gt;\, 2023 at 3PM Pac
 ific Time&lt;/strong&gt;&lt;/p&gt;\n&lt;p&gt;&lt;strong&gt;Place: Zoom and UBC Point Grey Campus&amp;n
 bsp\;&lt;/strong&gt;&lt;/p&gt;\n&lt;p&gt;&lt;strong&gt;Abstract:&amp;nbsp\;&lt;/strong&gt;&lt;/p&gt;\n&lt;p&gt;Robots th
 at physically interact with humans are making their way into many applicat
 ions like in&lt;/p&gt;\n&lt;p&gt;manufacturing and healthcare. Many parallel robots ar
 e favourable candidates that can be used&lt;/p&gt;\n&lt;p&gt;as physical human-robot i
 nteraction interfaces since the actuators are mounted on or close to&lt;/p&gt;\n
 &lt;p&gt;the base\, thereby reducing the inertia of the moving parts and ensurin
 g backdrivability.&lt;/p&gt;\n&lt;p&gt;However\, the performance of such robots is lim
 ited by their relatively small rotational&lt;/p&gt;\n&lt;p&gt;capabilities due to sing
 ularities within the workspace. In this talk\, we present the kinematic&lt;/p
 &gt;\n&lt;p&gt;analysis and motion control of a class of novel kinematically redund
 ant hybrid parallel robots\,&lt;/p&gt;\n&lt;p&gt;where kinematic redundancy is utilise
 d to completely alleviate singularities\, resulting in a very&lt;/p&gt;\n&lt;p&gt;larg
 e orientational workspace. Potential applications of this kind of robots i
 n the context of&lt;/p&gt;\n&lt;p&gt;physical human-robot interaction are then demonst
 rated through a prototype.&lt;/p&gt;&lt;br /&gt;&lt;br /&gt;Agenda: &lt;br /&gt;&lt;p&gt;3:00PM: Start a
 nd Introduction&lt;/p&gt;\n&lt;p&gt;3:10PM: Talk&lt;/p&gt;\n&lt;p&gt;&amp;nbsp\; &amp;nbsp\; &amp;nbsp\; &amp;nbsp
 \; &amp;nbsp\; &amp;nbsp\; &amp;nbsp\; Discussion&amp;nbsp\;&lt;/p&gt;\n&lt;p&gt;4:30PM: Meeting ends&amp;
 nbsp\;&lt;/p&gt;
END:VEVENT
END:VCALENDAR

