BEGIN:VCALENDAR
VERSION:2.0
PRODID:IEEE vTools.Events//EN
CALSCALE:GREGORIAN
BEGIN:VTIMEZONE
TZID:America/Chicago
BEGIN:DAYLIGHT
DTSTART:20230312T030000
TZOFFSETFROM:-0600
TZOFFSETTO:-0500
RRULE:FREQ=YEARLY;BYDAY=2SU;BYMONTH=3
TZNAME:CDT
END:DAYLIGHT
BEGIN:STANDARD
DTSTART:20231105T010000
TZOFFSETFROM:-0500
TZOFFSETTO:-0600
RRULE:FREQ=YEARLY;BYDAY=1SU;BYMONTH=11
TZNAME:CST
END:STANDARD
END:VTIMEZONE
BEGIN:VEVENT
DTSTAMP:20230720T224633Z
UID:2770C800-61D7-41B1-9CF3-AD3DEE8547C1
DTSTART;TZID=America/Chicago:20230720T113000
DTEND;TZID=America/Chicago:20230720T133000
DESCRIPTION:The effects of nuclear explosions are discussed in terms of the
  eye lesions to be expected among the survivors of a thermonuclear attack.
 \n\nCo-sponsored by: Dr. Larry Higgins\n\nSpeaker(s): Dr. Garrett Polhamus
 \, \n\nAgenda: \n11:30: Welcome\, Introductions\n\n12:00: Lunch\n\n12:30: 
 Technical talk and discussions\n\nBldg: Pricate Room\, La Fonda Alamo Heig
 hts\, 8633 Crownhill Blvd\, San Antonio\, Texas\, United States\, 78209
LOCATION:Bldg: Pricate Room\, La Fonda Alamo Heights\, 8633 Crownhill Blvd\
 , San Antonio\, Texas\, United States\, 78209
ORGANIZER:s.atkinson@ieee.org
SEQUENCE:45
SUMMARY:IEEE Meeting: Eye Injury from Nuclear Weapons
URL;VALUE=URI:https://events.vtools.ieee.org/m/366501
X-ALT-DESC:Description: &lt;br /&gt;&lt;p&gt;The effects of nuclear explosions are disc
 ussed in terms of the eye lesions to be expected among the survivors of a 
 thermonuclear attack.&lt;/p&gt;&lt;br /&gt;&lt;br /&gt;Agenda: &lt;br /&gt;&lt;p&gt;11:30: Welcome\, Int
 roductions&lt;/p&gt;\n&lt;p&gt;12:00: Lunch&lt;/p&gt;\n&lt;p&gt;12:30: Technical talk and discussi
 ons&lt;/p&gt;
END:VEVENT
END:VCALENDAR

