BEGIN:VCALENDAR
VERSION:2.0
PRODID:IEEE vTools.Events//EN
CALSCALE:GREGORIAN
BEGIN:VTIMEZONE
TZID:Asia/Kolkata
BEGIN:STANDARD
DTSTART:19451014T230000
TZOFFSETFROM:+0630
TZOFFSETTO:+0530
TZNAME:IST
END:STANDARD
END:VTIMEZONE
BEGIN:VEVENT
DTSTAMP:20230731T161650Z
UID:C7E73987-5DC5-4116-BE23-ED586865D0A7
DTSTART;TZID=Asia/Kolkata:20230719T093000
DTEND;TZID=Asia/Kolkata:20230719T163000
DESCRIPTION:Welcome to the 3rd IEEE Hyderabad Nanotechnology Day\, a flagsh
 ip event dedicated to exploring the cutting-edge advancements and potentia
 l of nanotechnology. Organized by the IEEE NTC HSC\, this event brings tog
 ether leading experts\, researchers\, and enthusiasts from around the worl
 d to share knowledge\, foster collaborations\, and envision the future of 
 nanotechnology.\n\nThis year&#39;s event aims to showcase the latest breakthro
 ughs in nanotechnology and its interdisciplinary applications across vario
 us sectors. Through keynote presentations\, panel discussions\, technical 
 sessions\, and interactive workshops\, radio show\, participants will gain
  insights into the transformative potential of nanotechnology in fields su
 ch as healthcare\, electronics\, energy\, materials science\, and more.\n\
 nAttendees will have the opportunity to engage with renowned scientists\, 
 industry professionals\, and academia\, exchanging ideas and exploring inn
 ovative solutions. The event will also feature exhibitions and demonstrati
 ons of cutting-edge nanotechnologies\, providing hands-on experiences and 
 showcasing real-world applications.\n\nThe 3rd IEEE Hyderabad Nanotechnolo
 gy Day promises to be an enriching platform for networking\, knowledge exc
 hange\, and collaboration. It offers a unique opportunity to delve into th
 e world of nanotechnology\, understand its impact on various industries\, 
 and foster meaningful connections with experts and enthusiasts in the fiel
 d.\n\nJoin us for this inspiring event as we dive into the fascinating wor
 ld of nanotechnology and unlock the potential of this transformative field
  to shape the future.\n\nCo-sponsored by: IEEE NTC\, IEEE Hyd SAC\, IEEE N
 TC Young Professionals R10\, IEEE NTC TC12 Nanomagnetics\, IEEE Hyd NTC SB
  Chapters\, IEEE NTC TC1 Nanorobotics\n\nKG Reddy College of Engineering &amp;
  Technology\, Beside Moinabad Police Station\,ChilkurVillage\, Moinabad Mo
 inabad Mandal\, Hyderabad\, Telangana 500075\, Hyderabad\, Andhra Pradesh\
 , India\, 500075
LOCATION:KG Reddy College of Engineering &amp; Technology\, Beside Moinabad Pol
 ice Station\,ChilkurVillage\, Moinabad Moinabad Mandal\, Hyderabad\, Telan
 gana 500075\, Hyderabad\, Andhra Pradesh\, India\, 500075
ORGANIZER:ntchyd@ieee.org
SEQUENCE:16
SUMMARY:3rd IEEE Hyderabad Nano Day 2023
URL;VALUE=URI:https://events.vtools.ieee.org/m/366548
X-ALT-DESC:Description: &lt;br /&gt;&lt;p&gt;Welcome to the 3rd IEEE Hyderabad Nanotech
 nology Day\, a flagship event dedicated to exploring the cutting-edge adva
 ncements and potential of nanotechnology. Organized by the IEEE NTC HSC\, 
 this event brings together leading experts\, researchers\, and enthusiasts
  from around the world to share knowledge\, foster collaborations\, and en
 vision the future of nanotechnology.&lt;/p&gt;\n&lt;p&gt;This year&#39;s event aims to sho
 wcase the latest breakthroughs in nanotechnology and its interdisciplinary
  applications across various sectors. Through keynote presentations\, pane
 l discussions\, technical sessions\, and interactive workshops\, radio sho
 w\, participants will gain insights into the transformative potential of n
 anotechnology in fields such as healthcare\, electronics\, energy\, materi
 als science\, and more.&lt;/p&gt;\n&lt;p&gt;Attendees will have the opportunity to eng
 age with renowned scientists\, industry professionals\, and academia\, exc
 hanging ideas and exploring innovative solutions. The event will also feat
 ure exhibitions and demonstrations of cutting-edge nanotechnologies\, prov
 iding hands-on experiences and showcasing real-world applications.&lt;/p&gt;\n&lt;p
 &gt;The 3rd IEEE Hyderabad Nanotechnology Day promises to be an enriching pla
 tform for networking\, knowledge exchange\, and collaboration. It offers a
  unique opportunity to delve into the world of nanotechnology\, understand
  its impact on various industries\, and foster meaningful connections with
  experts and enthusiasts in the field.&lt;/p&gt;\n&lt;p&gt;Join us for this inspiring 
 event as we dive into the fascinating world of nanotechnology and unlock t
 he potential of this transformative field to shape the future.&lt;/p&gt;
END:VEVENT
END:VCALENDAR

