BEGIN:VCALENDAR
VERSION:2.0
PRODID:IEEE vTools.Events//EN
CALSCALE:GREGORIAN
BEGIN:VTIMEZONE
TZID:Asia/Kolkata
BEGIN:STANDARD
DTSTART:19451014T230000
TZOFFSETFROM:+0630
TZOFFSETTO:+0530
TZNAME:IST
END:STANDARD
END:VTIMEZONE
BEGIN:VEVENT
DTSTAMP:20230713T112125Z
UID:49180670-5859-45F0-B8DC-A8C7CCB0CCA2
DTSTART;TZID=Asia/Kolkata:20221118T094500
DTEND;TZID=Asia/Kolkata:20221118T164000
DESCRIPTION:Bangalore Institute Of Technology students had an industrial vi
 sit cisco\,Cessna campus arranged by IEEE BIT on 18th Nov 2022.It was an w
 onderful experience for all .\n\nTHE Session was started with a good intro
 duction by the Host Asad Khaleel (coordinator for the industrial visit\,ci
 sco) . Then we had leader connect session by Nandu shankar and also a wond
 erful coding puzzle which made session very interesting.\n\nLater a wonder
 ful talk by CX director Sameer Mishra about why the name cisco? and cisco
 ’s innovation. After a cool break a informative technical talk by Gnanas
 undarram Subramaniam about cisco’s technology and collaboration followed
  by a small quiz and Q/A session.\n\nA nice campus tour all over the cisco
  campus which made us to know about cisco people &amp;workplace . At last we f
 inished our wonderful and informative day with cisco’s fun Friday event 
 with many talented musicians and singers of CISCO and BIT\n\nBangalore Ins
 titute Of Technology\, Department Of Electronics And Communication\,  Kr R
 oad\, Vv Pura\, Bangalore\, Karnataka\, India\, 560004
LOCATION:Bangalore Institute Of Technology\, Department Of Electronics And 
 Communication\,  Kr Road\, Vv Pura\, Bangalore\, Karnataka\, India\, 56000
 4
ORGANIZER:jalajas@ieee.org
SEQUENCE:2
SUMMARY:CISCO INDUSTRIAL VISIT 
URL;VALUE=URI:https://events.vtools.ieee.org/m/366819
X-ALT-DESC:Description: &lt;br /&gt;&lt;p&gt;&lt;strong&gt;&lt;u&gt;Bangalore Institute Of Technolo
 gy students &lt;/u&gt;&lt;/strong&gt;&lt;strong&gt;had an industrial visit cisco\,Cessna cam
 pus arranged by &lt;u&gt;IEEE BIT&lt;/u&gt; on 18&lt;sup&gt;th&lt;/sup&gt; Nov 2022.It was an wond
 erful experience for all . &lt;/strong&gt;&lt;/p&gt;\n&lt;p&gt;&lt;strong&gt;THE Session was start
 ed with a good introduction by the Host Asad Khaleel (coordinator for the 
 industrial visit\,cisco) . Then we had leader connect session by Nandu sha
 nkar and also a wonderful coding puzzle which made session very interestin
 g.&amp;nbsp\;&lt;/strong&gt;&lt;/p&gt;\n&lt;p&gt;&lt;strong&gt;Later a wonderful talk by CX director S
 ameer Mishra about why the name cisco?&amp;nbsp\; and cisco&amp;rsquo\;s innovatio
 n. After a cool break a informative technical talk by Gnanasundarram Subra
 maniam about cisco&amp;rsquo\;s technology and collaboration followed by a sma
 ll quiz and Q/A session.&lt;/strong&gt;&lt;/p&gt;\n&lt;p&gt;&lt;strong&gt;A nice campus tour all o
 ver the cisco campus which made us to know about cisco people &amp;amp\;workpl
 ace . At last we finished our wonderful and informative day with cisco&amp;rsq
 uo\;s fun Friday event with many talented musicians and singers of CISCO a
 nd BIT&lt;/strong&gt;&lt;/p&gt;
END:VEVENT
END:VCALENDAR

