BEGIN:VCALENDAR
VERSION:2.0
PRODID:IEEE vTools.Events//EN
CALSCALE:GREGORIAN
BEGIN:VEVENT
DTSTAMP:20231201T153709Z
UID:582FD0B1-8ACB-40C8-AABB-FC2FB2DD38B3
DTSTART;TZID=Etc/GMT+12:20230724T200000
DTEND;TZID=Etc/GMT+12:20230728T220000
DESCRIPTION:To celebrate the WIE DAY \, we organize a 3 day-event which wil
 l be about:\n\nDay 1: Opening Ceremony + ML Applications in Climate Change
  The event starts with an opening ceremony celebrating women in engineerin
 g. We then explore the use of Machine Learning (ML) in addressing climate 
 change challenges.\n\nDay 2: Workshop on Crypto and NFT A workshop introdu
 ces attendees to cryptocurrencies and Non-Fungible Tokens (NFTs). Particip
 ants learn about blockchain\, decentralized finance\, and their potential 
 applications in engineering.\n\nDay 3: Panel Discussion on Women Empowerme
 nt and Gender in Climate Change The final day features a panel discussion 
 on women&#39;s empowerment and gender in climate change.\n\nSousse\, Sousse\, 
 Tunisia\, Virtual: https://events.vtools.ieee.org/m/366828
LOCATION:Sousse\, Sousse\, Tunisia\, Virtual: https://events.vtools.ieee.or
 g/m/366828
ORGANIZER:sahar.youssef@ieee.org
SEQUENCE:14
SUMMARY:Wie Gather (Wie Day)
URL;VALUE=URI:https://events.vtools.ieee.org/m/366828
X-ALT-DESC:Description: &lt;br /&gt;&lt;p&gt;&amp;nbsp\;&lt;/p&gt;\n&lt;p&gt;&lt;span style=&quot;font-weight: 
 400\;&quot;&gt;To celebrate the WIE DAY \, we organize a 3 day-event which will be
  about:&lt;/span&gt;&lt;/p&gt;\n&lt;p&gt;&lt;span style=&quot;font-weight: 400\;&quot;&gt;Day 1: Opening Cer
 emony + ML Applications in Climate Change The event starts with an opening
  ceremony celebrating women in engineering. We then explore the use of Mac
 hine Learning (ML) in addressing climate change challenges.&amp;nbsp\;&lt;/span&gt;&lt;
 /p&gt;\n&lt;p&gt;&lt;span style=&quot;font-weight: 400\;&quot;&gt;Day 2: Workshop on Crypto and NFT
  A workshop introduces attendees to cryptocurrencies and Non-Fungible Toke
 ns (NFTs). Participants learn about blockchain\, decentralized finance\, a
 nd their potential applications in engineering.&amp;nbsp\;&lt;/span&gt;&lt;/p&gt;\n&lt;p&gt;&lt;spa
 n style=&quot;font-weight: 400\;&quot;&gt;Day 3: Panel Discussion on Women Empowerment 
 and Gender in Climate Change The final day features a panel discussion on 
 women&#39;s empowerment and gender in climate change.&lt;/span&gt;&lt;/p&gt;
END:VEVENT
END:VCALENDAR

