BEGIN:VCALENDAR
VERSION:2.0
PRODID:IEEE vTools.Events//EN
CALSCALE:GREGORIAN
BEGIN:VTIMEZONE
TZID:America/Chicago
BEGIN:DAYLIGHT
DTSTART:20230312T030000
TZOFFSETFROM:-0600
TZOFFSETTO:-0500
RRULE:FREQ=YEARLY;BYDAY=2SU;BYMONTH=3
TZNAME:CDT
END:DAYLIGHT
BEGIN:STANDARD
DTSTART:20231105T010000
TZOFFSETFROM:-0500
TZOFFSETTO:-0600
RRULE:FREQ=YEARLY;BYDAY=1SU;BYMONTH=11
TZNAME:CST
END:STANDARD
END:VTIMEZONE
BEGIN:VEVENT
DTSTAMP:20230722T071929Z
UID:8BF90F85-073C-4746-A307-F150D75D4858
DTSTART;TZID=America/Chicago:20230720T180100
DTEND;TZID=America/Chicago:20230720T200100
DESCRIPTION:This is a conversation on the recent AI development. Elizabeth 
 Quintanilla will give a brief history of AI\, the current major player and
  product\, potential applications. She will do a short demo on one of the 
 tools and open for interactive conversation.\n\nSpeaker(s): Elizabeth Quin
 tanilla\, \n\nAgenda: \n6:00 to 6:05 PM - Open for participants to enter a
 nd network.\n6:05 to 6:10 PM - IEEE LM and CTCN Business meeting and to in
 troduce speaker.\n6:10 to 7:30 PM - Formal Program and Q&amp;A.\n\nVirtual: ht
 tps://events.vtools.ieee.org/m/366865
LOCATION:Virtual: https://events.vtools.ieee.org/m/366865
ORGANIZER:kaiwong@ieee.org
SEQUENCE:42
SUMMARY:IEEE CTS CTCN and LM July 20\,2023 meeting: Generative AI\, New Too
 ls and Applications 
URL;VALUE=URI:https://events.vtools.ieee.org/m/366865
X-ALT-DESC:Description: &lt;br /&gt;&lt;p&gt;This is a conversation on the recent AI de
 velopment.&amp;nbsp\; Elizabeth Quintanilla will give a brief history of AI\, 
 the current major player and product\, potential applications. She will do
  a short demo on one of the tools and open for interactive conversation.&lt;/
 p&gt;&lt;br /&gt;&lt;br /&gt;Agenda: &lt;br /&gt;&lt;div dir=&quot;ltr&quot; data-setdir=&quot;false&quot;&gt;6:00 to 6:0
 5 PM - Open for participants to enter and network.&amp;nbsp\;&lt;/div&gt;\n&lt;div dir=
 &quot;ltr&quot; data-setdir=&quot;false&quot;&gt;6:05 to 6:10 PM - IEEE LM and CTCN Business meet
 ing and to introduce speaker.&lt;/div&gt;\n&lt;div dir=&quot;ltr&quot; data-setdir=&quot;false&quot;&gt;6:
 10 to 7:30 PM - Formal Program and Q&amp;amp\;A.&amp;nbsp\;&lt;/div&gt;
END:VEVENT
END:VCALENDAR

