BEGIN:VCALENDAR
VERSION:2.0
PRODID:IEEE vTools.Events//EN
CALSCALE:GREGORIAN
BEGIN:VTIMEZONE
TZID:America/Denver
BEGIN:DAYLIGHT
DTSTART:20230312T030000
TZOFFSETFROM:-0700
TZOFFSETTO:-0600
RRULE:FREQ=YEARLY;BYDAY=2SU;BYMONTH=3
TZNAME:MDT
END:DAYLIGHT
BEGIN:STANDARD
DTSTART:20231105T010000
TZOFFSETFROM:-0600
TZOFFSETTO:-0700
RRULE:FREQ=YEARLY;BYDAY=1SU;BYMONTH=11
TZNAME:MST
END:STANDARD
END:VTIMEZONE
BEGIN:VEVENT
DTSTAMP:20230724T012410Z
UID:6DAAE249-7D90-4500-AF24-83B13A31FFEC
DTSTART;TZID=America/Denver:20230720T183000
DTEND;TZID=America/Denver:20230720T203000
DESCRIPTION:In this electrifying talk\, we expose the oppressive nature of 
 restricting computers&#39; true potential. Discover how hackers are liberating
  processors\, unleashing chaos upon power grids\, exposing hidden data\, a
 nd disrupting medical systems. Embrace theoretical wisdom and practical te
 chniques as we march towards a future of free computation (or at least lea
 rn why computer security will never be solved in the current model).\n\nPr
 epare to be inspired as we unveil the untold stories of those challenging 
 the status quo. Break free from futile attempts to stifle computer power a
 nd embrace the theory of computation. Together\, we can reclaim computing&#39;
 s true potential and pave the way for a world where processors are no long
 er confined. Join us in this call to action and learn the history\, limita
 tions\, and future of computer security.\n\nSpeaker(s): Josh\, \n\nAgenda:
  \n- 6:30pm: arrive\n- 6:45pm: IEEE business meeting and Forge /Warehouse 
 Presentation\n- 7:00 pm: Main Presentation\n- 8:30pm:\n\nBldg: B- Conferen
 ce Rooms\, 815 SW 14th Street\, Loveland\, Colorado\, United States\, 8053
 7
LOCATION:Bldg: B- Conference Rooms\, 815 SW 14th Street\, Loveland\, Colora
 do\, United States\, 80537
ORGANIZER:mag10co@hotmail.com
SEQUENCE:22
SUMMARY:&quot;Free the CPU! How hackers liberate oppressed computers&quot;
URL;VALUE=URI:https://events.vtools.ieee.org/m/366875
X-ALT-DESC:Description: &lt;br /&gt;&lt;p&gt;In this electrifying talk\, we expose the 
 oppressive nature of restricting computers&#39; true potential. Discover how h
 ackers are liberating processors\, unleashing chaos upon power grids\, exp
 osing hidden data\, and disrupting medical systems. Embrace theoretical wi
 sdom and practical techniques as we march towards a future of free computa
 tion (or at least learn why computer security will never be solved in the 
 current model).&amp;nbsp\;&lt;/p&gt;\n&lt;p&gt;Prepare to be inspired as we unveil the unt
 old stories of those challenging the status quo. Break free from futile at
 tempts to stifle computer power and embrace the theory of computation. Tog
 ether\, we can reclaim computing&#39;s true potential and pave the way for a w
 orld where processors are no longer confined. Join us in this call to acti
 on and learn the history\, limitations\, and future of computer security.&lt;
 /p&gt;&lt;br /&gt;&lt;br /&gt;Agenda: &lt;br /&gt;&lt;ul&gt;\n&lt;li&gt;6:30pm: arrive&lt;/li&gt;\n&lt;li&gt;6:45pm: IE
 EE business meeting and Forge /Warehouse Presentation&lt;/li&gt;\n&lt;li&gt;7:00 pm: M
 ain Presentation&lt;/li&gt;\n&lt;li&gt;8:30pm:&lt;/li&gt;\n&lt;/ul&gt;
END:VEVENT
END:VCALENDAR

