BEGIN:VCALENDAR
VERSION:2.0
PRODID:IEEE vTools.Events//EN
CALSCALE:GREGORIAN
BEGIN:VTIMEZONE
TZID:America/Los_Angeles
BEGIN:DAYLIGHT
DTSTART:20230312T030000
TZOFFSETFROM:-0800
TZOFFSETTO:-0700
RRULE:FREQ=YEARLY;BYDAY=2SU;BYMONTH=3
TZNAME:PDT
END:DAYLIGHT
BEGIN:STANDARD
DTSTART:20231105T010000
TZOFFSETFROM:-0700
TZOFFSETTO:-0800
RRULE:FREQ=YEARLY;BYDAY=1SU;BYMONTH=11
TZNAME:PST
END:STANDARD
END:VTIMEZONE
BEGIN:VEVENT
DTSTAMP:20230801T183134Z
UID:827315A4-0FC1-4852-936E-2D5D354588EA
DTSTART;TZID=America/Los_Angeles:20230727T183000
DTEND;TZID=America/Los_Angeles:20230727T210000
DESCRIPTION:Save the date!\n\nCircuit Launch\, Kickstarter and The Hardware
  Collective are hosting &quot;Get into Robotics&quot; on July 27th.\n\nIEEE RAS and 
 Silicon Valley Robotics are adding a Job Fair!\n\nSend your HR reps! Post 
 your jobs to Robojobs on svrobo.org\n\nThere will be a panel discussion ab
 out skills needed in robotics\, introduction of the mechlabs &quot;Build-it to 
 Learn-it&quot; robotics courses\, including using a Doosan arm for palletizing 
 and depalletizing.\n\nBldg: Circuit Launch (upstairs)\, 8000 Edgewater Dr\
 , Oakland\, California\, United States\, 94621
LOCATION:Bldg: Circuit Launch (upstairs)\, 8000 Edgewater Dr\, Oakland\, Ca
 lifornia\, United States\, 94621
ORGANIZER:r6-scv-robotics@ieee.org
SEQUENCE:10
SUMMARY:Get into Robotics
URL;VALUE=URI:https://events.vtools.ieee.org/m/367341
X-ALT-DESC:Description: &lt;br /&gt;&lt;div class=&quot;&quot; style=&quot;margin: 0px\; padding: 0
 px\; color: #241f21\; font-family: &#39;Source Sans Pro&#39;\, &#39;Helvetica Neue&#39;\, 
 Helvetica\, Arial\; font-size: 16px\; font-style: normal\; font-variant-li
 gatures: normal\; font-variant-caps: normal\; font-weight: 400\; letter-sp
 acing: normal\; orphans: 2\; text-align: start\; text-indent: 0px\; text-t
 ransform: none\; white-space: pre-wrap\; widows: 2\; word-spacing: 0px\; -
 webkit-text-stroke-width: 0px\; background-color: #fcfcfb\; text-decoratio
 n-thickness: initial\; text-decoration-style: initial\; text-decoration-co
 lor: initial\;&quot; data-block=&quot;true&quot; data-editor=&quot;1uuve&quot; data-offset-key=&quot;f98
 hm-0-0&quot;&gt;\n&lt;div class=&quot;public-DraftStyleDefault-block public-DraftStyleDefa
 ult-ltr&quot; style=&quot;margin: 0px\; padding: 0px\; position: relative\; white-sp
 ace: pre-wrap\; direction: ltr\; text-align: left\;&quot; data-offset-key=&quot;f98h
 m-0-0&quot;&gt;&lt;span data-offset-key=&quot;f98hm-0-0&quot;&gt;Save the date!&lt;/span&gt;&lt;/div&gt;\n&lt;/di
 v&gt;\n&lt;div class=&quot;&quot; style=&quot;margin: 0px\; padding: 0px\; color: #241f21\; fon
 t-family: &#39;Source Sans Pro&#39;\, &#39;Helvetica Neue&#39;\, Helvetica\, Arial\; font-
 size: 16px\; font-style: normal\; font-variant-ligatures: normal\; font-va
 riant-caps: normal\; font-weight: 400\; letter-spacing: normal\; orphans: 
 2\; text-align: start\; text-indent: 0px\; text-transform: none\; white-sp
 ace: pre-wrap\; widows: 2\; word-spacing: 0px\; -webkit-text-stroke-width:
  0px\; background-color: #fcfcfb\; text-decoration-thickness: initial\; te
 xt-decoration-style: initial\; text-decoration-color: initial\;&quot; data-bloc
 k=&quot;true&quot; data-editor=&quot;1uuve&quot; data-offset-key=&quot;bu4fu-0-0&quot;&gt;\n&lt;div class=&quot;pub
 lic-DraftStyleDefault-block public-DraftStyleDefault-ltr&quot; style=&quot;margin: 0
 px\; padding: 0px\; position: relative\; white-space: pre-wrap\; direction
 : ltr\; text-align: left\;&quot; data-offset-key=&quot;bu4fu-0-0&quot;&gt;&lt;span data-offset-
 key=&quot;bu4fu-0-0&quot;&gt;Circuit Launch\, Kickstarter and The Hardware Collective a
 re hosting&amp;nbsp\;&quot;Get into Robotics&quot;&amp;nbsp\;on July 27th.&lt;/span&gt;&lt;/div&gt;\n&lt;/d
 iv&gt;\n&lt;div class=&quot;&quot; style=&quot;margin: 0px\; padding: 0px\; color: #241f21\; fo
 nt-family: &#39;Source Sans Pro&#39;\, &#39;Helvetica Neue&#39;\, Helvetica\, Arial\; font
 -size: 16px\; font-style: normal\; font-variant-ligatures: normal\; font-v
 ariant-caps: normal\; font-weight: 400\; letter-spacing: normal\; orphans:
  2\; text-align: start\; text-indent: 0px\; text-transform: none\; white-s
 pace: pre-wrap\; widows: 2\; word-spacing: 0px\; -webkit-text-stroke-width
 : 0px\; background-color: #fcfcfb\; text-decoration-thickness: initial\; t
 ext-decoration-style: initial\; text-decoration-color: initial\;&quot; data-blo
 ck=&quot;true&quot; data-editor=&quot;1uuve&quot; data-offset-key=&quot;acvvj-0-0&quot;&gt;\n&lt;div class=&quot;pu
 blic-DraftStyleDefault-block public-DraftStyleDefault-ltr&quot; style=&quot;margin: 
 0px\; padding: 0px\; position: relative\; white-space: pre-wrap\; directio
 n: ltr\; text-align: left\;&quot; data-offset-key=&quot;acvvj-0-0&quot;&gt;&lt;span data-offset
 -key=&quot;acvvj-0-0&quot;&gt;IEEE RAS and Silicon Valley Robotics are adding a Job Fai
 r!&lt;/span&gt;&lt;/div&gt;\n&lt;/div&gt;\n&lt;div class=&quot;&quot; style=&quot;margin: 0px\; padding: 0px\;
  color: #241f21\; font-family: &#39;Source Sans Pro&#39;\, &#39;Helvetica Neue&#39;\, Helv
 etica\, Arial\; font-size: 16px\; font-style: normal\; font-variant-ligatu
 res: normal\; font-variant-caps: normal\; font-weight: 400\; letter-spacin
 g: normal\; orphans: 2\; text-align: start\; text-indent: 0px\; text-trans
 form: none\; white-space: pre-wrap\; widows: 2\; word-spacing: 0px\; -webk
 it-text-stroke-width: 0px\; background-color: #fcfcfb\; text-decoration-th
 ickness: initial\; text-decoration-style: initial\; text-decoration-color:
  initial\;&quot; data-block=&quot;true&quot; data-editor=&quot;1uuve&quot; data-offset-key=&quot;bbqj3-0
 -0&quot;&gt;\n&lt;div class=&quot;public-DraftStyleDefault-block public-DraftStyleDefault-
 ltr&quot; style=&quot;margin: 0px\; padding: 0px\; position: relative\; white-space:
  pre-wrap\; direction: ltr\; text-align: left\;&quot; data-offset-key=&quot;bbqj3-0-
 0&quot;&gt;&lt;span data-offset-key=&quot;bbqj3-0-0&quot;&gt;Send your HR reps! Post your jobs to&amp;
 nbsp\;Robojobs on svrobo.org&lt;/span&gt;&lt;/div&gt;\n&lt;/div&gt;\n&lt;div class=&quot;&quot; style=&quot;ma
 rgin: 0px\; padding: 0px\; color: #241f21\; font-family: &#39;Source Sans Pro&#39;
 \, &#39;Helvetica Neue&#39;\, Helvetica\, Arial\; font-size: 16px\; font-style: no
 rmal\; font-variant-ligatures: normal\; font-variant-caps: normal\; font-w
 eight: 400\; letter-spacing: normal\; orphans: 2\; text-align: start\; tex
 t-indent: 0px\; text-transform: none\; white-space: pre-wrap\; widows: 2\;
  word-spacing: 0px\; -webkit-text-stroke-width: 0px\; background-color: #f
 cfcfb\; text-decoration-thickness: initial\; text-decoration-style: initia
 l\; text-decoration-color: initial\;&quot; data-block=&quot;true&quot; data-editor=&quot;1uuve
 &quot; data-offset-key=&quot;1ri9g-0-0&quot;&gt;\n&lt;div class=&quot;public-DraftStyleDefault-block
  public-DraftStyleDefault-ltr&quot; style=&quot;margin: 0px\; padding: 0px\; positio
 n: relative\; white-space: pre-wrap\; direction: ltr\; text-align: left\;&quot;
  data-offset-key=&quot;1ri9g-0-0&quot;&gt;&lt;span data-offset-key=&quot;1ri9g-0-0&quot;&gt;There will 
 be a panel discussion about skills needed in robotics\, introduction of th
 e mechlabs &quot;Build-it to Learn-it&quot; robotics courses\, including using a Doo
 san arm for palletizing and depalletizing.&lt;br /&gt;&lt;br /&gt;&lt;/span&gt;&lt;/div&gt;\n&lt;/div
 &gt;
END:VEVENT
END:VCALENDAR

