BEGIN:VCALENDAR
VERSION:2.0
PRODID:IEEE vTools.Events//EN
CALSCALE:GREGORIAN
BEGIN:VTIMEZONE
TZID:America/New_York
BEGIN:DAYLIGHT
DTSTART:20230312T030000
TZOFFSETFROM:-0500
TZOFFSETTO:-0400
RRULE:FREQ=YEARLY;BYDAY=2SU;BYMONTH=3
TZNAME:EDT
END:DAYLIGHT
BEGIN:STANDARD
DTSTART:20231105T010000
TZOFFSETFROM:-0400
TZOFFSETTO:-0500
RRULE:FREQ=YEARLY;BYDAY=1SU;BYMONTH=11
TZNAME:EST
END:STANDARD
END:VTIMEZONE
BEGIN:VEVENT
DTSTAMP:20230724T234832Z
UID:24A2F6B5-7AF9-4D75-9FCF-0B1F1B858C31
DTSTART;TZID=America/New_York:20230721T183000
DTEND;TZID=America/New_York:20230721T200000
DESCRIPTION:Join IEEE Columbus Women in Engineering and Young Professionals
  Affinity Group in celebrating IEEE WIE Day.\n\nWomen’s participation is
  crucial for lessening the ill-effects of climate change. Their role can b
 e pivotal in anticipating disturbances related to the climate and preparin
 g appropriate responses.\n\nIn keeping with the theme\, IEEE WIE Day celeb
 rations aim to empower women to bring about positive changes by providing 
 them a platform to showcase their ideas.\n\nGreat opportunity for fun netw
 orking social with IEEE Columbus WIE and YP section\, friends\, and walk i
 n nature and have a nice dinner later.\n\nWanting to join\, please send RS
 VP to Kavitha Bangalore kavibv@hotmail.com or Helen Winfrey hwinfrey@ieee.
 org by July 21\, 2023\n\nDate: July 21\, 2023 @ 6:30 pm EST\n\nWhere: 9466
  Columbus Pike [(US Rt 23 N)](http://www.google.com/maps/place/9466+Columb
 us+Pike\,+Lewis+Center\,+OH+43035)\, Lewis Center\, OH 43035\n\n9466 Colum
 bus Pike (US Rt 23 N)\, Lewis Center\, Ohio\, United States\, 43035
LOCATION:9466 Columbus Pike (US Rt 23 N)\, Lewis Center\, Ohio\, United Sta
 tes\, 43035
ORGANIZER:hwinfrey@ieee.org
SEQUENCE:31
SUMMARY:IEEE COLUMBUS WOMEN IN ENGINEERING AND YOUNG PROFESSIONALS&#39; AFFINIT
 Y GROUP IN CELEBRATING IEEE WIE DAY
URL;VALUE=URI:https://events.vtools.ieee.org/m/367424
X-ALT-DESC:Description: &lt;br /&gt;&lt;p&gt;&lt;strong&gt;J&lt;/strong&gt;&lt;strong&gt;oin IEEE Columbu
 s Women in Engineering and Young Professionals Affinity Group in celebrati
 ng IEEE WIE Day&lt;/strong&gt;&lt;strong&gt;.&lt;/strong&gt; &amp;nbsp\;&lt;/p&gt;\n&lt;p&gt;Women&amp;rsquo\;s 
 participation is crucial for lessening the ill-effects of climate change. 
 Their role can be pivotal in anticipating disturbances related to the clim
 ate and preparing appropriate responses.&lt;/p&gt;\n&lt;p&gt;In keeping with the theme
 \, IEEE WIE Day celebrations aim to empower women to bring about positive 
 changes by providing them a platform to showcase their ideas.&lt;/p&gt;\n&lt;p&gt;Grea
 t opportunity for fun networking social with IEEE Columbus WIE and YP sect
 ion\, friends\, and walk in nature and have a nice dinner later.&lt;/p&gt;\n&lt;p&gt;W
 anting to join\, please send RSVP to Kavitha Bangalore&amp;nbsp\;&lt;strong&gt;&lt;a hr
 ef=&quot;mailto:kavibv@hotmail.com&quot;&gt;kavibv@hotmail.com&lt;/a&gt;&lt;/strong&gt;&amp;nbsp\;or He
 len Winfrey&amp;nbsp\;&lt;strong&gt;&lt;a href=&quot;mailto:hwinfrey@ieee.org&quot;&gt;hwinfrey@ieee
 .org&lt;/a&gt;&lt;/strong&gt;&amp;nbsp\;by&amp;nbsp\;&lt;strong&gt;July 21\, 2023&amp;nbsp\;&lt;/strong&gt;&lt;/p
 &gt;\n&lt;p&gt;Date: July 21\, 2023 @ 6:30 pm EST&lt;/p&gt;\n&lt;p&gt;Where: 9466 Columbus Pike
  &lt;a href=&quot;http://www.google.com/maps/place/9466+Columbus+Pike\,+Lewis+Cent
 er\,+OH+43035&quot; target=&quot;_blank&quot; rel=&quot;noopener&quot;&gt;(US Rt 23 N)&lt;/a&gt;\, Lewis Cen
 ter\, OH 43035&lt;/p&gt;
END:VEVENT
END:VCALENDAR

