BEGIN:VCALENDAR
VERSION:2.0
PRODID:IEEE vTools.Events//EN
CALSCALE:GREGORIAN
BEGIN:VTIMEZONE
TZID:America/New_York
BEGIN:DAYLIGHT
DTSTART:20230312T030000
TZOFFSETFROM:-0500
TZOFFSETTO:-0400
RRULE:FREQ=YEARLY;BYDAY=2SU;BYMONTH=3
TZNAME:EDT
END:DAYLIGHT
BEGIN:STANDARD
DTSTART:20231105T010000
TZOFFSETFROM:-0400
TZOFFSETTO:-0500
RRULE:FREQ=YEARLY;BYDAY=1SU;BYMONTH=11
TZNAME:EST
END:STANDARD
END:VTIMEZONE
BEGIN:VEVENT
DTSTAMP:20230818T002242Z
UID:611F2206-0C7F-4FEC-A85F-55382BC83446
DTSTART;TZID=America/New_York:20230817T133000
DTEND;TZID=America/New_York:20230817T143000
DESCRIPTION:The insatiable growth of datacenter traffic mandates increasing
  the capacity of cost-effective transceiver technologies to meet the fores
 een demand. Competing configurations include Intensity Modulation / Direct
  Detection (IM/DD) and coherent transceiver architectures. In this present
 ation we will discuss the challenges and opportunities associated with the
 se two options including such topics as: wavelength\, reach modulation for
 mat\, modulator technology\, and power consumption.\n\nIn partnership with
  the [High Throughput and Secure Networks (HTSN)](https://nrc.canada.ca/en
 /research-development/research-collaboration/programs/high-throughput-secu
 re-networks-challenge-program)Challenge program at National Research Counc
 il (NRC)\, we invite you to join this virtual seminar series to promote sc
 ientific information sharing\, discussions\, and interactions between rese
 archers.\n\n----\n\nRésumé : La croissance insatiable du trafic dans les
  centres de données exige l&#39;augmentation de la capacité des technologies
  d&#39;émetteurs-récepteurs rentables pour répondre à la demande prévue. 
 Les configurations concurrentes comprennent la modulation d&#39;intensité/dé
 tection directe (IM/DD) et les architectures d&#39;émetteurs-récepteurs coh
 érents. Dans cette présentation\, nous discuterons des défis et des opp
 ortunités associés à ces deux options\, y compris des sujets tels que l
 a longueur d&#39;onde\, le format de modulation de la portée\, la technologie
  du modulateur et la consommation d&#39;énergie.\n\nCo-sponsored by: National
  Research Council\, Canada \n\nSpeaker(s): Prof.  David V. Plant\, \n\nRoo
 m: MC603\, Bldg: McConnell Engineering building\, 3480 University Street\,
  Montreal\, Quebec\, Canada\, H3A 0E9\, Virtual: https://events.vtools.iee
 e.org/m/367465
LOCATION:Room: MC603\, Bldg: McConnell Engineering building\, 3480 Universi
 ty Street\, Montreal\, Quebec\, Canada\, H3A 0E9\, Virtual: https://events
 .vtools.ieee.org/m/367465
ORGANIZER:matthew.t.posner@ieee.org
SEQUENCE:15
SUMMARY:IM/DD and Coherent Optical Fiber Transmission Systems: Challenges a
 nd Opportunities
URL;VALUE=URI:https://events.vtools.ieee.org/m/367465
X-ALT-DESC:Description: &lt;br /&gt;&lt;p style=&quot;font-weight: 400\;&quot;&gt;The insatiable 
 growth of datacenter traffic mandates increasing the capacity of cost-effe
 ctive transceiver technologies to meet the foreseen demand. Competing conf
 igurations include Intensity Modulation / Direct Detection (IM/DD) and coh
 erent transceiver architectures. In this presentation we will discuss the 
 challenges and opportunities associated with these two options including s
 uch topics as: wavelength\, reach modulation format\, modulator technology
 \, and power consumption.&lt;/p&gt;\n&lt;p style=&quot;font-weight: 400\;&quot;&gt;In partnershi
 p with the &lt;a href=&quot;https://nrc.canada.ca/en/research-development/research
 -collaboration/programs/high-throughput-secure-networks-challenge-program&quot;
 &gt;High Throughput and Secure Networks (HTSN) &lt;/a&gt;Challenge program at Natio
 nal Research Council (NRC)\, we invite you to join this virtual seminar se
 ries to promote scientific information sharing\, discussions\, and interac
 tions between researchers.&amp;nbsp\;&amp;nbsp\;&lt;/p&gt;\n&lt;p style=&quot;font-weight: 400\;
 &quot;&gt;----&lt;/p&gt;\n&lt;p style=&quot;font-weight: 400\;&quot;&gt;&lt;strong&gt;&lt;u&gt;&lt;span lang=&quot;FR-CA&quot;&gt;R&amp;
 eacute\;sum&amp;eacute\;&amp;nbsp\;&lt;/span&gt;&lt;/u&gt;&lt;/strong&gt;&lt;span lang=&quot;FR-CA&quot;&gt;: La cro
 issance insatiable du trafic dans les centres de donn&amp;eacute\;es exige l&#39;a
 ugmentation de la capacit&amp;eacute\; des technologies d&#39;&amp;eacute\;metteurs-r&amp;
 eacute\;cepteurs rentables pour r&amp;eacute\;pondre &amp;agrave\; la demande pr&amp;e
 acute\;vue. Les configurations concurrentes comprennent la modulation d&#39;in
 tensit&amp;eacute\;/d&amp;eacute\;tection directe (IM/DD) et les architectures d&#39;&amp;
 eacute\;metteurs-r&amp;eacute\;cepteurs coh&amp;eacute\;rents. Dans cette pr&amp;eacut
 e\;sentation\, nous discuterons des d&amp;eacute\;fis et des opportunit&amp;eacute
 \;s associ&amp;eacute\;s &amp;agrave\; ces deux options\, y compris des sujets tel
 s que la longueur d&#39;onde\, le format de modulation de la port&amp;eacute\;e\, 
 la technologie du modulateur et la consommation d&#39;&amp;eacute\;nergie.&lt;/span&gt;&lt;
 /p&gt;
END:VEVENT
END:VCALENDAR

