BEGIN:VCALENDAR
VERSION:2.0
PRODID:IEEE vTools.Events//EN
CALSCALE:GREGORIAN
BEGIN:VTIMEZONE
TZID:America/New_York
BEGIN:DAYLIGHT
DTSTART:20230312T030000
TZOFFSETFROM:-0500
TZOFFSETTO:-0400
RRULE:FREQ=YEARLY;BYDAY=2SU;BYMONTH=3
TZNAME:EDT
END:DAYLIGHT
BEGIN:STANDARD
DTSTART:20231105T010000
TZOFFSETFROM:-0400
TZOFFSETTO:-0500
RRULE:FREQ=YEARLY;BYDAY=1SU;BYMONTH=11
TZNAME:EST
END:STANDARD
END:VTIMEZONE
BEGIN:VEVENT
DTSTAMP:20230729T175920Z
UID:C717678F-0CCF-4886-A5F3-785768B6705A
DTSTART;TZID=America/New_York:20230727T140000
DTEND;TZID=America/New_York:20230727T150000
DESCRIPTION:IEEE Toronto VTS Chapter is pleased to host a Distinguished Lec
 turer talk on July 27. The speaker\, Dr. Lin Cai\, is a Professor with the
  Department of Electrical &amp; Computer Engineering at the University of Vict
 oria. She is an NSERC E.W.R. Steacie Memorial Fellow\, an Engineering Inst
 itute of Canada (EIC) Fellow\, and an IEEE Fellow\, and received numerous 
 awards. All are welcome to join this DL seminar!\n\nRoom: 460\, Bldg: ENG\
 , 245 Church Street\, Toronto\, Ontario\, Canada\, M5B 2K3
LOCATION:Room: 460\, Bldg: ENG\, 245 Church Street\, Toronto\, Ontario\, Ca
 nada\, M5B 2K3
ORGANIZER:l5zhao@torontomu.ca
SEQUENCE:4
SUMMARY:DL Talk: Self-Evolving and Transformative (SET) Protocol Architectu
 re for 6G
URL;VALUE=URI:https://events.vtools.ieee.org/m/367546
X-ALT-DESC:Description: &lt;br /&gt;&lt;p&gt;IEEE Toronto VTS Chapter is pleased to hos
 t a Distinguished Lecturer talk on July 27. The speaker\, Dr. Lin Cai\, is
  a Professor with the Department of Electrical &amp;amp\; Computer Engineering
 &amp;nbsp\;at the University of Victoria. She is an NSERC E.W.R.&amp;nbsp\;Steacie
 &amp;nbsp\;Memorial&amp;nbsp\;&lt;wbr /&gt;Fellow\, an Engineering Institute of Canada (
 EIC) Fellow\, and an IEEE Fellow\, and received numerous awards. All are w
 elcome to join this DL seminar!&lt;/p&gt;
END:VEVENT
END:VCALENDAR

